{"text_format":"1","workbook":"xlsx","n_sheets":11,"sheets":["Simulador","Procesamiento","Con gracia","Cronograma final","Resultados","Procesamiento (2)","Procesamiento T24","Procesamiento T24 (2)","Fechas","FechasT24","Listas"],"not_rendered":{"charts":0,"images":0,"macros":1,"external_links":0,"defined_names":10,"comments":0,"pivot_tables":0},"unopened":[],"bounds":{"document_bytes":16777216,"sheet_cells":100000,"rows_first":2000,"rows_last":500,"rows_between":2000,"halvings":0,"cell_chars":16384,"cell_head_chars":4096},"cells_cut":0,"cells_raw":0,"read":"whole","date_system":"1900"}

{"sheet":"Simulador","index":0,"n_rows":163,"n_cols":11,"rows_kept":163,"cut":false,"hidden":false,"merged":[]}
[]
[null,"Datos del producto:",null,null,"Seguro:"]
[]
[null,"Producto:","CONSOLIDACION DE DEUDA",null,"Contrata seguro:","Si"]
[]
[null,"Monto:",14993.27,null,"Tipo","Sin Rescate"]
[]
[null,"TEA:",0.8206,null,"% Comisión seguro:",{"$f":"IF(AND(F6=\"Con Rescate\",F4=\"Si\"),0.35%,IF(AND(F6=\"Sin Rescate\",F4=\"Si\"),0.3%,0))","v":3.0000000000000001E-3}]
[]
[null,"TED:",{"$f":"((1+C8)^(1/360)-1)","v":1.665736124962125E-3}]
[]
[null,"Fecha de desembolso:","2025-11-07"]
[]
[null,"Día de pago:",6]
[]
[null,"Meses gracia:",0]
[]
[null,"Meses gracia T24:",0]
[]
[null,"Fecha de primer pago:",{"$f":"Fechas!B15","v":"2025-12-06"}]
[]
[null,"Fecha de primer pago T24:",{"$f":"FechasT24!B15","v":"2026-01-06"}]
[]
[null,"Meses contractuales:",36]
[]
[null,"Anticipos:"]
[]
[null,"Fecha de abono:",null,null,"Monto de anticipo"]
[]
[null,"Elegir reducción de pago anticipado:"]
[]
[null,"Cálculo de cuota:",null,null,"Cálculo de cuota T24:",null,null,"Diferencia acum:"]
[]
[null,"Cuota cliente:",{"$f":"CuotaBiseccion(C6+'Procesamiento (2)'!I4,C8,INDIRECT(Fechas!A34&Fechas!A35&\":\"&Fechas!A37),INDIRECT(Fechas!B34&Fechas!B35&\":\"&Fechas!B37),F8)","v":964.67529711304383},null,"Cuota cliente:",{"$f":"CuotaBiseccion(C6,C8,INDIRECT(FechasT24!A34&FechasT24!A35&\":\"&FechasT24!A37),INDIRECT(FechasT24!B34&FechasT24!B35&\":\"&FechasT24!B37),F8,,,TRUE)","v":961.78992733105099},null,"Cuota cliente:",{"$f":"+(C34-F34)*C24","v":103.87331215174208}]
[]
[null,"TCEA",{"$f":"'Procesamiento (2)'!V10","v":0.90515829324722286}]
[]
[null,"Cronograma de pagos:"]
[null,"N°","Fecha de pago","N° Días","Capital","Seguro de desgravamen","Amortización","Interés","Cuota","Prepagos","Saldo Final"]
[null,{"$f":"IFERROR(IF(Procesamiento!A4=0,\"\",Procesamiento!A4),\"\")","v":1},{"$f":"IFERROR(Procesamiento!E4,\"\")","v":"2025-12-06"},{"$f":"IFERROR(Procesamiento!B4,\"\")","v":29},{"$f":"IFERROR(Procesamiento!F4,\"\")","v":14993.27},{"$f":"+'Procesamiento (2)'!I5","v":46.869959585351396},{"$f":"+'Procesamiento (2)'!H5","v":761.00766577509341},{"$f":"+'Procesamiento (2)'!G5","v":156.7976606574083},{"$f":"+SUM(F40:H40)","v":964.67528601785307}]
[null,{"$f":"IFERROR(IF(Procesamiento!A5=0,\"\",Procesamiento!A5),\"\")","v":2},{"$f":"IFERROR(Procesamiento!E5,\"\")","v":"2026-01-06"},{"$f":"IFERROR(Procesamiento!B5,\"\")","v":31},{"$f":"IFERROR(Procesamiento!F5,\"\")","v":14814.990802132117},{"$f":"+'Procesamiento (2)'!I6","v":44.586936588026113},{"$f":"+'Procesamiento (2)'!H6","v":133.14282397710758},{"$f":"+'Procesamiento (2)'!G6","v":786.94552545271938},{"$f":"+SUM(F41:H41)","v":964.67528601785307}]
[null,{"$f":"IFERROR(IF(Procesamiento!A6=0,\"\",Procesamiento!A6),\"\")","v":3},{"$f":"IFERROR(Procesamiento!E6,\"\")","v":"2026-02-06"},{"$f":"IFERROR(Procesamiento!B6,\"\")","v":31},{"$f":"IFERROR(Procesamiento!F6,\"\")","v":14679.200379346787},{"$f":"+'Procesamiento (2)'!I7","v":44.18750811609479},{"$f":"+'Procesamiento (2)'!H7","v":140.59204040888687},{"$f":"+'Procesamiento (2)'!G7","v":779.89573749287138},964.67528601785307]
[null,{"$f":"IFERROR(IF(Procesamiento!A7=0,\"\",Procesamiento!A7),\"\")","v":4},{"$f":"IFERROR(Procesamiento!E7,\"\")","v":"2026-03-06"},{"$f":"IFERROR(Procesamiento!B7,\"\")","v":28},{"$f":"IFERROR(Procesamiento!F7,\"\")","v":14535.812609453476},{"$f":"+'Procesamiento (2)'!I8","v":43.765731994868126},{"$f":"+'Procesamiento (2)'!H8","v":224.96527240977878},{"$f":"+'Procesamiento (2)'!G8","v":695.94428161320616},964.67528601785307]
[null,{"$f":"IFERROR(IF(Procesamiento!A8=0,\"\",Procesamiento!A8),\"\")","v":5},{"$f":"IFERROR(Procesamiento!E8,\"\")","v":"2026-04-06"},{"$f":"IFERROR(Procesamiento!B8,\"\")","v":31},{"$f":"IFERROR(Procesamiento!F8,\"\")","v":14308.171904454923},{"$f":"+'Procesamiento (2)'!I9","v":43.090836177638792},{"$f":"+'Procesamiento (2)'!H9","v":161.04463004206229},{"$f":"+'Procesamiento (2)'!G9","v":760.53981979815194},964.67528601785307]
[null,{"$f":"IFERROR(IF(Procesamiento!A9=0,\"\",Procesamiento!A9),\"\")","v":6},{"$f":"IFERROR(Procesamiento!E9,\"\")","v":"2026-05-06"},{"$f":"IFERROR(Procesamiento!B9,\"\")","v":30},{"$f":"IFERROR(Procesamiento!F9,\"\")","v":14144.025438529316},{"$f":"+'Procesamiento (2)'!I10","v":42.607702287512602},{"$f":"+'Procesamiento (2)'!H10","v":194.92388557800268},{"$f":"+'Procesamiento (2)'!G10","v":727.14369815233783},964.67528601785307]
[null,{"$f":"IFERROR(IF(Procesamiento!A10=0,\"\",Procesamiento!A10),\"\")","v":7},{"$f":"IFERROR(Procesamiento!E10,\"\")","v":"2026-06-06"},{"$f":"IFERROR(Procesamiento!B10,\"\")","v":31},{"$f":"IFERROR(Procesamiento!F10,\"\")","v":13945.92868036431},{"$f":"+'Procesamiento (2)'!I11","v":42.022930630778596},{"$f":"+'Procesamiento (2)'!H11","v":180.96073544334945},{"$f":"+'Procesamiento (2)'!G11","v":741.69161994372507},964.67528601785307]
[null,{"$f":"IFERROR(IF(Procesamiento!A11=0,\"\",Procesamiento!A11),\"\")","v":8},{"$f":"IFERROR(Procesamiento!E11,\"\")","v":"2026-07-06"},{"$f":"IFERROR(Procesamiento!B11,\"\")","v":30},{"$f":"IFERROR(Procesamiento!F11,\"\")","v":13761.515044969166},{"$f":"+'Procesamiento (2)'!I12","v":41.480048424448547},{"$f":"+'Procesamiento (2)'!H12","v":215.29609749517419},{"$f":"+'Procesamiento (2)'!G12","v":707.8991400982303},964.67528601785307]
[null,{"$f":"IFERROR(IF(Procesamiento!A12=0,\"\",Procesamiento!A12),\"\")","v":9},{"$f":"IFERROR(Procesamiento!E12,\"\")","v":"2026-08-06"},{"$f":"IFERROR(Procesamiento!B12,\"\")","v":31},{"$f":"IFERROR(Procesamiento!F12,\"\")","v":13542.686970963268},{"$f":"+'Procesamiento (2)'!I13","v":40.834160131963024},{"$f":"+'Procesamiento (2)'!H13","v":203.13093450445695},{"$f":"+'Procesamiento (2)'!G13","v":720.71019138143311},964.67528601785307]
[null,{"$f":"IFERROR(IF(Procesamiento!A13=0,\"\",Procesamiento!A13),\"\")","v":10},{"$f":"IFERROR(Procesamiento!E13,\"\")","v":"2026-09-06"},{"$f":"IFERROR(Procesamiento!B13,\"\")","v":31},{"$f":"IFERROR(Procesamiento!F13,\"\")","v":13335.712339204059},{"$f":"+'Procesamiento (2)'!I14","v":40.224767328449651},{"$f":"+'Procesamiento (2)'!H14","v":214.49592023867467},{"$f":"+'Procesamiento (2)'!G14","v":709.95459845072878},964.67528601785307]
[null,{"$f":"IFERROR(IF(Procesamiento!A14=0,\"\",Procesamiento!A14),\"\")","v":11},{"$f":"IFERROR(Procesamiento!E14,\"\")","v":"2026-10-06"},{"$f":"IFERROR(Procesamiento!B14,\"\")","v":30},{"$f":"IFERROR(Procesamiento!F14,\"\")","v":13117.157670445431},{"$f":"+'Procesamiento (2)'!I15","v":39.581279567733624},{"$f":"+'Procesamiento (2)'!H15","v":249.59928466788972},{"$f":"+'Procesamiento (2)'!G15","v":675.4947217822297},964.67528601785307]
[null,{"$f":"IFERROR(IF(Procesamiento!A15=0,\"\",Procesamiento!A15),\"\")","v":12},{"$f":"IFERROR(Procesamiento!E15,\"\")","v":"2026-11-06"},{"$f":"IFERROR(Procesamiento!B15,\"\")","v":31},{"$f":"IFERROR(Procesamiento!F15,\"\")","v":12863.406685923745},{"$f":"+'Procesamiento (2)'!I16","v":38.832481713729962},{"$f":"+'Procesamiento (2)'!H16","v":240.46161274114377},{"$f":"+'Procesamiento (2)'!G16","v":685.38119156297932},964.67528601785307]
[null,{"$f":"IFERROR(IF(Procesamiento!A16=0,\"\",Procesamiento!A16),\"\")","v":13},{"$f":"IFERROR(Procesamiento!E16,\"\")","v":"2026-12-06"},{"$f":"IFERROR(Procesamiento!B16,\"\")","v":30},{"$f":"IFERROR(Procesamiento!F16,\"\")","v":12618.426957757913},{"$f":"+'Procesamiento (2)'!I17","v":38.111096875506526},{"$f":"+'Procesamiento (2)'!H17","v":276.1596276455},{"$f":"+'Procesamiento (2)'!G17","v":650.40456149684655},964.67528601785307]
[null,{"$f":"IFERROR(IF(Procesamiento!A17=0,\"\",Procesamiento!A17),\"\")","v":14},{"$f":"IFERROR(Procesamiento!E17,\"\")","v":"2027-01-06"},{"$f":"IFERROR(Procesamiento!B17,\"\")","v":31},{"$f":"IFERROR(Procesamiento!F17,\"\")","v":12337.645743212808},{"$f":"+'Procesamiento (2)'!I18","v":37.282617992570025},{"$f":"+'Procesamiento (2)'!H18","v":269.3660877848464},{"$f":"+'Procesamiento (2)'!G18","v":658.0265802404366},964.67528601785307]
[null,{"$f":"IFERROR(IF(Procesamiento!A18=0,\"\",Procesamiento!A18),\"\")","v":15},{"$f":"IFERROR(Procesamiento!E18,\"\")","v":"2027-02-06"},{"$f":"IFERROR(Procesamiento!B18,\"\")","v":31},{"$f":"IFERROR(Procesamiento!F18,\"\")","v":12063.250182209424},{"$f":"+'Procesamiento (2)'!I19","v":36.47451972921548},{"$f":"+'Procesamiento (2)'!H19","v":284.43686837483904},{"$f":"+'Procesamiento (2)'!G19","v":643.76389791379859},964.67528601785307]
[null,{"$f":"IFERROR(IF(Procesamiento!A19=0,\"\",Procesamiento!A19),\"\")","v":16},{"$f":"IFERROR(Procesamiento!E19,\"\")","v":"2027-03-06"},{"$f":"IFERROR(Procesamiento!B19,\"\")","v":28},{"$f":"IFERROR(Procesamiento!F19,\"\")","v":11773.502446295095},{"$f":"+'Procesamiento (2)'!I20","v":35.621209124090967},{"$f":"+'Procesamiento (2)'!H20","v":362.62057597651176},{"$f":"+'Procesamiento (2)'!G20","v":566.4335009172504},964.67528601785307]
[null,{"$f":"IFERROR(IF(Procesamiento!A20=0,\"\",Procesamiento!A20),\"\")","v":17},{"$f":"IFERROR(Procesamiento!E20,\"\")","v":"2027-04-06"},{"$f":"IFERROR(Procesamiento!B20,\"\")","v":31},{"$f":"IFERROR(Procesamiento!F20,\"\")","v":11405.799523992428},{"$f":"+'Procesamiento (2)'!I21","v":34.533347396161425},{"$f":"+'Procesamiento (2)'!H21","v":320.63912699296748},{"$f":"+'Procesamiento (2)'!G21","v":609.5028116287242},964.67528601785307]
[null,{"$f":"IFERROR(IF(Procesamiento!A21=0,\"\",Procesamiento!A21),\"\")","v":18},{"$f":"IFERROR(Procesamiento!E21,\"\")","v":"2027-05-06"},{"$f":"IFERROR(Procesamiento!B21,\"\")","v":30},{"$f":"IFERROR(Procesamiento!F21,\"\")","v":11079.26803886818},{"$f":"+'Procesamiento (2)'!I22","v":33.571430015182521},{"$f":"+'Procesamiento (2)'!H22","v":358.17331849615437},{"$f":"+'Procesamiento (2)'!G22","v":572.9305375065162},964.67528601785307]
[null,{"$f":"IFERROR(IF(Procesamiento!A22=0,\"\",Procesamiento!A22),\"\")","v":19},{"$f":"IFERROR(Procesamiento!E22,\"\")","v":"2027-06-06"},{"$f":"IFERROR(Procesamiento!B22,\"\")","v":31},{"$f":"IFERROR(Procesamiento!F22,\"\")","v":10715.067418696355},{"$f":"+'Procesamiento (2)'!I23","v":32.496910059694059},{"$f":"+'Procesamiento (2)'!H23","v":358.61804821446174},{"$f":"+'Procesamiento (2)'!G23","v":573.56032774369726},964.67528601785307]
[null,{"$f":"IFERROR(IF(Procesamiento!A23=0,\"\",Procesamiento!A23),\"\")","v":20},{"$f":"IFERROR(Procesamiento!E23,\"\")","v":"2027-07-06"},{"$f":"IFERROR(Procesamiento!B23,\"\")","v":30},{"$f":"IFERROR(Procesamiento!F23,\"\")","v":10349.890118536567},{"$f":"+'Procesamiento (2)'!I24","v":31.421055915050676},{"$f":"+'Procesamiento (2)'!H24","v":397.02200984018839},{"$f":"+'Procesamiento (2)'!G24","v":536.23222026261396},964.67528601785307]
[null,{"$f":"IFERROR(IF(Procesamiento!A24=0,\"\",Procesamiento!A24),\"\")","v":21},{"$f":"IFERROR(Procesamiento!E24,\"\")","v":"2027-08-06"},{"$f":"IFERROR(Procesamiento!B24,\"\")","v":31},{"$f":"IFERROR(Procesamiento!F24,\"\")","v":9946.1586404107056},{"$f":"+'Procesamiento (2)'!I25","v":30.229989885530113},{"$f":"+'Procesamiento (2)'!H25","v":400.89540247832497},{"$f":"+'Procesamiento (2)'!G25","v":533.54989365399797},964.67528601785307]
[null,{"$f":"IFERROR(IF(Procesamiento!A25=0,\"\",Procesamiento!A25),\"\")","v":22},{"$f":"IFERROR(Procesamiento!E25,\"\")","v":"2027-09-06"},{"$f":"IFERROR(Procesamiento!B25,\"\")","v":31},{"$f":"IFERROR(Procesamiento!F25,\"\")","v":9537.9616135044744},{"$f":"+'Procesamiento (2)'!I26","v":29.027303678095137},{"$f":"+'Procesamiento (2)'!H26","v":423.325125165293},{"$f":"+'Procesamiento (2)'!G26","v":512.32285717446496},964.67528601785307]
[null,{"$f":"IFERROR(IF(Procesamiento!A26=0,\"\",Procesamiento!A26),\"\")","v":23},{"$f":"IFERROR(Procesamiento!E26,\"\")","v":"2027-10-06"},{"$f":"IFERROR(Procesamiento!B26,\"\")","v":30},{"$f":"IFERROR(Procesamiento!F26,\"\")","v":9106.9263448560068},{"$f":"+'Procesamiento (2)'!I27","v":27.757328302599259},{"$f":"+'Procesamiento (2)'!H27","v":463.21096885713962},{"$f":"+'Procesamiento (2)'!G27","v":473.70698885811419},964.67528601785307]
[null,{"$f":"IFERROR(IF(Procesamiento!A27=0,\"\",Procesamiento!A27),\"\")","v":24},{"$f":"IFERROR(Procesamiento!E27,\"\")","v":"2027-11-06"},{"$f":"IFERROR(Procesamiento!B27,\"\")","v":31},{"$f":"IFERROR(Procesamiento!F27,\"\")","v":8635.8286591583037},{"$f":"+'Procesamiento (2)'!I28","v":26.367695396027841},{"$f":"+'Procesamiento (2)'!H28","v":472.92599017393081},{"$f":"+'Procesamiento (2)'!G28","v":465.38160044789447},964.67528601785307]
[null,{"$f":"IFERROR(IF(Procesamiento!A28=0,\"\",Procesamiento!A28),\"\")","v":25},{"$f":"IFERROR(Procesamiento!E28,\"\")","v":"2027-12-06"},{"$f":"IFERROR(Procesamiento!B28,\"\")","v":30},{"$f":"IFERROR(Procesamiento!F28,\"\")","v":8154.319895758661},{"$f":"+'Procesamiento (2)'!I29","v":24.948917425506046},{"$f":"+'Procesamiento (2)'!H29","v":513.94776266652048},{"$f":"+'Procesamiento (2)'!G29","v":425.77860592582658},964.67528601785307]
[null,{"$f":"IFERROR(IF(Procesamiento!A29=0,\"\",Procesamiento!A29),\"\")","v":26},{"$f":"IFERROR(Procesamiento!E29,\"\")","v":"2028-01-06"},{"$f":"IFERROR(Procesamiento!B29,\"\")","v":31},{"$f":"IFERROR(Procesamiento!F29,\"\")","v":7631.5928020741576},{"$f":"+'Procesamiento (2)'!I30","v":23.407074137506484},{"$f":"+'Procesamiento (2)'!H30","v":528.14065331653308},{"$f":"+'Procesamiento (2)'!G30","v":413.12755856381352},964.67528601785307]
[null,{"$f":"IFERROR(IF(Procesamiento!A30=0,\"\",Procesamiento!A30),\"\")","v":27},{"$f":"IFERROR(Procesamiento!E30,\"\")","v":"2028-02-06"},{"$f":"IFERROR(Procesamiento!B30,\"\")","v":31},{"$f":"IFERROR(Procesamiento!F30,\"\")","v":7093.8979820436343},{"$f":"+'Procesamiento (2)'!I31","v":21.822652177556886},{"$f":"+'Procesamiento (2)'!H31","v":557.68962873598662},{"$f":"+'Procesamiento (2)'!G31","v":385.16300510430966},964.67528601785307]
[null,{"$f":"IFERROR(IF(Procesamiento!A31=0,\"\",Procesamiento!A31),\"\")","v":28},{"$f":"IFERROR(Procesamiento!E31,\"\")","v":"2028-03-06"},{"$f":"IFERROR(Procesamiento!B31,\"\")","v":29},{"$f":"IFERROR(Procesamiento!F31,\"\")","v":6526.1196399049823},{"$f":"+'Procesamiento (2)'!I32","v":20.149583291348925},{"$f":"+'Procesamiento (2)'!H32","v":612.39381346978598},{"$f":"+'Procesamiento (2)'!G32","v":332.13188925671813},964.67528601785307]
[null,{"$f":"IFERROR(IF(Procesamiento!A32=0,\"\",Procesamiento!A32),\"\")","v":29},{"$f":"IFERROR(Procesamiento!E32,\"\")","v":"2028-04-06"},{"$f":"IFERROR(Procesamiento!B32,\"\")","v":31},{"$f":"IFERROR(Procesamiento!F32,\"\")","v":5903.738920827851},{"$f":"+'Procesamiento (2)'!I33","v":18.312401850939569},{"$f":"+'Procesamiento (2)'!H33","v":623.15470258578546},{"$f":"+'Procesamiento (2)'!G33","v":323.20818158112809},964.67528601785307]
[null,{"$f":"IFERROR(IF(Procesamiento!A33=0,\"\",Procesamiento!A33),\"\")","v":30},{"$f":"IFERROR(Procesamiento!E33,\"\")","v":"2028-05-06"},{"$f":"IFERROR(Procesamiento!B33,\"\")","v":30},{"$f":"IFERROR(Procesamiento!F33,\"\")","v":5269.3722927387371},{"$f":"+'Procesamiento (2)'!I34","v":16.442937743182213},{"$f":"+'Procesamiento (2)'!H34","v":667.61692155239189},{"$f":"+'Procesamiento (2)'!G34","v":280.61542672227893},964.67528601785307]
[null,{"$f":"IFERROR(IF(Procesamiento!A34=0,\"\",Procesamiento!A34),\"\")","v":31},{"$f":"IFERROR(Procesamiento!E34,\"\")","v":"2028-06-06"},{"$f":"IFERROR(Procesamiento!B34,\"\")","v":31},{"$f":"IFERROR(Procesamiento!F34,\"\")","v":4590.2866766465831},{"$f":"+'Procesamiento (2)'!I35","v":14.440086978525038},{"$f":"+'Procesamiento (2)'!H35","v":695.37216729764839},{"$f":"+'Procesamiento (2)'!G35","v":254.86303174167963},964.67528601785307]
[null,{"$f":"IFERROR(IF(Procesamiento!A35=0,\"\",Procesamiento!A35),\"\")","v":32},{"$f":"IFERROR(Procesamiento!E35,\"\")","v":"2028-07-06"},{"$f":"IFERROR(Procesamiento!B35,\"\")","v":30},{"$f":"IFERROR(Procesamiento!F35,\"\")","v":3882.4336243744074},{"$f":"+'Procesamiento (2)'!I36","v":12.353970476632094},{"$f":"+'Procesamiento (2)'!H36","v":741.48826665663432},{"$f":"+'Procesamiento (2)'!G36","v":210.83304888458667},964.67528601785307]
[null,{"$f":"IFERROR(IF(Procesamiento!A36=0,\"\",Procesamiento!A36),\"\")","v":33},{"$f":"IFERROR(Procesamiento!E36,\"\")","v":"2028-08-06"},{"$f":"IFERROR(Procesamiento!B36,\"\")","v":31},{"$f":"IFERROR(Procesamiento!F36,\"\")","v":3128.1786427698694},{"$f":"+'Procesamiento (2)'!I37","v":10.129505676662191},{"$f":"+'Procesamiento (2)'!H37","v":775.76316423659046},{"$f":"+'Procesamiento (2)'!G37","v":178.78261610460032},964.67528601785307]
[null,{"$f":"IFERROR(IF(Procesamiento!A37=0,\"\",Procesamiento!A37),\"\")","v":34},{"$f":"IFERROR(Procesamiento!E37,\"\")","v":"2028-09-06"},{"$f":"IFERROR(Procesamiento!B37,\"\")","v":31},{"$f":"IFERROR(Procesamiento!F37,\"\")","v":2338.5220139649946},{"$f":"+'Procesamiento (2)'!I38","v":7.8022161839524191},{"$f":"+'Procesamiento (2)'!H38","v":819.16638746395665},{"$f":"+'Procesamiento (2)'!G38","v":137.70668236994399},964.67528601785307]
[null,{"$f":"IFERROR(IF(Procesamiento!A38=0,\"\",Procesamiento!A38),\"\")","v":35},{"$f":"IFERROR(Procesamiento!E38,\"\")","v":"2028-10-06"},{"$f":"IFERROR(Procesamiento!B38,\"\")","v":30},{"$f":"IFERROR(Procesamiento!F38,\"\")","v":1504.6848355890211},{"$f":"+'Procesamiento (2)'!I39","v":5.3447170215605491},{"$f":"+'Procesamiento (2)'!H39","v":868.11754665562762},{"$f":"+'Procesamiento (2)'!G39","v":91.213022340664892},964.67528601785307]
[null,{"$f":"IFERROR(IF(Procesamiento!A39=0,\"\",Procesamiento!A39),\"\")","v":36},{"$f":"IFERROR(Procesamiento!E39,\"\")","v":"2028-11-06"},{"$f":"IFERROR(Procesamiento!B39,\"\")","v":31},{"$f":"IFERROR(Procesamiento!F39,\"\")","v":621.56051615599461},{"$f":"+'Procesamiento (2)'!I40","v":2.740364381593666},{"$f":"+'Procesamiento (2)'!H40","v":913.56834493844974},{"$f":"+'Procesamiento (2)'!G40","v":48.366576697809727},964.67528601785307]
[null,{"$f":"IFERROR(IF(Procesamiento!A40=0,\"\",Procesamiento!A40),\"\")","v":""},{"$f":"IFERROR(Procesamiento!E40,\"\")","v":""},{"$f":"IFERROR(Procesamiento!B40,\"\")","v":""},{"$f":"IFERROR(Procesamiento!F40,\"\")","v":-308.33905161627342},{"$f":"+'Procesamiento (2)'!I41","v":-3.4065322168328296E-4},{"$f":"+'Procesamiento (2)'!H41","v":{"$error":"#VALUE!"}},{"$f":"+'Procesamiento (2)'!G41","v":{"$error":"#VALUE!"}},{"$error":"#VALUE!"}]
[null,{"$f":"IFERROR(IF(Procesamiento!A41=0,\"\",Procesamiento!A41),\"\")","v":""},{"$f":"IFERROR(Procesamiento!E41,\"\")","v":""},{"$f":"IFERROR(Procesamiento!B41,\"\")","v":""},{"$f":"IFERROR(Procesamiento!F41,\"\")","v":""},{"$f":"+'Procesamiento (2)'!I42","v":{"$error":"#VALUE!"}},{"$f":"+'Procesamiento (2)'!H42","v":{"$error":"#VALUE!"}},{"$f":"+'Procesamiento (2)'!G42","v":{"$error":"#VALUE!"}},{"$error":"#VALUE!"}]
[null,{"$f":"IFERROR(IF(Procesamiento!A42=0,\"\",Procesamiento!A42),\"\")","v":""},{"$f":"IFERROR(Procesamiento!E42,\"\")","v":""},{"$f":"IFERROR(Procesamiento!B42,\"\")","v":""},{"$f":"IFERROR(Procesamiento!F42,\"\")","v":""},{"$f":"+'Procesamiento (2)'!I43","v":{"$error":"#VALUE!"}},{"$f":"+'Procesamiento (2)'!H43","v":{"$error":"#VALUE!"}},{"$f":"+'Procesamiento (2)'!G43","v":{"$error":"#VALUE!"}},{"$error":"#VALUE!"}]
[null,{"$f":"IFERROR(IF(Procesamiento!A43=0,\"\",Procesamiento!A43),\"\")","v":""},{"$f":"IFERROR(Procesamiento!E43,\"\")","v":""},{"$f":"IFERROR(Procesamiento!B43,\"\")","v":""},{"$f":"IFERROR(Procesamiento!F43,\"\")","v":""},{"$f":"+'Procesamiento (2)'!I44","v":{"$error":"#VALUE!"}},{"$f":"+'Procesamiento (2)'!H44","v":{"$error":"#VALUE!"}},{"$f":"+'Procesamiento (2)'!G44","v":{"$error":"#VALUE!"}},{"$error":"#VALUE!"}]
[null,{"$f":"IFERROR(IF(Procesamiento!A44=0,\"\",Procesamiento!A44),\"\")","v":""},{"$f":"IFERROR(Procesamiento!E44,\"\")","v":""},{"$f":"IFERROR(Procesamiento!B44,\"\")","v":""},{"$f":"IFERROR(Procesamiento!F44,\"\")","v":""},{"$f":"+'Procesamiento (2)'!I45","v":{"$error":"#VALUE!"}},{"$f":"+'Procesamiento (2)'!H45","v":{"$error":"#VALUE!"}},{"$f":"+'Procesamiento (2)'!G45","v":{"$error":"#VALUE!"}},{"$error":"#VALUE!"}]
[null,{"$f":"IFERROR(IF(Procesamiento!A45=0,\"\",Procesamiento!A45),\"\")","v":""},{"$f":"IFERROR(Procesamiento!E45,\"\")","v":""},{"$f":"IFERROR(Procesamiento!B45,\"\")","v":""},{"$f":"IFERROR(Procesamiento!F45,\"\")","v":""},{"$f":"+'Procesamiento (2)'!I46","v":{"$error":"#VALUE!"}},{"$f":"+'Procesamiento (2)'!H46","v":{"$error":"#VALUE!"}},{"$f":"+'Procesamiento (2)'!G46","v":{"$error":"#VALUE!"}},{"$error":"#VALUE!"}]
[null,{"$f":"IFERROR(IF(Procesamiento!A46=0,\"\",Procesamiento!A46),\"\")","v":""},{"$f":"IFERROR(Procesamiento!E46,\"\")","v":""},{"$f":"IFERROR(Procesamiento!B46,\"\")","v":""},{"$f":"IFERROR(Procesamiento!F46,\"\")","v":""},{"$f":"+'Procesamiento (2)'!I47","v":{"$error":"#VALUE!"}},{"$f":"+'Procesamiento (2)'!H47","v":{"$error":"#VALUE!"}},{"$f":"+'Procesamiento (2)'!G47","v":{"$error":"#VALUE!"}},{"$error":"#VALUE!"}]
[null,{"$f":"IFERROR(IF(Procesamiento!A47=0,\"\",Procesamiento!A47),\"\")","v":""},{"$f":"IFERROR(Procesamiento!E47,\"\")","v":""},{"$f":"IFERROR(Procesamiento!B47,\"\")","v":""},{"$f":"IFERROR(Procesamiento!F47,\"\")","v":""},{"$f":"+'Procesamiento (2)'!I48","v":{"$error":"#VALUE!"}},{"$f":"+'Procesamiento (2)'!H48","v":{"$error":"#VALUE!"}},{"$f":"+'Procesamiento (2)'!G48","v":{"$error":"#VALUE!"}},{"$error":"#VALUE!"}]
[null,{"$f":"IFERROR(IF(Procesamiento!A48=0,\"\",Procesamiento!A48),\"\")","v":""},{"$f":"IFERROR(Procesamiento!E48,\"\")","v":""},{"$f":"IFERROR(Procesamiento!B48,\"\")","v":""},{"$f":"IFERROR(Procesamiento!F48,\"\")","v":""},{"$f":"+'Procesamiento (2)'!I49","v":{"$error":"#VALUE!"}},{"$f":"+'Procesamiento (2)'!H49","v":{"$error":"#VALUE!"}},{"$f":"+'Procesamiento (2)'!G49","v":{"$error":"#VALUE!"}},{"$error":"#VALUE!"}]
[null,{"$f":"IFERROR(IF(Procesamiento!A49=0,\"\",Procesamiento!A49),\"\")","v":""},{"$f":"IFERROR(Procesamiento!E49,\"\")","v":""},{"$f":"IFERROR(Procesamiento!B49,\"\")","v":""},{"$f":"IFERROR(Procesamiento!F49,\"\")","v":""},{"$f":"+'Procesamiento (2)'!I50","v":{"$error":"#VALUE!"}},{"$f":"+'Procesamiento (2)'!H50","v":{"$error":"#VALUE!"}},{"$f":"+'Procesamiento (2)'!G50","v":{"$error":"#VALUE!"}},{"$error":"#VALUE!"}]
[null,{"$f":"IFERROR(IF(Procesamiento!A50=0,\"\",Procesamiento!A50),\"\")","v":""},{"$f":"IFERROR(Procesamiento!E50,\"\")","v":""},{"$f":"IFERROR(Procesamiento!B50,\"\")","v":""},{"$f":"IFERROR(Procesamiento!F50,\"\")","v":""},{"$f":"+'Procesamiento (2)'!I51","v":{"$error":"#VALUE!"}},{"$f":"+'Procesamiento (2)'!H51","v":{"$error":"#VALUE!"}},{"$f":"+'Procesamiento (2)'!G51","v":{"$error":"#VALUE!"}},{"$error":"#VALUE!"}]
[null,{"$f":"IFERROR(IF(Procesamiento!A51=0,\"\",Procesamiento!A51),\"\")","v":""},{"$f":"IFERROR(Procesamiento!E51,\"\")","v":""},{"$f":"IFERROR(Procesamiento!B51,\"\")","v":""},{"$f":"IFERROR(Procesamiento!F51,\"\")","v":""},{"$f":"+'Procesamiento (2)'!I52","v":{"$error":"#VALUE!"}},{"$f":"+'Procesamiento (2)'!H52","v":{"$error":"#VALUE!"}},{"$f":"+'Procesamiento (2)'!G52","v":{"$error":"#VALUE!"}},{"$error":"#VALUE!"}]
[null,{"$f":"IFERROR(IF(Procesamiento!A52=0,\"\",Procesamiento!A52),\"\")","v":""},{"$f":"IFERROR(Procesamiento!E52,\"\")","v":""},{"$f":"IFERROR(Procesamiento!B52,\"\")","v":""},{"$f":"IFERROR(Procesamiento!F52,\"\")","v":""},{"$f":"+'Procesamiento (2)'!I53","v":{"$error":"#VALUE!"}},{"$f":"+'Procesamiento (2)'!H53","v":{"$error":"#VALUE!"}},{"$f":"+'Procesamiento (2)'!G53","v":{"$error":"#VALUE!"}},{"$error":"#VALUE!"}]
[null,{"$f":"IFERROR(IF(Procesamiento!A53=0,\"\",Procesamiento!A53),\"\")","v":""},{"$f":"IFERROR(Procesamiento!E53,\"\")","v":""},{"$f":"IFERROR(Procesamiento!B53,\"\")","v":""},{"$f":"IFERROR(Procesamiento!F53,\"\")","v":""},{"$f":"+'Procesamiento (2)'!I54","v":{"$error":"#VALUE!"}},{"$f":"+'Procesamiento (2)'!H54","v":{"$error":"#VALUE!"}},{"$f":"+'Procesamiento (2)'!G54","v":{"$error":"#VALUE!"}},{"$error":"#VALUE!"}]
[null,{"$f":"IFERROR(IF(Procesamiento!A54=0,\"\",Procesamiento!A54),\"\")","v":""},{"$f":"IFERROR(Procesamiento!E54,\"\")","v":""},{"$f":"IFERROR(Procesamiento!B54,\"\")","v":""},{"$f":"IFERROR(Procesamiento!F54,\"\")","v":""},{"$f":"+'Procesamiento (2)'!I55","v":{"$error":"#VALUE!"}},{"$f":"+'Procesamiento (2)'!H55","v":{"$error":"#VALUE!"}},{"$f":"+'Procesamiento (2)'!G55","v":{"$error":"#VALUE!"}},{"$error":"#VALUE!"}]
[null,{"$f":"IFERROR(IF(Procesamiento!A55=0,\"\",Procesamiento!A55),\"\")","v":""},{"$f":"IFERROR(Procesamiento!E55,\"\")","v":""},{"$f":"IFERROR(Procesamiento!B55,\"\")","v":""},{"$f":"IFERROR(Procesamiento!F55,\"\")","v":""},{"$f":"+'Procesamiento (2)'!I56","v":{"$error":"#VALUE!"}},{"$f":"+'Procesamiento (2)'!H56","v":{"$error":"#VALUE!"}},{"$f":"+'Procesamiento (2)'!G56","v":{"$error":"#VALUE!"}},{"$error":"#VALUE!"}]
[null,{"$f":"IFERROR(IF(Procesamiento!A56=0,\"\",Procesamiento!A56),\"\")","v":""},{"$f":"IFERROR(Procesamiento!E56,\"\")","v":""},{"$f":"IFERROR(Procesamiento!B56,\"\")","v":""},{"$f":"IFERROR(Procesamiento!F56,\"\")","v":""},{"$f":"+'Procesamiento (2)'!I57","v":{"$error":"#VALUE!"}},{"$f":"+'Procesamiento (2)'!H57","v":{"$error":"#VALUE!"}},{"$f":"+'Procesamiento (2)'!G57","v":{"$error":"#VALUE!"}},{"$error":"#VALUE!"}]
[null,{"$f":"IFERROR(IF(Procesamiento!A57=0,\"\",Procesamiento!A57),\"\")","v":""},{"$f":"IFERROR(Procesamiento!E57,\"\")","v":""},{"$f":"IFERROR(Procesamiento!B57,\"\")","v":""},{"$f":"IFERROR(Procesamiento!F57,\"\")","v":""},{"$f":"+'Procesamiento (2)'!I58","v":{"$error":"#VALUE!"}},{"$f":"+'Procesamiento (2)'!H58","v":{"$error":"#VALUE!"}},{"$f":"+'Procesamiento (2)'!G58","v":{"$error":"#VALUE!"}},{"$error":"#VALUE!"}]
[null,{"$f":"IFERROR(IF(Procesamiento!A58=0,\"\",Procesamiento!A58),\"\")","v":""},{"$f":"IFERROR(Procesamiento!E58,\"\")","v":""},{"$f":"IFERROR(Procesamiento!B58,\"\")","v":""},{"$f":"IFERROR(Procesamiento!F58,\"\")","v":""},{"$f":"+'Procesamiento (2)'!I59","v":{"$error":"#VALUE!"}},{"$f":"+'Procesamiento (2)'!H59","v":{"$error":"#VALUE!"}},{"$f":"+'Procesamiento (2)'!G59","v":{"$error":"#VALUE!"}},{"$error":"#VALUE!"}]
[null,{"$f":"IFERROR(IF(Procesamiento!A59=0,\"\",Procesamiento!A59),\"\")","v":""},{"$f":"IFERROR(Procesamiento!E59,\"\")","v":""},{"$f":"IFERROR(Procesamiento!B59,\"\")","v":""},{"$f":"IFERROR(Procesamiento!F59,\"\")","v":""},{"$f":"+'Procesamiento (2)'!I60","v":{"$error":"#VALUE!"}},{"$f":"+'Procesamiento (2)'!H60","v":{"$error":"#VALUE!"}},{"$f":"+'Procesamiento (2)'!G60","v":{"$error":"#VALUE!"}},{"$error":"#VALUE!"}]
[null,{"$f":"IFERROR(IF(Procesamiento!A60=0,\"\",Procesamiento!A60),\"\")","v":""},{"$f":"IFERROR(Procesamiento!E60,\"\")","v":""},{"$f":"IFERROR(Procesamiento!B60,\"\")","v":""},{"$f":"IFERROR(Procesamiento!F60,\"\")","v":""},{"$f":"+'Procesamiento (2)'!I61","v":{"$error":"#VALUE!"}},{"$f":"+'Procesamiento (2)'!H61","v":{"$error":"#VALUE!"}},{"$f":"+'Procesamiento (2)'!G61","v":{"$error":"#VALUE!"}},{"$error":"#VALUE!"}]
[null,{"$f":"IFERROR(IF(Procesamiento!A61=0,\"\",Procesamiento!A61),\"\")","v":""},{"$f":"IFERROR(Procesamiento!E61,\"\")","v":""},{"$f":"IFERROR(Procesamiento!B61,\"\")","v":""},{"$f":"IFERROR(Procesamiento!F61,\"\")","v":""},{"$f":"+'Procesamiento (2)'!I62","v":{"$error":"#VALUE!"}},{"$f":"+'Procesamiento (2)'!H62","v":{"$error":"#VALUE!"}},{"$f":"+'Procesamiento (2)'!G62","v":{"$error":"#VALUE!"}},{"$error":"#VALUE!"}]
[null,{"$f":"IFERROR(IF(Procesamiento!A62=0,\"\",Procesamiento!A62),\"\")","v":""},{"$f":"IFERROR(Procesamiento!E62,\"\")","v":""},{"$f":"IFERROR(Procesamiento!B62,\"\")","v":""},{"$f":"IFERROR(Procesamiento!F62,\"\")","v":""},{"$f":"+'Procesamiento (2)'!I63","v":{"$error":"#VALUE!"}},{"$f":"+'Procesamiento (2)'!H63","v":{"$error":"#VALUE!"}},{"$f":"+'Procesamiento (2)'!G63","v":{"$error":"#VALUE!"}},{"$error":"#VALUE!"}]
[null,{"$f":"IFERROR(IF(Procesamiento!A63=0,\"\",Procesamiento!A63),\"\")","v":""},{"$f":"IFERROR(Procesamiento!E63,\"\")","v":""},{"$f":"IFERROR(Procesamiento!B63,\"\")","v":""},{"$f":"IFERROR(Procesamiento!F63,\"\")","v":""},{"$f":"+'Procesamiento (2)'!I64","v":{"$error":"#VALUE!"}},{"$f":"+'Procesamiento (2)'!H64","v":{"$error":"#VALUE!"}},{"$f":"+'Procesamiento (2)'!G64","v":{"$error":"#VALUE!"}},{"$error":"#VALUE!"}]
[null,{"$f":"IFERROR(IF(Procesamiento!A64=0,\"\",Procesamiento!A64),\"\")","v":""},{"$f":"IFERROR(Procesamiento!E64,\"\")","v":""},{"$f":"IFERROR(Procesamiento!B64,\"\")","v":""},{"$f":"IFERROR(Procesamiento!F64,\"\")","v":""},{"$f":"+'Procesamiento (2)'!I65","v":{"$error":"#VALUE!"}},{"$f":"+'Procesamiento (2)'!H65","v":{"$error":"#VALUE!"}},{"$f":"+'Procesamiento (2)'!G65","v":{"$error":"#VALUE!"}},{"$error":"#VALUE!"}]
[null,{"$f":"IFERROR(IF(Procesamiento!A65=0,\"\",Procesamiento!A65),\"\")","v":""},{"$f":"IFERROR(Procesamiento!E65,\"\")","v":""},{"$f":"IFERROR(Procesamiento!B65,\"\")","v":""},{"$f":"IFERROR(Procesamiento!F65,\"\")","v":""},{"$f":"+'Procesamiento (2)'!I66","v":{"$error":"#VALUE!"}},{"$f":"+'Procesamiento (2)'!H66","v":{"$error":"#VALUE!"}},{"$f":"+'Procesamiento (2)'!G66","v":{"$error":"#VALUE!"}},{"$error":"#VALUE!"}]
[null,{"$f":"IFERROR(IF(Procesamiento!A66=0,\"\",Procesamiento!A66),\"\")","v":""},{"$f":"IFERROR(Procesamiento!E66,\"\")","v":""},{"$f":"IFERROR(Procesamiento!B66,\"\")","v":""},{"$f":"IFERROR(Procesamiento!F66,\"\")","v":""},{"$f":"+'Procesamiento (2)'!I67","v":{"$error":"#VALUE!"}},{"$f":"+'Procesamiento (2)'!H67","v":{"$error":"#VALUE!"}},{"$f":"+'Procesamiento (2)'!G67","v":{"$error":"#VALUE!"}},{"$error":"#VALUE!"}]
[null,{"$f":"IFERROR(IF(Procesamiento!A67=0,\"\",Procesamiento!A67),\"\")","v":""},{"$f":"IFERROR(Procesamiento!E67,\"\")","v":""},{"$f":"IFERROR(Procesamiento!B67,\"\")","v":""},{"$f":"IFERROR(Procesamiento!F67,\"\")","v":""},{"$f":"+'Procesamiento (2)'!I68","v":{"$error":"#VALUE!"}},{"$f":"+'Procesamiento (2)'!H68","v":{"$error":"#VALUE!"}},{"$f":"+'Procesamiento (2)'!G68","v":{"$error":"#VALUE!"}},{"$error":"#VALUE!"}]
[null,{"$f":"IFERROR(IF(Procesamiento!A68=0,\"\",Procesamiento!A68),\"\")","v":""},{"$f":"IFERROR(Procesamiento!E68,\"\")","v":""},{"$f":"IFERROR(Procesamiento!B68,\"\")","v":""},{"$f":"IFERROR(Procesamiento!F68,\"\")","v":""},{"$f":"+'Procesamiento (2)'!I69","v":{"$error":"#VALUE!"}},{"$f":"+'Procesamiento (2)'!H69","v":{"$error":"#VALUE!"}},{"$f":"+'Procesamiento (2)'!G69","v":{"$error":"#VALUE!"}},{"$error":"#VALUE!"}]
[null,{"$f":"IFERROR(IF(Procesamiento!A69=0,\"\",Procesamiento!A69),\"\")","v":""},{"$f":"IFERROR(Procesamiento!E69,\"\")","v":""},{"$f":"IFERROR(Procesamiento!B69,\"\")","v":""},{"$f":"IFERROR(Procesamiento!F69,\"\")","v":""},{"$f":"+'Procesamiento (2)'!I70","v":{"$error":"#VALUE!"}},{"$f":"+'Procesamiento (2)'!H70","v":{"$error":"#VALUE!"}},{"$f":"+'Procesamiento (2)'!G70","v":{"$error":"#VALUE!"}},{"$f":"+SUM(F105:H105)","v":{"$error":"#VALUE!"}}]
[null,{"$f":"IFERROR(IF(Procesamiento!A70=0,\"\",Procesamiento!A70),\"\")","v":""},{"$f":"IFERROR(Procesamiento!E70,\"\")","v":""},{"$f":"IFERROR(Procesamiento!B70,\"\")","v":""},{"$f":"IFERROR(Procesamiento!F70,\"\")","v":""},{"$f":"+'Procesamiento (2)'!I71","v":{"$error":"#VALUE!"}},{"$f":"+'Procesamiento (2)'!H71","v":{"$error":"#VALUE!"}},{"$f":"+'Procesamiento (2)'!G71","v":{"$error":"#VALUE!"}},{"$error":"#VALUE!"}]
[null,{"$f":"IFERROR(IF(Procesamiento!A71=0,\"\",Procesamiento!A71),\"\")","v":""},{"$f":"IFERROR(Procesamiento!E71,\"\")","v":""},{"$f":"IFERROR(Procesamiento!B71,\"\")","v":""},{"$f":"IFERROR(Procesamiento!F71,\"\")","v":""},{"$f":"+'Procesamiento (2)'!I72","v":{"$error":"#VALUE!"}},{"$f":"+'Procesamiento (2)'!H72","v":{"$error":"#VALUE!"}},{"$f":"+'Procesamiento (2)'!G72","v":{"$error":"#VALUE!"}},{"$error":"#VALUE!"}]
[null,{"$f":"IFERROR(IF(Procesamiento!A72=0,\"\",Procesamiento!A72),\"\")","v":""},{"$f":"IFERROR(Procesamiento!E72,\"\")","v":""},{"$f":"IFERROR(Procesamiento!B72,\"\")","v":""},{"$f":"IFERROR(Procesamiento!F72,\"\")","v":""},{"$f":"+'Procesamiento (2)'!I73","v":{"$error":"#VALUE!"}},{"$f":"+'Procesamiento (2)'!H73","v":{"$error":"#VALUE!"}},{"$f":"+'Procesamiento (2)'!G73","v":{"$error":"#VALUE!"}},{"$error":"#VALUE!"}]
[null,{"$f":"IFERROR(IF(Procesamiento!A73=0,\"\",Procesamiento!A73),\"\")","v":""},{"$f":"IFERROR(Procesamiento!E73,\"\")","v":""},{"$f":"IFERROR(Procesamiento!B73,\"\")","v":""},{"$f":"IFERROR(Procesamiento!F73,\"\")","v":""},{"$f":"+'Procesamiento (2)'!I74","v":{"$error":"#VALUE!"}},{"$f":"+'Procesamiento (2)'!H74","v":{"$error":"#VALUE!"}},{"$f":"+'Procesamiento (2)'!G74","v":{"$error":"#VALUE!"}},{"$error":"#VALUE!"}]
[null,{"$f":"IFERROR(IF(Procesamiento!A74=0,\"\",Procesamiento!A74),\"\")","v":""},{"$f":"IFERROR(Procesamiento!E74,\"\")","v":""},{"$f":"IFERROR(Procesamiento!B74,\"\")","v":""},{"$f":"IFERROR(Procesamiento!F74,\"\")","v":""},{"$f":"+'Procesamiento (2)'!I75","v":{"$error":"#VALUE!"}},{"$f":"+'Procesamiento (2)'!H75","v":{"$error":"#VALUE!"}},{"$f":"+'Procesamiento (2)'!G75","v":{"$error":"#VALUE!"}},{"$error":"#VALUE!"}]
[null,{"$f":"IFERROR(IF(Procesamiento!A75=0,\"\",Procesamiento!A75),\"\")","v":""},{"$f":"IFERROR(Procesamiento!E75,\"\")","v":""},{"$f":"IFERROR(Procesamiento!B75,\"\")","v":""},{"$f":"IFERROR(Procesamiento!F75,\"\")","v":""},{"$f":"+'Procesamiento (2)'!I76","v":{"$error":"#VALUE!"}},{"$f":"+'Procesamiento (2)'!H76","v":{"$error":"#VALUE!"}},{"$f":"+'Procesamiento (2)'!G76","v":{"$error":"#VALUE!"}},{"$error":"#VALUE!"}]
[null,{"$f":"IFERROR(IF(Procesamiento!A76=0,\"\",Procesamiento!A76),\"\")","v":""},{"$f":"IFERROR(Procesamiento!E76,\"\")","v":""},{"$f":"IFERROR(Procesamiento!B76,\"\")","v":""},{"$f":"IFERROR(Procesamiento!F76,\"\")","v":""},{"$f":"+'Procesamiento (2)'!I77","v":{"$error":"#VALUE!"}},{"$f":"+'Procesamiento (2)'!H77","v":{"$error":"#VALUE!"}},{"$f":"+'Procesamiento (2)'!G77","v":{"$error":"#VALUE!"}},{"$error":"#VALUE!"}]
[null,{"$f":"IFERROR(IF(Procesamiento!A77=0,\"\",Procesamiento!A77),\"\")","v":""},{"$f":"IFERROR(Procesamiento!E77,\"\")","v":""},{"$f":"IFERROR(Procesamiento!B77,\"\")","v":""},{"$f":"IFERROR(Procesamiento!F77,\"\")","v":""},{"$f":"+'Procesamiento (2)'!I78","v":{"$error":"#VALUE!"}},{"$f":"+'Procesamiento (2)'!H78","v":{"$error":"#VALUE!"}},{"$f":"+'Procesamiento (2)'!G78","v":{"$error":"#VALUE!"}},{"$error":"#VALUE!"}]
[null,{"$f":"IFERROR(IF(Procesamiento!A78=0,\"\",Procesamiento!A78),\"\")","v":""},{"$f":"IFERROR(Procesamiento!E78,\"\")","v":""},{"$f":"IFERROR(Procesamiento!B78,\"\")","v":""},{"$f":"IFERROR(Procesamiento!F78,\"\")","v":""},{"$f":"+'Procesamiento (2)'!I79","v":{"$error":"#VALUE!"}},{"$f":"+'Procesamiento (2)'!H79","v":{"$error":"#VALUE!"}},{"$f":"+'Procesamiento (2)'!G79","v":{"$error":"#VALUE!"}},{"$error":"#VALUE!"}]
[null,{"$f":"IFERROR(IF(Procesamiento!A79=0,\"\",Procesamiento!A79),\"\")","v":""},{"$f":"IFERROR(Procesamiento!E79,\"\")","v":""},{"$f":"IFERROR(Procesamiento!B79,\"\")","v":""},{"$f":"IFERROR(Procesamiento!F79,\"\")","v":""},{"$f":"+'Procesamiento (2)'!I80","v":{"$error":"#VALUE!"}},{"$f":"+'Procesamiento (2)'!H80","v":{"$error":"#VALUE!"}},{"$f":"+'Procesamiento (2)'!G80","v":{"$error":"#VALUE!"}},{"$error":"#VALUE!"}]
[null,{"$f":"IFERROR(IF(Procesamiento!A80=0,\"\",Procesamiento!A80),\"\")","v":""},{"$f":"IFERROR(Procesamiento!E80,\"\")","v":""},{"$f":"IFERROR(Procesamiento!B80,\"\")","v":""},{"$f":"IFERROR(Procesamiento!F80,\"\")","v":""},{"$f":"+'Procesamiento (2)'!I81","v":{"$error":"#VALUE!"}},{"$f":"+'Procesamiento (2)'!H81","v":{"$error":"#VALUE!"}},{"$f":"+'Procesamiento (2)'!G81","v":{"$error":"#VALUE!"}},{"$error":"#VALUE!"}]
[null,{"$f":"IFERROR(IF(Procesamiento!A81=0,\"\",Procesamiento!A81),\"\")","v":""},{"$f":"IFERROR(Procesamiento!E81,\"\")","v":""},{"$f":"IFERROR(Procesamiento!B81,\"\")","v":""},{"$f":"IFERROR(Procesamiento!F81,\"\")","v":""},{"$f":"+'Procesamiento (2)'!I82","v":{"$error":"#VALUE!"}},{"$f":"+'Procesamiento (2)'!H82","v":{"$error":"#VALUE!"}},{"$f":"+'Procesamiento (2)'!G82","v":{"$error":"#VALUE!"}},{"$error":"#VALUE!"}]
[null,{"$f":"IFERROR(IF(Procesamiento!A82=0,\"\",Procesamiento!A82),\"\")","v":""},{"$f":"IFERROR(Procesamiento!E82,\"\")","v":""},{"$f":"IFERROR(Procesamiento!B82,\"\")","v":""},{"$f":"IFERROR(Procesamiento!F82,\"\")","v":""},{"$f":"+'Procesamiento (2)'!I83","v":{"$error":"#VALUE!"}},{"$f":"+'Procesamiento (2)'!H83","v":{"$error":"#VALUE!"}},{"$f":"+'Procesamiento (2)'!G83","v":{"$error":"#VALUE!"}},{"$error":"#VALUE!"}]
[null,{"$f":"IFERROR(IF(Procesamiento!A83=0,\"\",Procesamiento!A83),\"\")","v":""},{"$f":"IFERROR(Procesamiento!E83,\"\")","v":""},{"$f":"IFERROR(Procesamiento!B83,\"\")","v":""},{"$f":"IFERROR(Procesamiento!F83,\"\")","v":""},{"$f":"+'Procesamiento (2)'!I84","v":{"$error":"#VALUE!"}},{"$f":"+'Procesamiento (2)'!H84","v":{"$error":"#VALUE!"}},{"$f":"+'Procesamiento (2)'!G84","v":{"$error":"#VALUE!"}},{"$error":"#VALUE!"}]
[null,{"$f":"IFERROR(IF(Procesamiento!A84=0,\"\",Procesamiento!A84),\"\")","v":""},{"$f":"IFERROR(Procesamiento!E84,\"\")","v":""},{"$f":"IFERROR(Procesamiento!B84,\"\")","v":""},{"$f":"IFERROR(Procesamiento!F84,\"\")","v":""},{"$f":"+'Procesamiento (2)'!I85","v":{"$error":"#VALUE!"}},{"$f":"+'Procesamiento (2)'!H85","v":{"$error":"#VALUE!"}},{"$f":"+'Procesamiento (2)'!G85","v":{"$error":"#VALUE!"}},{"$error":"#VALUE!"}]
[null,{"$f":"IFERROR(IF(Procesamiento!A85=0,\"\",Procesamiento!A85),\"\")","v":""},{"$f":"IFERROR(Procesamiento!E85,\"\")","v":""},{"$f":"IFERROR(Procesamiento!B85,\"\")","v":""},{"$f":"IFERROR(Procesamiento!F85,\"\")","v":""},{"$f":"+'Procesamiento (2)'!I86","v":{"$error":"#VALUE!"}},{"$f":"+'Procesamiento (2)'!H86","v":{"$error":"#VALUE!"}},{"$f":"+'Procesamiento (2)'!G86","v":{"$error":"#VALUE!"}},{"$error":"#VALUE!"}]
[null,{"$f":"IFERROR(IF(Procesamiento!A86=0,\"\",Procesamiento!A86),\"\")","v":""},{"$f":"IFERROR(Procesamiento!E86,\"\")","v":""},{"$f":"IFERROR(Procesamiento!B86,\"\")","v":""},{"$f":"IFERROR(Procesamiento!F86,\"\")","v":""},{"$f":"+'Procesamiento (2)'!I87","v":{"$error":"#VALUE!"}},{"$f":"+'Procesamiento (2)'!H87","v":{"$error":"#VALUE!"}},{"$f":"+'Procesamiento (2)'!G87","v":{"$error":"#VALUE!"}},{"$error":"#VALUE!"}]
[null,{"$f":"IFERROR(IF(Procesamiento!A87=0,\"\",Procesamiento!A87),\"\")","v":""},{"$f":"IFERROR(Procesamiento!E87,\"\")","v":""},{"$f":"IFERROR(Procesamiento!B87,\"\")","v":""},{"$f":"IFERROR(Procesamiento!F87,\"\")","v":""},{"$f":"+'Procesamiento (2)'!I88","v":{"$error":"#VALUE!"}},{"$f":"+'Procesamiento (2)'!H88","v":{"$error":"#VALUE!"}},{"$f":"+'Procesamiento (2)'!G88","v":{"$error":"#VALUE!"}},{"$error":"#VALUE!"}]
[null,{"$f":"IFERROR(IF(Procesamiento!A88=0,\"\",Procesamiento!A88),\"\")","v":""},{"$f":"IFERROR(Procesamiento!E88,\"\")","v":""},{"$f":"IFERROR(Procesamiento!B88,\"\")","v":""},{"$f":"IFERROR(Procesamiento!F88,\"\")","v":""},{"$f":"+'Procesamiento (2)'!I89","v":{"$error":"#VALUE!"}},{"$f":"+'Procesamiento (2)'!H89","v":{"$error":"#VALUE!"}},{"$f":"+'Procesamiento (2)'!G89","v":{"$error":"#VALUE!"}},{"$error":"#VALUE!"}]
[null,{"$f":"IFERROR(IF(Procesamiento!A89=0,\"\",Procesamiento!A89),\"\")","v":""},{"$f":"IFERROR(Procesamiento!E89,\"\")","v":""},{"$f":"IFERROR(Procesamiento!B89,\"\")","v":""},{"$f":"IFERROR(Procesamiento!F89,\"\")","v":""},{"$f":"+'Procesamiento (2)'!I90","v":{"$error":"#VALUE!"}},{"$f":"+'Procesamiento (2)'!H90","v":{"$error":"#VALUE!"}},{"$f":"+'Procesamiento (2)'!G90","v":{"$error":"#VALUE!"}},{"$error":"#VALUE!"}]
[null,{"$f":"IFERROR(IF(Procesamiento!A90=0,\"\",Procesamiento!A90),\"\")","v":""},{"$f":"IFERROR(Procesamiento!E90,\"\")","v":""},{"$f":"IFERROR(Procesamiento!B90,\"\")","v":""},{"$f":"IFERROR(Procesamiento!F90,\"\")","v":""},{"$f":"+'Procesamiento (2)'!I91","v":{"$error":"#VALUE!"}},{"$f":"+'Procesamiento (2)'!H91","v":{"$error":"#VALUE!"}},{"$f":"+'Procesamiento (2)'!G91","v":{"$error":"#VALUE!"}},{"$error":"#VALUE!"}]
[null,{"$f":"IFERROR(IF(Procesamiento!A91=0,\"\",Procesamiento!A91),\"\")","v":""},{"$f":"IFERROR(Procesamiento!E91,\"\")","v":""},{"$f":"IFERROR(Procesamiento!B91,\"\")","v":""},{"$f":"IFERROR(Procesamiento!F91,\"\")","v":""},{"$f":"+'Procesamiento (2)'!I92","v":{"$error":"#VALUE!"}},{"$f":"+'Procesamiento (2)'!H92","v":{"$error":"#VALUE!"}},{"$f":"+'Procesamiento (2)'!G92","v":{"$error":"#VALUE!"}},{"$error":"#VALUE!"}]
[null,{"$f":"IFERROR(IF(Procesamiento!A92=0,\"\",Procesamiento!A92),\"\")","v":""},{"$f":"IFERROR(Procesamiento!E92,\"\")","v":""},{"$f":"IFERROR(Procesamiento!B92,\"\")","v":""},{"$f":"IFERROR(Procesamiento!F92,\"\")","v":""},{"$f":"+'Procesamiento (2)'!I93","v":{"$error":"#VALUE!"}},{"$f":"+'Procesamiento (2)'!H93","v":{"$error":"#VALUE!"}},{"$f":"+'Procesamiento (2)'!G93","v":{"$error":"#VALUE!"}},{"$error":"#VALUE!"}]
[null,{"$f":"IFERROR(IF(Procesamiento!A93=0,\"\",Procesamiento!A93),\"\")","v":""},{"$f":"IFERROR(Procesamiento!E93,\"\")","v":""},{"$f":"IFERROR(Procesamiento!B93,\"\")","v":""},{"$f":"IFERROR(Procesamiento!F93,\"\")","v":""},{"$f":"+'Procesamiento (2)'!I94","v":{"$error":"#VALUE!"}},{"$f":"+'Procesamiento (2)'!H94","v":{"$error":"#VALUE!"}},{"$f":"+'Procesamiento (2)'!G94","v":{"$error":"#VALUE!"}},{"$error":"#VALUE!"}]
[null,{"$f":"IFERROR(IF(Procesamiento!A94=0,\"\",Procesamiento!A94),\"\")","v":""},{"$f":"IFERROR(Procesamiento!E94,\"\")","v":""},{"$f":"IFERROR(Procesamiento!B94,\"\")","v":""},{"$f":"IFERROR(Procesamiento!F94,\"\")","v":""},{"$f":"+'Procesamiento (2)'!I95","v":{"$error":"#VALUE!"}},{"$f":"+'Procesamiento (2)'!H95","v":{"$error":"#VALUE!"}},{"$f":"+'Procesamiento (2)'!G95","v":{"$error":"#VALUE!"}},{"$error":"#VALUE!"}]
[null,{"$f":"IFERROR(IF(Procesamiento!A95=0,\"\",Procesamiento!A95),\"\")","v":""},{"$f":"IFERROR(Procesamiento!E95,\"\")","v":""},{"$f":"IFERROR(Procesamiento!B95,\"\")","v":""},{"$f":"IFERROR(Procesamiento!F95,\"\")","v":""},{"$f":"+'Procesamiento (2)'!I96","v":{"$error":"#VALUE!"}},{"$f":"+'Procesamiento (2)'!H96","v":{"$error":"#VALUE!"}},{"$f":"+'Procesamiento (2)'!G96","v":{"$error":"#VALUE!"}},{"$error":"#VALUE!"}]
[null,{"$f":"IFERROR(IF(Procesamiento!A96=0,\"\",Procesamiento!A96),\"\")","v":""},{"$f":"IFERROR(Procesamiento!E96,\"\")","v":""},{"$f":"IFERROR(Procesamiento!B96,\"\")","v":""},{"$f":"IFERROR(Procesamiento!F96,\"\")","v":""},{"$f":"+'Procesamiento (2)'!I97","v":{"$error":"#VALUE!"}},{"$f":"+'Procesamiento (2)'!H97","v":{"$error":"#VALUE!"}},{"$f":"+'Procesamiento (2)'!G97","v":{"$error":"#VALUE!"}},{"$error":"#VALUE!"}]
[null,{"$f":"IFERROR(IF(Procesamiento!A97=0,\"\",Procesamiento!A97),\"\")","v":""},{"$f":"IFERROR(Procesamiento!E97,\"\")","v":""},{"$f":"IFERROR(Procesamiento!B97,\"\")","v":""},{"$f":"IFERROR(Procesamiento!F97,\"\")","v":""},{"$f":"+'Procesamiento (2)'!I98","v":{"$error":"#VALUE!"}},{"$f":"+'Procesamiento (2)'!H98","v":{"$error":"#VALUE!"}},{"$f":"+'Procesamiento (2)'!G98","v":{"$error":"#VALUE!"}},{"$error":"#VALUE!"}]
[null,{"$f":"IFERROR(IF(Procesamiento!A98=0,\"\",Procesamiento!A98),\"\")","v":""},{"$f":"IFERROR(Procesamiento!E98,\"\")","v":""},{"$f":"IFERROR(Procesamiento!B98,\"\")","v":""},{"$f":"IFERROR(Procesamiento!F98,\"\")","v":""},{"$f":"+'Procesamiento (2)'!I99","v":{"$error":"#VALUE!"}},{"$f":"+'Procesamiento (2)'!H99","v":{"$error":"#VALUE!"}},{"$f":"+'Procesamiento (2)'!G99","v":{"$error":"#VALUE!"}},{"$error":"#VALUE!"}]
[null,{"$f":"IFERROR(IF(Procesamiento!A99=0,\"\",Procesamiento!A99),\"\")","v":""},{"$f":"IFERROR(Procesamiento!E99,\"\")","v":""},{"$f":"IFERROR(Procesamiento!B99,\"\")","v":""},{"$f":"IFERROR(Procesamiento!F99,\"\")","v":""},{"$f":"+'Procesamiento (2)'!I100","v":{"$error":"#VALUE!"}},{"$f":"+'Procesamiento (2)'!H100","v":{"$error":"#VALUE!"}},{"$f":"+'Procesamiento (2)'!G100","v":{"$error":"#VALUE!"}},{"$error":"#VALUE!"}]
[null,{"$f":"IFERROR(IF(Procesamiento!A100=0,\"\",Procesamiento!A100),\"\")","v":""},{"$f":"IFERROR(Procesamiento!E100,\"\")","v":""},{"$f":"IFERROR(Procesamiento!B100,\"\")","v":""},{"$f":"IFERROR(Procesamiento!F100,\"\")","v":""},{"$f":"+'Procesamiento (2)'!I101","v":{"$error":"#VALUE!"}},{"$f":"+'Procesamiento (2)'!H101","v":{"$error":"#VALUE!"}},{"$f":"+'Procesamiento (2)'!G101","v":{"$error":"#VALUE!"}},{"$error":"#VALUE!"}]
[null,{"$f":"IFERROR(IF(Procesamiento!A101=0,\"\",Procesamiento!A101),\"\")","v":""},{"$f":"IFERROR(Procesamiento!E101,\"\")","v":""},{"$f":"IFERROR(Procesamiento!B101,\"\")","v":""},{"$f":"IFERROR(Procesamiento!F101,\"\")","v":""},{"$f":"+'Procesamiento (2)'!I102","v":{"$error":"#VALUE!"}},{"$f":"+'Procesamiento (2)'!H102","v":{"$error":"#VALUE!"}},{"$f":"+'Procesamiento (2)'!G102","v":{"$error":"#VALUE!"}},{"$error":"#VALUE!"}]
[null,{"$f":"IFERROR(IF(Procesamiento!A102=0,\"\",Procesamiento!A102),\"\")","v":""},{"$f":"IFERROR(Procesamiento!E102,\"\")","v":""},{"$f":"IFERROR(Procesamiento!B102,\"\")","v":""},{"$f":"IFERROR(Procesamiento!F102,\"\")","v":""},{"$f":"+'Procesamiento (2)'!I103","v":{"$error":"#VALUE!"}},{"$f":"+'Procesamiento (2)'!H103","v":{"$error":"#VALUE!"}},{"$f":"+'Procesamiento (2)'!G103","v":{"$error":"#VALUE!"}},{"$error":"#VALUE!"}]
[null,{"$f":"IFERROR(IF(Procesamiento!A103=0,\"\",Procesamiento!A103),\"\")","v":""},{"$f":"IFERROR(Procesamiento!E103,\"\")","v":""},{"$f":"IFERROR(Procesamiento!B103,\"\")","v":""},{"$f":"IFERROR(Procesamiento!F103,\"\")","v":""},{"$f":"+'Procesamiento (2)'!I104","v":{"$error":"#VALUE!"}},{"$f":"+'Procesamiento (2)'!H104","v":{"$error":"#VALUE!"}},{"$f":"+'Procesamiento (2)'!G104","v":{"$error":"#VALUE!"}},{"$error":"#VALUE!"}]
[null,{"$f":"IFERROR(IF(Procesamiento!A104=0,\"\",Procesamiento!A104),\"\")","v":""},{"$f":"IFERROR(Procesamiento!E104,\"\")","v":""},{"$f":"IFERROR(Procesamiento!B104,\"\")","v":""},{"$f":"IFERROR(Procesamiento!F104,\"\")","v":""},{"$f":"+'Procesamiento (2)'!I105","v":{"$error":"#VALUE!"}},{"$f":"+'Procesamiento (2)'!H105","v":{"$error":"#VALUE!"}},{"$f":"+'Procesamiento (2)'!G105","v":{"$error":"#VALUE!"}},{"$error":"#VALUE!"}]
[null,{"$f":"IFERROR(IF(Procesamiento!A105=0,\"\",Procesamiento!A105),\"\")","v":""},{"$f":"IFERROR(Procesamiento!E105,\"\")","v":""},{"$f":"IFERROR(Procesamiento!B105,\"\")","v":""},{"$f":"IFERROR(Procesamiento!F105,\"\")","v":""},{"$f":"+'Procesamiento (2)'!I106","v":{"$error":"#VALUE!"}},{"$f":"+'Procesamiento (2)'!H106","v":{"$error":"#VALUE!"}},{"$f":"+'Procesamiento (2)'!G106","v":{"$error":"#VALUE!"}},{"$error":"#VALUE!"}]
[null,{"$f":"IFERROR(IF(Procesamiento!A106=0,\"\",Procesamiento!A106),\"\")","v":""},{"$f":"IFERROR(Procesamiento!E106,\"\")","v":""},{"$f":"IFERROR(Procesamiento!B106,\"\")","v":""},{"$f":"IFERROR(Procesamiento!F106,\"\")","v":""},{"$f":"+'Procesamiento (2)'!I107","v":{"$error":"#VALUE!"}},{"$f":"+'Procesamiento (2)'!H107","v":{"$error":"#VALUE!"}},{"$f":"+'Procesamiento (2)'!G107","v":{"$error":"#VALUE!"}},{"$error":"#VALUE!"}]
[null,{"$f":"IFERROR(IF(Procesamiento!A107=0,\"\",Procesamiento!A107),\"\")","v":""},{"$f":"IFERROR(Procesamiento!E107,\"\")","v":""},{"$f":"IFERROR(Procesamiento!B107,\"\")","v":""},{"$f":"IFERROR(Procesamiento!F107,\"\")","v":""},{"$f":"+'Procesamiento (2)'!I108","v":{"$error":"#VALUE!"}},{"$f":"+'Procesamiento (2)'!H108","v":{"$error":"#VALUE!"}},{"$f":"+'Procesamiento (2)'!G108","v":{"$error":"#VALUE!"}},{"$error":"#VALUE!"}]
[null,{"$f":"IFERROR(IF(Procesamiento!A108=0,\"\",Procesamiento!A108),\"\")","v":""},{"$f":"IFERROR(Procesamiento!E108,\"\")","v":""},{"$f":"IFERROR(Procesamiento!B108,\"\")","v":""},{"$f":"IFERROR(Procesamiento!F108,\"\")","v":""},{"$f":"+'Procesamiento (2)'!I109","v":{"$error":"#VALUE!"}},{"$f":"+'Procesamiento (2)'!H109","v":{"$error":"#VALUE!"}},{"$f":"+'Procesamiento (2)'!G109","v":{"$error":"#VALUE!"}},{"$error":"#VALUE!"}]
[null,{"$f":"IFERROR(IF(Procesamiento!A109=0,\"\",Procesamiento!A109),\"\")","v":""},{"$f":"IFERROR(Procesamiento!E109,\"\")","v":""},{"$f":"IFERROR(Procesamiento!B109,\"\")","v":""},{"$f":"IFERROR(Procesamiento!F109,\"\")","v":""},{"$f":"+'Procesamiento (2)'!I110","v":{"$error":"#VALUE!"}},{"$f":"+'Procesamiento (2)'!H110","v":{"$error":"#VALUE!"}},{"$f":"+'Procesamiento (2)'!G110","v":{"$error":"#VALUE!"}},{"$error":"#VALUE!"}]
[null,{"$f":"IFERROR(IF(Procesamiento!A110=0,\"\",Procesamiento!A110),\"\")","v":""},{"$f":"IFERROR(Procesamiento!E110,\"\")","v":""},{"$f":"IFERROR(Procesamiento!B110,\"\")","v":""},{"$f":"IFERROR(Procesamiento!F110,\"\")","v":""},{"$f":"+'Procesamiento (2)'!I111","v":{"$error":"#VALUE!"}},{"$f":"+'Procesamiento (2)'!H111","v":{"$error":"#VALUE!"}},{"$f":"+'Procesamiento (2)'!G111","v":{"$error":"#VALUE!"}},{"$error":"#VALUE!"}]
[null,{"$f":"IFERROR(IF(Procesamiento!A111=0,\"\",Procesamiento!A111),\"\")","v":""},{"$f":"IFERROR(Procesamiento!E111,\"\")","v":""},{"$f":"IFERROR(Procesamiento!B111,\"\")","v":""},{"$f":"IFERROR(Procesamiento!F111,\"\")","v":""},{"$f":"+'Procesamiento (2)'!I112","v":{"$error":"#VALUE!"}},{"$f":"+'Procesamiento (2)'!H112","v":{"$error":"#VALUE!"}},{"$f":"+'Procesamiento (2)'!G112","v":{"$error":"#VALUE!"}},{"$error":"#VALUE!"}]
[null,{"$f":"IFERROR(IF(Procesamiento!A112=0,\"\",Procesamiento!A112),\"\")","v":""},{"$f":"IFERROR(Procesamiento!E112,\"\")","v":""},{"$f":"IFERROR(Procesamiento!B112,\"\")","v":""},{"$f":"IFERROR(Procesamiento!F112,\"\")","v":""},{"$f":"+'Procesamiento (2)'!I113","v":{"$error":"#VALUE!"}},{"$f":"+'Procesamiento (2)'!H113","v":{"$error":"#VALUE!"}},{"$f":"+'Procesamiento (2)'!G113","v":{"$error":"#VALUE!"}},{"$error":"#VALUE!"}]
[null,{"$f":"IFERROR(IF(Procesamiento!A113=0,\"\",Procesamiento!A113),\"\")","v":""},{"$f":"IFERROR(Procesamiento!E113,\"\")","v":""},{"$f":"IFERROR(Procesamiento!B113,\"\")","v":""},{"$f":"IFERROR(Procesamiento!F113,\"\")","v":""},{"$f":"+'Procesamiento (2)'!I114","v":{"$error":"#VALUE!"}},{"$f":"+'Procesamiento (2)'!H114","v":{"$error":"#VALUE!"}},{"$f":"+'Procesamiento (2)'!G114","v":{"$error":"#VALUE!"}},{"$error":"#VALUE!"}]
[null,{"$f":"IFERROR(IF(Procesamiento!A114=0,\"\",Procesamiento!A114),\"\")","v":""},{"$f":"IFERROR(Procesamiento!E114,\"\")","v":""},{"$f":"IFERROR(Procesamiento!B114,\"\")","v":""},{"$f":"IFERROR(Procesamiento!F114,\"\")","v":""},{"$f":"+'Procesamiento (2)'!I115","v":{"$error":"#VALUE!"}},{"$f":"+'Procesamiento (2)'!H115","v":{"$error":"#VALUE!"}},{"$f":"+'Procesamiento (2)'!G115","v":{"$error":"#VALUE!"}},{"$error":"#VALUE!"}]
[null,{"$f":"IFERROR(IF(Procesamiento!A115=0,\"\",Procesamiento!A115),\"\")","v":""},{"$f":"IFERROR(Procesamiento!E115,\"\")","v":""},{"$f":"IFERROR(Procesamiento!B115,\"\")","v":""},{"$f":"IFERROR(Procesamiento!F115,\"\")","v":""},{"$f":"+'Procesamiento (2)'!I116","v":{"$error":"#VALUE!"}},{"$f":"+'Procesamiento (2)'!H116","v":{"$error":"#VALUE!"}},{"$f":"+'Procesamiento (2)'!G116","v":{"$error":"#VALUE!"}},{"$error":"#VALUE!"}]
[null,{"$f":"IFERROR(IF(Procesamiento!A116=0,\"\",Procesamiento!A116),\"\")","v":""},{"$f":"IFERROR(Procesamiento!E116,\"\")","v":""},{"$f":"IFERROR(Procesamiento!B116,\"\")","v":""},{"$f":"IFERROR(Procesamiento!F116,\"\")","v":""},{"$f":"+'Procesamiento (2)'!I117","v":{"$error":"#VALUE!"}},{"$f":"+'Procesamiento (2)'!H117","v":{"$error":"#VALUE!"}},{"$f":"+'Procesamiento (2)'!G117","v":{"$error":"#VALUE!"}},{"$error":"#VALUE!"}]
[null,{"$f":"IFERROR(IF(Procesamiento!A117=0,\"\",Procesamiento!A117),\"\")","v":""},{"$f":"IFERROR(Procesamiento!E117,\"\")","v":""},{"$f":"IFERROR(Procesamiento!B117,\"\")","v":""},{"$f":"IFERROR(Procesamiento!F117,\"\")","v":""},{"$f":"+'Procesamiento (2)'!I118","v":{"$error":"#VALUE!"}},{"$f":"+'Procesamiento (2)'!H118","v":{"$error":"#VALUE!"}},{"$f":"+'Procesamiento (2)'!G118","v":{"$error":"#VALUE!"}},{"$error":"#VALUE!"}]
[null,{"$f":"IFERROR(IF(Procesamiento!A118=0,\"\",Procesamiento!A118),\"\")","v":""},{"$f":"IFERROR(Procesamiento!E118,\"\")","v":""},{"$f":"IFERROR(Procesamiento!B118,\"\")","v":""},{"$f":"IFERROR(Procesamiento!F118,\"\")","v":""},{"$f":"+'Procesamiento (2)'!I119","v":{"$error":"#VALUE!"}},{"$f":"+'Procesamiento (2)'!H119","v":{"$error":"#VALUE!"}},{"$f":"+'Procesamiento (2)'!G119","v":{"$error":"#VALUE!"}},{"$error":"#VALUE!"}]
[null,{"$f":"IFERROR(IF(Procesamiento!A119=0,\"\",Procesamiento!A119),\"\")","v":""},{"$f":"IFERROR(Procesamiento!E119,\"\")","v":""},{"$f":"IFERROR(Procesamiento!B119,\"\")","v":""},{"$f":"IFERROR(Procesamiento!F119,\"\")","v":""},{"$f":"+'Procesamiento (2)'!I120","v":{"$error":"#VALUE!"}},{"$f":"+'Procesamiento (2)'!H120","v":{"$error":"#VALUE!"}},{"$f":"+'Procesamiento (2)'!G120","v":{"$error":"#VALUE!"}},{"$error":"#VALUE!"}]
[null,null,null,null,{"$f":"IFERROR(Procesamiento!F120,\"\")","v":""},{"$f":"+'Procesamiento (2)'!I121","v":{"$error":"#VALUE!"}},{"$f":"+'Procesamiento (2)'!H121","v":{"$error":"#VALUE!"}},{"$f":"+'Procesamiento (2)'!G121","v":{"$error":"#VALUE!"}},{"$error":"#VALUE!"}]
[null,null,null,null,{"$f":"IFERROR(Procesamiento!F121,\"\")","v":""},{"$f":"+'Procesamiento (2)'!I122","v":{"$error":"#VALUE!"}},{"$f":"+'Procesamiento (2)'!H122","v":{"$error":"#VALUE!"}},{"$f":"+'Procesamiento (2)'!G122","v":{"$error":"#VALUE!"}},{"$error":"#VALUE!"}]
[null,null,null,null,{"$f":"IFERROR(Procesamiento!F122,\"\")","v":""},{"$f":"+'Procesamiento (2)'!I123","v":{"$error":"#VALUE!"}},{"$f":"+'Procesamiento (2)'!H123","v":{"$error":"#VALUE!"}},{"$f":"+'Procesamiento (2)'!G123","v":{"$error":"#VALUE!"}},{"$error":"#VALUE!"}]
[null,null,null,null,{"$f":"IFERROR(Procesamiento!F123,\"\")","v":""},{"$f":"+'Procesamiento (2)'!I124","v":{"$error":"#VALUE!"}},{"$f":"+'Procesamiento (2)'!H124","v":{"$error":"#VALUE!"}},{"$f":"+'Procesamiento (2)'!G124","v":{"$error":"#VALUE!"}},{"$error":"#VALUE!"}]
[null,null,null,null,{"$f":"IFERROR(Procesamiento!F124,\"\")","v":""},{"$f":"+'Procesamiento (2)'!I125","v":{"$error":"#VALUE!"}},{"$f":"+'Procesamiento (2)'!H125","v":{"$error":"#VALUE!"}},{"$f":"+'Procesamiento (2)'!G125","v":{"$error":"#VALUE!"}},{"$error":"#VALUE!"}]
[null,null,null,null,{"$f":"IFERROR(Procesamiento!F125,\"\")","v":""},{"$f":"+'Procesamiento (2)'!I126","v":{"$error":"#VALUE!"}},{"$f":"+'Procesamiento (2)'!H126","v":{"$error":"#VALUE!"}},{"$f":"+'Procesamiento (2)'!G126","v":{"$error":"#VALUE!"}},{"$error":"#VALUE!"}]
[null,null,null,null,{"$f":"IFERROR(Procesamiento!F126,\"\")","v":""},{"$f":"+'Procesamiento (2)'!I127","v":{"$error":"#VALUE!"}},{"$f":"+'Procesamiento (2)'!H127","v":{"$error":"#VALUE!"}},{"$f":"+'Procesamiento (2)'!G127","v":{"$error":"#VALUE!"}},{"$error":"#VALUE!"}]
[null,null,null,null,{"$f":"IFERROR(Procesamiento!F127,\"\")","v":""},{"$f":"+'Procesamiento (2)'!I128","v":{"$error":"#VALUE!"}},{"$f":"+'Procesamiento (2)'!H128","v":{"$error":"#VALUE!"}},{"$f":"+'Procesamiento (2)'!G128","v":{"$error":"#VALUE!"}},{"$error":"#VALUE!"}]

{"sheet":"Procesamiento","index":1,"n_rows":185,"n_cols":13,"rows_kept":185,"cut":false,"hidden":true,"merged":[]}
["Cronograma"]
[]
["n° Periodo","n° Días","n° días acum","Fecha inicial","Fecha Final","Saldo inicial","i","k","Seguro","Cuota","Saldo Aant","Anticipo","Saldo Final"]
[1,{"$f":"_xlfn.DAYS(E4,D4)","v":29},{"$f":"B4","v":29},{"$f":"Simulador!C12","v":"2025-11-07"},{"$f":"+Simulador!C20","v":"2025-12-06"},{"$f":"Simulador!C6","v":14993.27},{"$f":"F4*((1+Simulador!$C$10)^B4-1)","v":741.41628924516124},{"$f":"J4-I4-G4","v":178.27919786788254},{"$f":"F4*Simulador!$F$8","v":44.979810000000001},{"$f":"Simulador!C34","v":964.67529711304383},{"$f":"F4-H4","v":14814.990802132117},null,{"$f":"K4-L4","v":14814.990802132117}]
[{"$f":"IF(OR(A4>Simulador!$C$24,A4=0),0,A4+1)","v":2},{"$f":"IFERROR(_xlfn.DAYS(E5,D5),\"\")","v":31},{"$f":"IFERROR(C4+B5,\"\")","v":60},{"$f":"E4","v":"2025-12-06"},{"$f":"IFERROR(EDATE(D5,1),\"\")","v":"2026-01-06"},{"$f":"K4","v":14814.990802132117},{"$f":"F5*((1+Simulador!$C$10)^B5-1)","v":784.43990192131707},{"$f":"J5-I5-G5","v":135.79042278533041},{"$f":"F5*Simulador!$F$8","v":44.444972406396353},{"$f":"$J$4","v":964.67529711304383},{"$f":"F5-H5","v":14679.200379346787},null,{"$f":"K5-L5","v":14679.200379346787}]
[{"$f":"IF(OR(A5>Simulador!$C$24,A5=0),0,A5+1)","v":3},{"$f":"IFERROR(_xlfn.DAYS(E6,D6),\"\")","v":31},{"$f":"IFERROR(C5+B6,\"\")","v":91},{"$f":"IF(A6<>0,E5,\"\")","v":"2026-01-06"},{"$f":"IFERROR(EDATE(D6,1),\"\")","v":"2026-02-06"},{"$f":"K5","v":14679.200379346787},{"$f":"F6*((1+Simulador!$C$10)^B6-1)","v":777.24992608169327},143.38776989331018,{"$f":"F6*Simulador!$F$8","v":44.037601138040358},{"$f":"$J$4","v":964.67529711304383},14535.812609453476,null,{"$f":"K6-L6","v":14535.812609453476}]
[{"$f":"IF(OR(A6>=Simulador!$C$24,A6=0),0,A6+1)","v":4},28,119,{"$f":"IF(A7<>0,E6,\"\")","v":"2026-02-06"},"2026-03-06",14535.812609453476,{"$f":"F7*((1+Simulador!$C$10)^B7-1)","v":693.4271542861303},227.64070499855313,{"$f":"F7*Simulador!$F$8","v":43.607437828360432},964.67529711304383,14308.171904454923,null,14308.171904454923]
[{"$f":"IF(OR(A7>=Simulador!$C$24,A7=0),0,A7+1)","v":5},31,150,"2026-03-06","2026-04-06",14308.171904454923,{"$f":"F8*((1+Simulador!$C$10)^B8-1)","v":757.6043154740712},164.1464659256078,{"$f":"F8*Simulador!$F$8","v":42.924515713364769},964.67529711304383,14144.025438529316,null,14144.025438529316]
[{"$f":"IF(OR(A8>=Simulador!$C$24,A8=0),0,A8+1)","v":6},30,180,"2026-04-06","2026-05-06",14144.025438529316,{"$f":"F9*((1+Simulador!$C$10)^B9-1)","v":724.14646263245106},198.09675816500487,{"$f":"F9*Simulador!$F$8","v":42.432076315587949},964.67529711304383,13945.92868036431,null,13945.92868036431]
[{"$f":"IF(OR(A9>=Simulador!$C$24,A9=0),0,A9+1)","v":7},31,211,"2026-05-06","2026-06-06",13945.92868036431,{"$f":"F10*((1+Simulador!$C$10)^B10-1)","v":738.42387567680817},184.41363539514271,{"$f":"F10*Simulador!$F$8","v":41.837786041092933},964.67529711304383,13761.515044969166,null,13761.515044969166]
[{"$f":"IF(OR(A10>=Simulador!$C$24,A10=0),0,A10+1)","v":8},30,241,"2026-06-06","2026-07-06",13761.515044969166,{"$f":"F11*((1+Simulador!$C$10)^B11-1)","v":704.56267797223836},218.82807400589797,{"$f":"F11*Simulador!$F$8","v":41.284545134907503},964.67529711304383,13542.686970963268,null,13542.686970963268]
[{"$f":"IF(OR(A11>=Simulador!$C$24,A11=0),0,A11+1)","v":9},31,272,"2026-07-06","2026-08-06",13542.686970963268,{"$f":"F12*((1+Simulador!$C$10)^B12-1)","v":717.07260444094516},206.97463175920882,{"$f":"F12*Simulador!$F$8","v":40.628060912889808},964.67529711304383,13335.712339204059,null,13335.712339204059]
[{"$f":"IF(OR(A12>=Simulador!$C$24,A12=0),0,A12+1)","v":10},31,303,"2026-08-06","2026-09-06",13335.712339204059,{"$f":"F13*((1+Simulador!$C$10)^B13-1)","v":706.11349133680278},218.55466875862885,{"$f":"F13*Simulador!$F$8","v":40.00713701761218},964.67529711304383,13117.157670445431,null,13117.157670445431]
[{"$f":"IF(OR(A13>=Simulador!$C$24,A13=0),0,A13+1)","v":11},30,333,"2026-09-06","2026-10-06",13117.157670445431,{"$f":"F14*((1+Simulador!$C$10)^B14-1)","v":671.57283958002085},253.75098452168663,{"$f":"F14*Simulador!$F$8","v":39.351473011336296},964.67529711304383,12863.406685923745,null,12863.406685923745]
[{"$f":"IF(OR(A14>=Simulador!$C$24,A14=0),0,A14+1)","v":12},31,364,"2026-10-06","2026-11-06",12863.406685923745,{"$f":"F15*((1+Simulador!$C$10)^B15-1)","v":681.10534888943971},244.97972816583285,{"$f":"F15*Simulador!$F$8","v":38.590220057771234},964.67529711304383,12618.426957757913,null,12618.426957757913]
[{"$f":"IF(OR(A15>=Simulador!$C$24,A15=0),0,A15+1)","v":13},30,394,"2026-11-06","2026-12-06",{"$f":"K15","v":12618.426957757913},{"$f":"F16*((1+Simulador!$C$10)^B16-1)","v":646.03880169466618},{"$f":"J16-I16-G16","v":280.78121454510392},{"$f":"F16*Simulador!$F$8","v":37.855280873273742},964.67529711304383,{"$f":"F16-H16","v":12337.645743212808},null,{"$f":"K16-L16","v":12337.645743212808}]
[{"$f":"IF(OR(A16>=Simulador!$C$24,A16=0),0,A16+1)","v":14},31,425,"2026-12-06","2027-01-06",12337.645743212808,{"$f":"F17*((1+Simulador!$C$10)^B17-1)","v":653.2667988800215},274.39556100338393,{"$f":"F17*Simulador!$F$8","v":37.012937229638425},964.67529711304383,12063.250182209424,null,12063.250182209424]
[{"$f":"IF(OR(A17>=Simulador!$C$24,A17=0),0,A17+1)","v":15},31,456,"2027-01-06","2027-02-06",12063.250182209424,{"$f":"F18*((1+Simulador!$C$10)^B18-1)","v":638.73781065208675},289.74773591432881,{"$f":"F18*Simulador!$F$8","v":36.189750546628275},964.67529711304383,11773.502446295095,null,11773.502446295095]
[{"$f":"IF(OR(A18>=Simulador!$C$24,A18=0),0,A18+1)","v":16},{"$f":"IFERROR(_xlfn.DAYS(E19,D19),\"\")","v":28},{"$f":"IFERROR(C18+B19,\"\")","v":484},{"$f":"IF(A19<>0,E18,\"\")","v":"2027-02-06"},"2027-03-06",{"$f":"K18","v":11773.502446295095},{"$f":"F19*((1+Simulador!$C$10)^B19-1)","v":561.65186747149164},{"$f":"J19-I19-G19","v":367.70292230266693},{"$f":"F19*Simulador!$F$8","v":35.320507338885285},964.67529711304383,{"$f":"F19-H19","v":11405.799523992428},null,{"$f":"K19-L19","v":11405.799523992428}]
[{"$f":"IF(OR(A19>=Simulador!$C$24,A19=0),0,A19+1)","v":17},31,515,"2027-03-06","2027-04-06",11405.799523992428,{"$f":"F20*((1+Simulador!$C$10)^B20-1)","v":603.92641341681986},326.53148512424673,{"$f":"F20*Simulador!$F$8","v":34.217398571977284},964.67529711304383,11079.26803886818,null,11079.26803886818]
[{"$f":"IF(OR(A20>=Simulador!$C$24,A20=0),0,A20+1)","v":18},30,545,"2027-04-06","2027-05-06",11079.26803886818,{"$f":"F21*((1+Simulador!$C$10)^B21-1)","v":567.23687282461458},364.20062017182465,{"$f":"F21*Simulador!$F$8","v":33.237804116604543},964.67529711304383,10715.067418696355,null,10715.067418696355]
[{"$f":"IF(OR(A21>=Simulador!$C$24,A21=0),0,A21+1)","v":19},31,576,"2027-05-06","2027-06-06",10715.067418696355,{"$f":"F22*((1+Simulador!$C$10)^B22-1)","v":567.35279469716625},365.1773001597885,{"$f":"F22*Simulador!$F$8","v":32.145202256089064},964.67529711304383,10349.890118536567,null,10349.890118536567]
[{"$f":"IF(OR(A22>=Simulador!$C$24,A22=0),0,A22+1)","v":20},30,606,"2027-06-06","2027-07-06",10349.890118536567,{"$f":"F23*((1+Simulador!$C$10)^B23-1)","v":529.8941486315739},403.73147812586024,{"$f":"F23*Simulador!$F$8","v":31.049670355609699},964.67529711304383,9946.1586404107056,null,9946.1586404107056]
[{"$f":"IF(OR(A23>=Simulador!$C$24,A23=0),0,A23+1)","v":21},31,637,"2027-07-06","2027-08-06",9946.1586404107056,{"$f":"F24*((1+Simulador!$C$10)^B24-1)","v":526.63979428558116},408.19702690623058,{"$f":"F24*Simulador!$F$8","v":29.838475921232117},964.67529711304383,9537.9616135044744,null,9537.9616135044744]
[{"$f":"IF(OR(A24>=Simulador!$C$24,A24=0),0,A24+1)","v":22},31,668,"2027-08-06","2027-09-06",9537.9616135044744,{"$f":"F25*((1+Simulador!$C$10)^B25-1)","v":505.02614362406234},431.0352686484681,{"$f":"F25*Simulador!$F$8","v":28.613884840513425},964.67529711304383,9106.9263448560068,null,9106.9263448560068]
[{"$f":"IF(OR(A25>=Simulador!$C$24,A25=0),0,A25+1)","v":23},30,698,"2027-09-06","2027-10-06",9106.9263448560068,{"$f":"F26*((1+Simulador!$C$10)^B26-1)","v":466.25683238077318},471.09768569770267,{"$f":"F26*Simulador!$F$8","v":27.320779034568019},964.67529711304383,8635.8286591583037,null,8635.8286591583037]
[{"$f":"IF(OR(A26>=Simulador!$C$24,A26=0),0,A26+1)","v":24},31,729,"2027-10-06","2027-11-06",8635.8286591583037,{"$f":"F27*((1+Simulador!$C$10)^B27-1)","v":457.25904773592629},481.50876339964259,{"$f":"F27*Simulador!$F$8","v":25.907485977474913},964.67529711304383,8154.319895758661,null,8154.319895758661]
[{"$f":"IF(OR(A27>=Simulador!$C$24,A27=0),0,A27+1)","v":25},30,759,"2027-11-06","2027-12-06",8154.319895758661,{"$f":"F28*((1+Simulador!$C$10)^B28-1)","v":417.48524374126413},522.72709368450364,{"$f":"F28*Simulador!$F$8","v":24.462959687275983},964.67529711304383,7631.5928020741576,null,7631.5928020741576]
[{"$f":"IF(OR(A28>=Simulador!$C$24,A28=0),0,A28+1)","v":26},31,790,"2027-12-06","2028-01-06",7631.5928020741576,{"$f":"F29*((1+Simulador!$C$10)^B29-1)","v":404.08569867629774},537.6948200305236,{"$f":"F29*Simulador!$F$8","v":22.894778406222475},964.67529711304383,7093.8979820436343,null,7093.8979820436343]
[{"$f":"IF(OR(A29>=Simulador!$C$24,A29=0),0,A29+1)","v":27},31,821,"2028-01-06","2028-02-06",7093.8979820436343,{"$f":"F30*((1+Simulador!$C$10)^B30-1)","v":375.61526102826076},567.77834213865219,{"$f":"F30*Simulador!$F$8","v":21.281693946130904},964.67529711304383,6526.1196399049823,null,6526.1196399049823]
[{"$f":"IF(OR(A30>=Simulador!$C$24,A30=0),0,A30+1)","v":28},29,850,"2028-02-06","2028-03-06",6526.1196399049823,{"$f":"F31*((1+Simulador!$C$10)^B31-1)","v":322.71621911619809},622.38071907713083,{"$f":"F31*Simulador!$F$8","v":19.578358919714947},964.67529711304383,5903.738920827851,null,5903.738920827851]
[{"$f":"IF(OR(A31>=Simulador!$C$24,A31=0),0,A31+1)","v":29},31,881,"2028-03-06","2028-04-06",5903.738920827851,{"$f":"F32*((1+Simulador!$C$10)^B32-1)","v":312.59745226144639},634.36662808911387,{"$f":"F32*Simulador!$F$8","v":17.711216762483552},964.67529711304383,5269.3722927387371,null,5269.3722927387371]
[{"$f":"IF(OR(A32>=Simulador!$C$24,A32=0),0,A32+1)","v":30},30,911,"2028-04-06","2028-05-06",5269.3722927387371,{"$f":"F33*((1+Simulador!$C$10)^B33-1)","v":269.78156414267369},679.08561609215394,{"$f":"F33*Simulador!$F$8","v":15.808116878216211},964.67529711304383,4590.2866766465831,null,4590.2866766465831]
[{"$f":"IF(OR(A33>=Simulador!$C$24,A33=0),0,A33+1)","v":31},31,942,"2028-05-06","2028-06-06",4590.2866766465831,{"$f":"F34*((1+Simulador!$C$10)^B34-1)","v":243.05138481092814},707.853052272176,{"$f":"F34*Simulador!$F$8","v":13.770860029939749},964.67529711304383,3882.4336243744074,null,3882.4336243744074]
[{"$f":"IF(OR(A34>=Simulador!$C$24,A34=0),0,A34+1)","v":32},30,972,"2028-06-06","2028-07-06",3882.4336243744074,{"$f":"F35*((1+Simulador!$C$10)^B35-1)","v":198.77301463538274},754.25498160453787,{"$f":"F35*Simulador!$F$8","v":11.647300873123223},964.67529711304383,3128.1786427698694,null,3128.1786427698694]
[{"$f":"IF(OR(A35>=Simulador!$C$24,A35=0),0,A35+1)","v":33},31,1003,"2028-07-06","2028-08-06",3128.1786427698694,{"$f":"F36*((1+Simulador!$C$10)^B36-1)","v":165.63413237985972},789.65662880487457,{"$f":"F36*Simulador!$F$8","v":9.3845359283096084},964.67529711304383,2338.5220139649946,null,2338.5220139649946]
[{"$f":"IF(OR(A36>=Simulador!$C$24,A36=0),0,A36+1)","v":34},31,1034,"2028-08-06","2028-09-06",2338.5220139649946,{"$f":"F37*((1+Simulador!$C$10)^B37-1)","v":123.82255269517529},833.83717837597351,{"$f":"F37*Simulador!$F$8","v":7.0155660418949841},964.67529711304383,1504.6848355890211,null,1504.6848355890211]
[{"$f":"IF(OR(A37>=Simulador!$C$24,A37=0),0,A37+1)","v":35},30,1064,"2028-09-06","2028-10-06",1504.6848355890211,{"$f":"F38*((1+Simulador!$C$10)^B38-1)","v":77.036923173250301},883.12431943302647,{"$f":"F38*Simulador!$F$8","v":4.5140545067670637},964.67529711304383,621.56051615599461,null,621.56051615599461]
[{"$f":"IF(OR(A38>=Simulador!$C$24,A38=0),0,A38+1)","v":36},31,1095,"2028-10-06","2028-11-06",621.56051615599461,{"$f":"F39*((1+Simulador!$C$10)^B39-1)","v":32.911047792307869},929.89956777226803,{"$f":"F39*Simulador!$F$8","v":1.864681548467984},964.67529711304383,-308.33905161627342,null,-308.33905161627342]
[{"$f":"IF(OR(A39>=Simulador!$C$24,A39=0),0,A39+1)","v":0},"","","","",-308.33905161627342,{"$f":"F40*((1+Simulador!$C$10)^B40-1)","v":{"$error":"#VALUE!"}},{"$error":"#VALUE!"},{"$f":"F40*Simulador!$F$8","v":-0.9250171548488203},964.67529711304383,{"$error":"#VALUE!"},null,{"$error":"#VALUE!"}]
[{"$f":"IF(OR(A40>=Simulador!$C$24,A40=0),0,A40+1)","v":0},"","","","",{"$error":"#VALUE!"},{"$f":"F41*((1+Simulador!$C$10)^B41-1)","v":{"$error":"#VALUE!"}},{"$error":"#VALUE!"},{"$f":"F41*Simulador!$F$8","v":{"$error":"#VALUE!"}},964.67529711304383,{"$error":"#VALUE!"},null,{"$error":"#VALUE!"}]
[{"$f":"IF(OR(A41>=Simulador!$C$24,A41=0),0,A41+1)","v":0},"","","","",{"$error":"#VALUE!"},{"$f":"F42*((1+Simulador!$C$10)^B42-1)","v":{"$error":"#VALUE!"}},{"$error":"#VALUE!"},{"$f":"F42*Simulador!$F$8","v":{"$error":"#VALUE!"}},964.67529711304383,{"$error":"#VALUE!"},null,{"$error":"#VALUE!"}]
[{"$f":"IF(OR(A42>=Simulador!$C$24,A42=0),0,A42+1)","v":0},"","","","",{"$error":"#VALUE!"},{"$f":"F43*((1+Simulador!$C$10)^B43-1)","v":{"$error":"#VALUE!"}},{"$error":"#VALUE!"},{"$f":"F43*Simulador!$F$8","v":{"$error":"#VALUE!"}},964.67529711304383,{"$error":"#VALUE!"},null,{"$error":"#VALUE!"}]
[{"$f":"IF(OR(A43>=Simulador!$C$24,A43=0),0,A43+1)","v":0},"","","","",{"$error":"#VALUE!"},{"$f":"F44*((1+Simulador!$C$10)^B44-1)","v":{"$error":"#VALUE!"}},{"$error":"#VALUE!"},{"$f":"F44*Simulador!$F$8","v":{"$error":"#VALUE!"}},964.67529711304383,{"$error":"#VALUE!"},null,{"$error":"#VALUE!"}]
[{"$f":"IF(OR(A44>=Simulador!$C$24,A44=0),0,A44+1)","v":0},"","","","",{"$error":"#VALUE!"},{"$f":"F45*((1+Simulador!$C$10)^B45-1)","v":{"$error":"#VALUE!"}},{"$error":"#VALUE!"},{"$f":"F45*Simulador!$F$8","v":{"$error":"#VALUE!"}},964.67529711304383,{"$error":"#VALUE!"},null,{"$error":"#VALUE!"}]
[{"$f":"IF(OR(A45>=Simulador!$C$24,A45=0),0,A45+1)","v":0},"","","","",{"$error":"#VALUE!"},{"$f":"F46*((1+Simulador!$C$10)^B46-1)","v":{"$error":"#VALUE!"}},{"$error":"#VALUE!"},{"$f":"F46*Simulador!$F$8","v":{"$error":"#VALUE!"}},964.67529711304383,{"$error":"#VALUE!"},null,{"$error":"#VALUE!"}]
[{"$f":"IF(OR(A46>=Simulador!$C$24,A46=0),0,A46+1)","v":0},"","","","",{"$error":"#VALUE!"},{"$f":"F47*((1+Simulador!$C$10)^B47-1)","v":{"$error":"#VALUE!"}},{"$error":"#VALUE!"},{"$f":"F47*Simulador!$F$8","v":{"$error":"#VALUE!"}},964.67529711304383,{"$error":"#VALUE!"},null,{"$error":"#VALUE!"}]
[{"$f":"IF(OR(A47>=Simulador!$C$24,A47=0),0,A47+1)","v":0},"","","","",{"$error":"#VALUE!"},{"$f":"F48*((1+Simulador!$C$10)^B48-1)","v":{"$error":"#VALUE!"}},{"$error":"#VALUE!"},{"$f":"F48*Simulador!$F$8","v":{"$error":"#VALUE!"}},964.67529711304383,{"$error":"#VALUE!"},null,{"$error":"#VALUE!"}]
[{"$f":"IF(OR(A48>=Simulador!$C$24,A48=0),0,A48+1)","v":0},"","","","",{"$error":"#VALUE!"},{"$f":"F49*((1+Simulador!$C$10)^B49-1)","v":{"$error":"#VALUE!"}},{"$error":"#VALUE!"},{"$f":"F49*Simulador!$F$8","v":{"$error":"#VALUE!"}},964.67529711304383,{"$error":"#VALUE!"},null,{"$error":"#VALUE!"}]
[{"$f":"IF(OR(A49>=Simulador!$C$24,A49=0),0,A49+1)","v":0},"","","","",{"$error":"#VALUE!"},{"$f":"F50*((1+Simulador!$C$10)^B50-1)","v":{"$error":"#VALUE!"}},{"$error":"#VALUE!"},{"$f":"F50*Simulador!$F$8","v":{"$error":"#VALUE!"}},964.67529711304383,{"$error":"#VALUE!"},null,{"$error":"#VALUE!"}]
[{"$f":"IF(OR(A50>=Simulador!$C$24,A50=0),0,A50+1)","v":0},"","","","",{"$error":"#VALUE!"},{"$f":"F51*((1+Simulador!$C$10)^B51-1)","v":{"$error":"#VALUE!"}},{"$error":"#VALUE!"},{"$f":"F51*Simulador!$F$8","v":{"$error":"#VALUE!"}},964.67529711304383,{"$error":"#VALUE!"},null,{"$error":"#VALUE!"}]
[{"$f":"IF(OR(A51>=Simulador!$C$24,A51=0),0,A51+1)","v":0},"","","","",{"$error":"#VALUE!"},{"$f":"F52*((1+Simulador!$C$10)^B52-1)","v":{"$error":"#VALUE!"}},{"$error":"#VALUE!"},{"$f":"F52*Simulador!$F$8","v":{"$error":"#VALUE!"}},964.67529711304383,{"$error":"#VALUE!"},null,{"$error":"#VALUE!"}]
[{"$f":"IF(OR(A52>=Simulador!$C$24,A52=0),0,A52+1)","v":0},"","","","",{"$error":"#VALUE!"},{"$f":"F53*((1+Simulador!$C$10)^B53-1)","v":{"$error":"#VALUE!"}},{"$error":"#VALUE!"},{"$f":"F53*Simulador!$F$8","v":{"$error":"#VALUE!"}},964.67529711304383,{"$error":"#VALUE!"},null,{"$error":"#VALUE!"}]
[{"$f":"IF(OR(A53>=Simulador!$C$24,A53=0),0,A53+1)","v":0},"","","","",{"$error":"#VALUE!"},{"$f":"F54*((1+Simulador!$C$10)^B54-1)","v":{"$error":"#VALUE!"}},{"$error":"#VALUE!"},{"$f":"F54*Simulador!$F$8","v":{"$error":"#VALUE!"}},964.67529711304383,{"$error":"#VALUE!"},null,{"$error":"#VALUE!"}]
[{"$f":"IF(OR(A54>=Simulador!$C$24,A54=0),0,A54+1)","v":0},"","","","",{"$error":"#VALUE!"},{"$f":"F55*((1+Simulador!$C$10)^B55-1)","v":{"$error":"#VALUE!"}},{"$error":"#VALUE!"},{"$f":"F55*Simulador!$F$8","v":{"$error":"#VALUE!"}},964.67529711304383,{"$error":"#VALUE!"},null,{"$error":"#VALUE!"}]
[{"$f":"IF(OR(A55>=Simulador!$C$24,A55=0),0,A55+1)","v":0},"","","","",{"$error":"#VALUE!"},{"$f":"F56*((1+Simulador!$C$10)^B56-1)","v":{"$error":"#VALUE!"}},{"$error":"#VALUE!"},{"$f":"F56*Simulador!$F$8","v":{"$error":"#VALUE!"}},964.67529711304383,{"$error":"#VALUE!"},null,{"$error":"#VALUE!"}]
[{"$f":"IF(OR(A56>=Simulador!$C$24,A56=0),0,A56+1)","v":0},"","","","",{"$error":"#VALUE!"},{"$f":"F57*((1+Simulador!$C$10)^B57-1)","v":{"$error":"#VALUE!"}},{"$error":"#VALUE!"},{"$f":"F57*Simulador!$F$8","v":{"$error":"#VALUE!"}},964.67529711304383,{"$error":"#VALUE!"},null,{"$error":"#VALUE!"}]
[{"$f":"IF(OR(A57>=Simulador!$C$24,A57=0),0,A57+1)","v":0},"","","","",{"$error":"#VALUE!"},{"$f":"F58*((1+Simulador!$C$10)^B58-1)","v":{"$error":"#VALUE!"}},{"$error":"#VALUE!"},{"$f":"F58*Simulador!$F$8","v":{"$error":"#VALUE!"}},964.67529711304383,{"$error":"#VALUE!"},null,{"$error":"#VALUE!"}]
[{"$f":"IF(OR(A58>=Simulador!$C$24,A58=0),0,A58+1)","v":0},"","","","",{"$error":"#VALUE!"},{"$f":"F59*((1+Simulador!$C$10)^B59-1)","v":{"$error":"#VALUE!"}},{"$error":"#VALUE!"},{"$f":"F59*Simulador!$F$8","v":{"$error":"#VALUE!"}},964.67529711304383,{"$error":"#VALUE!"},null,{"$error":"#VALUE!"}]
[{"$f":"IF(OR(A59>=Simulador!$C$24,A59=0),0,A59+1)","v":0},"","","","",{"$error":"#VALUE!"},{"$f":"F60*((1+Simulador!$C$10)^B60-1)","v":{"$error":"#VALUE!"}},{"$error":"#VALUE!"},{"$f":"F60*Simulador!$F$8","v":{"$error":"#VALUE!"}},964.67529711304383,{"$error":"#VALUE!"},null,{"$error":"#VALUE!"}]
[{"$f":"IF(OR(A60>=Simulador!$C$24,A60=0),0,A60+1)","v":0},"","","","",{"$error":"#VALUE!"},{"$f":"F61*((1+Simulador!$C$10)^B61-1)","v":{"$error":"#VALUE!"}},{"$error":"#VALUE!"},{"$f":"F61*Simulador!$F$8","v":{"$error":"#VALUE!"}},964.67529711304383,{"$error":"#VALUE!"},null,{"$error":"#VALUE!"}]
[{"$f":"IF(OR(A61>=Simulador!$C$24,A61=0),0,A61+1)","v":0},"","","","",{"$error":"#VALUE!"},{"$f":"F62*((1+Simulador!$C$10)^B62-1)","v":{"$error":"#VALUE!"}},{"$error":"#VALUE!"},{"$f":"F62*Simulador!$F$8","v":{"$error":"#VALUE!"}},964.67529711304383,{"$error":"#VALUE!"},null,{"$error":"#VALUE!"}]
[{"$f":"IF(OR(A62>=Simulador!$C$24,A62=0),0,A62+1)","v":0},"","","","",{"$error":"#VALUE!"},{"$f":"F63*((1+Simulador!$C$10)^B63-1)","v":{"$error":"#VALUE!"}},{"$error":"#VALUE!"},{"$f":"F63*Simulador!$F$8","v":{"$error":"#VALUE!"}},964.67529711304383,{"$error":"#VALUE!"},null,{"$error":"#VALUE!"}]
[{"$f":"IF(OR(A63>=Simulador!$C$24,A63=0),0,A63+1)","v":0},"","","","",{"$error":"#VALUE!"},{"$f":"F64*((1+Simulador!$C$10)^B64-1)","v":{"$error":"#VALUE!"}},{"$error":"#VALUE!"},{"$f":"F64*Simulador!$F$8","v":{"$error":"#VALUE!"}},964.67529711304383,{"$error":"#VALUE!"},null,{"$error":"#VALUE!"}]
[{"$f":"IF(OR(A64>=Simulador!$C$24,A64=0),0,A64+1)","v":0},"","","","",{"$error":"#VALUE!"},{"$f":"F65*((1+Simulador!$C$10)^B65-1)","v":{"$error":"#VALUE!"}},{"$error":"#VALUE!"},{"$f":"F65*Simulador!$F$8","v":{"$error":"#VALUE!"}},964.67529711304383,{"$error":"#VALUE!"},null,{"$error":"#VALUE!"}]
[{"$f":"IF(OR(A65>=Simulador!$C$24,A65=0),0,A65+1)","v":0},"","","","",{"$error":"#VALUE!"},{"$f":"F66*((1+Simulador!$C$10)^B66-1)","v":{"$error":"#VALUE!"}},{"$error":"#VALUE!"},{"$f":"F66*Simulador!$F$8","v":{"$error":"#VALUE!"}},964.67529711304383,{"$error":"#VALUE!"},null,{"$error":"#VALUE!"}]
[{"$f":"IF(OR(A66>=Simulador!$C$24,A66=0),0,A66+1)","v":0},"","","","",{"$error":"#VALUE!"},{"$f":"F67*((1+Simulador!$C$10)^B67-1)","v":{"$error":"#VALUE!"}},{"$error":"#VALUE!"},{"$f":"F67*Simulador!$F$8","v":{"$error":"#VALUE!"}},964.67529711304383,{"$error":"#VALUE!"},null,{"$error":"#VALUE!"}]
[{"$f":"IF(OR(A67>=Simulador!$C$24,A67=0),0,A67+1)","v":0},"","","","",{"$error":"#VALUE!"},{"$f":"F68*((1+Simulador!$C$10)^B68-1)","v":{"$error":"#VALUE!"}},{"$error":"#VALUE!"},{"$f":"F68*Simulador!$F$8","v":{"$error":"#VALUE!"}},964.67529711304383,{"$error":"#VALUE!"},null,{"$error":"#VALUE!"}]
[{"$f":"IF(OR(A68>=Simulador!$C$24,A68=0),0,A68+1)","v":0},"","","","",{"$error":"#VALUE!"},{"$f":"F69*((1+Simulador!$C$10)^B69-1)","v":{"$error":"#VALUE!"}},{"$error":"#VALUE!"},{"$f":"F69*Simulador!$F$8","v":{"$error":"#VALUE!"}},964.67529711304383,{"$error":"#VALUE!"},null,{"$error":"#VALUE!"}]
[{"$f":"IF(OR(A69>=Simulador!$C$24,A69=0),0,A69+1)","v":0},"","","",{"$f":"IFERROR(EDATE(D70,1),\"\")","v":""},{"$error":"#VALUE!"},{"$f":"F70*((1+Simulador!$C$10)^B70-1)","v":{"$error":"#VALUE!"}},{"$error":"#VALUE!"},{"$f":"F70*Simulador!$F$8","v":{"$error":"#VALUE!"}},{"$f":"$J$4","v":964.67529711304383},{"$error":"#VALUE!"},null,{"$error":"#VALUE!"}]
[{"$f":"IF(OR(A70>=Simulador!$C$24,A70=0),0,A70+1)","v":0},"","","","",{"$error":"#VALUE!"},{"$f":"F71*((1+Simulador!$C$10)^B71-1)","v":{"$error":"#VALUE!"}},{"$error":"#VALUE!"},{"$f":"F71*Simulador!$F$8","v":{"$error":"#VALUE!"}},964.67529711304383,{"$error":"#VALUE!"},null,{"$error":"#VALUE!"}]
[{"$f":"IF(OR(A71>=Simulador!$C$24,A71=0),0,A71+1)","v":0},"","","","",{"$error":"#VALUE!"},{"$f":"F72*((1+Simulador!$C$10)^B72-1)","v":{"$error":"#VALUE!"}},{"$error":"#VALUE!"},{"$f":"F72*Simulador!$F$8","v":{"$error":"#VALUE!"}},964.67529711304383,{"$error":"#VALUE!"},null,{"$error":"#VALUE!"}]
[{"$f":"IF(OR(A72>=Simulador!$C$24,A72=0),0,A72+1)","v":0},"","","","",{"$error":"#VALUE!"},{"$f":"F73*((1+Simulador!$C$10)^B73-1)","v":{"$error":"#VALUE!"}},{"$error":"#VALUE!"},{"$f":"F73*Simulador!$F$8","v":{"$error":"#VALUE!"}},964.67529711304383,{"$error":"#VALUE!"},null,{"$error":"#VALUE!"}]
[{"$f":"IF(OR(A73>=Simulador!$C$24,A73=0),0,A73+1)","v":0},"","","","",{"$error":"#VALUE!"},{"$f":"F74*((1+Simulador!$C$10)^B74-1)","v":{"$error":"#VALUE!"}},{"$error":"#VALUE!"},{"$f":"F74*Simulador!$F$8","v":{"$error":"#VALUE!"}},964.67529711304383,{"$error":"#VALUE!"},null,{"$error":"#VALUE!"}]
[{"$f":"IF(OR(A74>=Simulador!$C$24,A74=0),0,A74+1)","v":0},"","","","",{"$error":"#VALUE!"},{"$f":"F75*((1+Simulador!$C$10)^B75-1)","v":{"$error":"#VALUE!"}},{"$error":"#VALUE!"},{"$f":"F75*Simulador!$F$8","v":{"$error":"#VALUE!"}},964.67529711304383,{"$error":"#VALUE!"},null,{"$error":"#VALUE!"}]
[{"$f":"IF(OR(A75>=Simulador!$C$24,A75=0),0,A75+1)","v":0},"","","","",{"$error":"#VALUE!"},{"$f":"F76*((1+Simulador!$C$10)^B76-1)","v":{"$error":"#VALUE!"}},{"$error":"#VALUE!"},{"$f":"F76*Simulador!$F$8","v":{"$error":"#VALUE!"}},964.67529711304383,{"$error":"#VALUE!"},null,{"$error":"#VALUE!"}]
[{"$f":"IF(OR(A76>=Simulador!$C$24,A76=0),0,A76+1)","v":0},"","","","",{"$error":"#VALUE!"},{"$f":"F77*((1+Simulador!$C$10)^B77-1)","v":{"$error":"#VALUE!"}},{"$error":"#VALUE!"},{"$f":"F77*Simulador!$F$8","v":{"$error":"#VALUE!"}},964.67529711304383,{"$error":"#VALUE!"},null,{"$error":"#VALUE!"}]
[{"$f":"IF(OR(A77>=Simulador!$C$24,A77=0),0,A77+1)","v":0},"","","","",{"$error":"#VALUE!"},{"$f":"F78*((1+Simulador!$C$10)^B78-1)","v":{"$error":"#VALUE!"}},{"$error":"#VALUE!"},{"$f":"F78*Simulador!$F$8","v":{"$error":"#VALUE!"}},964.67529711304383,{"$error":"#VALUE!"},null,{"$error":"#VALUE!"}]
[{"$f":"IF(OR(A78>=Simulador!$C$24,A78=0),0,A78+1)","v":0},"","","","",{"$error":"#VALUE!"},{"$f":"F79*((1+Simulador!$C$10)^B79-1)","v":{"$error":"#VALUE!"}},{"$error":"#VALUE!"},{"$f":"F79*Simulador!$F$8","v":{"$error":"#VALUE!"}},964.67529711304383,{"$error":"#VALUE!"},null,{"$error":"#VALUE!"}]
[{"$f":"IF(OR(A79>=Simulador!$C$24,A79=0),0,A79+1)","v":0},"","","","",{"$error":"#VALUE!"},{"$f":"F80*((1+Simulador!$C$10)^B80-1)","v":{"$error":"#VALUE!"}},{"$error":"#VALUE!"},{"$f":"F80*Simulador!$F$8","v":{"$error":"#VALUE!"}},964.67529711304383,{"$error":"#VALUE!"},null,{"$error":"#VALUE!"}]
[{"$f":"IF(OR(A80>=Simulador!$C$24,A80=0),0,A80+1)","v":0},"","","","",{"$error":"#VALUE!"},{"$f":"F81*((1+Simulador!$C$10)^B81-1)","v":{"$error":"#VALUE!"}},{"$error":"#VALUE!"},{"$f":"F81*Simulador!$F$8","v":{"$error":"#VALUE!"}},964.67529711304383,{"$error":"#VALUE!"},null,{"$error":"#VALUE!"}]
[{"$f":"IF(OR(A81>=Simulador!$C$24,A81=0),0,A81+1)","v":0},"","","","",{"$error":"#VALUE!"},{"$f":"F82*((1+Simulador!$C$10)^B82-1)","v":{"$error":"#VALUE!"}},{"$error":"#VALUE!"},{"$f":"F82*Simulador!$F$8","v":{"$error":"#VALUE!"}},964.67529711304383,{"$error":"#VALUE!"},null,{"$error":"#VALUE!"}]
[{"$f":"IF(OR(A82>=Simulador!$C$24,A82=0),0,A82+1)","v":0},{"$f":"IFERROR(_xlfn.DAYS(E83,D83),\"\")","v":""},{"$f":"IFERROR(C82+B83,\"\")","v":""},{"$f":"IF(A83<>0,E82,\"\")","v":""},"",{"$f":"K82","v":{"$error":"#VALUE!"}},{"$f":"F83*((1+Simulador!$C$10)^B83-1)","v":{"$error":"#VALUE!"}},{"$f":"J83-I83-G83","v":{"$error":"#VALUE!"}},{"$f":"F83*Simulador!$F$8","v":{"$error":"#VALUE!"}},964.67529711304383,{"$f":"F83-H83","v":{"$error":"#VALUE!"}},null,{"$f":"K83-L83","v":{"$error":"#VALUE!"}}]
[{"$f":"IF(OR(A83>=Simulador!$C$24,A83=0),0,A83+1)","v":0},"","","","",{"$error":"#VALUE!"},{"$f":"F84*((1+Simulador!$C$10)^B84-1)","v":{"$error":"#VALUE!"}},{"$error":"#VALUE!"},{"$f":"F84*Simulador!$F$8","v":{"$error":"#VALUE!"}},964.67529711304383,{"$error":"#VALUE!"},null,{"$error":"#VALUE!"}]
[{"$f":"IF(OR(A84>=Simulador!$C$24,A84=0),0,A84+1)","v":0},"","","","",{"$error":"#VALUE!"},{"$f":"F85*((1+Simulador!$C$10)^B85-1)","v":{"$error":"#VALUE!"}},{"$error":"#VALUE!"},{"$f":"F85*Simulador!$F$8","v":{"$error":"#VALUE!"}},964.67529711304383,{"$error":"#VALUE!"},null,{"$error":"#VALUE!"}]
[{"$f":"IF(OR(A85>=Simulador!$C$24,A85=0),0,A85+1)","v":0},"","","","",{"$error":"#VALUE!"},{"$f":"F86*((1+Simulador!$C$10)^B86-1)","v":{"$error":"#VALUE!"}},{"$error":"#VALUE!"},{"$f":"F86*Simulador!$F$8","v":{"$error":"#VALUE!"}},964.67529711304383,{"$error":"#VALUE!"},null,{"$error":"#VALUE!"}]
[{"$f":"IF(OR(A86>=Simulador!$C$24,A86=0),0,A86+1)","v":0},"","","","",{"$error":"#VALUE!"},{"$f":"F87*((1+Simulador!$C$10)^B87-1)","v":{"$error":"#VALUE!"}},{"$error":"#VALUE!"},{"$f":"F87*Simulador!$F$8","v":{"$error":"#VALUE!"}},964.67529711304383,{"$error":"#VALUE!"},null,{"$error":"#VALUE!"}]
[{"$f":"IF(OR(A87>=Simulador!$C$24,A87=0),0,A87+1)","v":0},"","","","",{"$error":"#VALUE!"},{"$f":"F88*((1+Simulador!$C$10)^B88-1)","v":{"$error":"#VALUE!"}},{"$error":"#VALUE!"},{"$f":"F88*Simulador!$F$8","v":{"$error":"#VALUE!"}},964.67529711304383,{"$error":"#VALUE!"},null,{"$error":"#VALUE!"}]
[{"$f":"IF(OR(A88>=Simulador!$C$24,A88=0),0,A88+1)","v":0},"","","","",{"$error":"#VALUE!"},{"$f":"F89*((1+Simulador!$C$10)^B89-1)","v":{"$error":"#VALUE!"}},{"$error":"#VALUE!"},{"$f":"F89*Simulador!$F$8","v":{"$error":"#VALUE!"}},964.67529711304383,{"$error":"#VALUE!"},null,{"$error":"#VALUE!"}]
[{"$f":"IF(OR(A89>=Simulador!$C$24,A89=0),0,A89+1)","v":0},"","","","",{"$error":"#VALUE!"},{"$f":"F90*((1+Simulador!$C$10)^B90-1)","v":{"$error":"#VALUE!"}},{"$error":"#VALUE!"},{"$f":"F90*Simulador!$F$8","v":{"$error":"#VALUE!"}},964.67529711304383,{"$error":"#VALUE!"},null,{"$error":"#VALUE!"}]
[{"$f":"IF(OR(A90>=Simulador!$C$24,A90=0),0,A90+1)","v":0},"","","","",{"$error":"#VALUE!"},{"$f":"F91*((1+Simulador!$C$10)^B91-1)","v":{"$error":"#VALUE!"}},{"$error":"#VALUE!"},{"$f":"F91*Simulador!$F$8","v":{"$error":"#VALUE!"}},964.67529711304383,{"$error":"#VALUE!"},null,{"$error":"#VALUE!"}]
[{"$f":"IF(OR(A91>=Simulador!$C$24,A91=0),0,A91+1)","v":0},"","","","",{"$error":"#VALUE!"},{"$f":"F92*((1+Simulador!$C$10)^B92-1)","v":{"$error":"#VALUE!"}},{"$error":"#VALUE!"},{"$f":"F92*Simulador!$F$8","v":{"$error":"#VALUE!"}},964.67529711304383,{"$error":"#VALUE!"},null,{"$error":"#VALUE!"}]
[{"$f":"IF(OR(A92>=Simulador!$C$24,A92=0),0,A92+1)","v":0},"","","","",{"$error":"#VALUE!"},{"$f":"F93*((1+Simulador!$C$10)^B93-1)","v":{"$error":"#VALUE!"}},{"$error":"#VALUE!"},{"$f":"F93*Simulador!$F$8","v":{"$error":"#VALUE!"}},964.67529711304383,{"$error":"#VALUE!"},null,{"$error":"#VALUE!"}]
[{"$f":"IF(OR(A93>=Simulador!$C$24,A93=0),0,A93+1)","v":0},"","","","",{"$error":"#VALUE!"},{"$f":"F94*((1+Simulador!$C$10)^B94-1)","v":{"$error":"#VALUE!"}},{"$error":"#VALUE!"},{"$f":"F94*Simulador!$F$8","v":{"$error":"#VALUE!"}},964.67529711304383,{"$error":"#VALUE!"},null,{"$error":"#VALUE!"}]
[{"$f":"IF(OR(A94>=Simulador!$C$24,A94=0),0,A94+1)","v":0},"","","","",{"$error":"#VALUE!"},{"$f":"F95*((1+Simulador!$C$10)^B95-1)","v":{"$error":"#VALUE!"}},{"$error":"#VALUE!"},{"$f":"F95*Simulador!$F$8","v":{"$error":"#VALUE!"}},964.67529711304383,{"$error":"#VALUE!"},null,{"$error":"#VALUE!"}]
[{"$f":"IF(OR(A95>=Simulador!$C$24,A95=0),0,A95+1)","v":0},"","","","",{"$error":"#VALUE!"},{"$f":"F96*((1+Simulador!$C$10)^B96-1)","v":{"$error":"#VALUE!"}},{"$error":"#VALUE!"},{"$f":"F96*Simulador!$F$8","v":{"$error":"#VALUE!"}},964.67529711304383,{"$error":"#VALUE!"},null,{"$error":"#VALUE!"}]
[{"$f":"IF(OR(A96>=Simulador!$C$24,A96=0),0,A96+1)","v":0},"","","","",{"$error":"#VALUE!"},{"$f":"F97*((1+Simulador!$C$10)^B97-1)","v":{"$error":"#VALUE!"}},{"$error":"#VALUE!"},{"$f":"F97*Simulador!$F$8","v":{"$error":"#VALUE!"}},964.67529711304383,{"$error":"#VALUE!"},null,{"$error":"#VALUE!"}]
[{"$f":"IF(OR(A97>=Simulador!$C$24,A97=0),0,A97+1)","v":0},"","","","",{"$error":"#VALUE!"},{"$f":"F98*((1+Simulador!$C$10)^B98-1)","v":{"$error":"#VALUE!"}},{"$error":"#VALUE!"},{"$f":"F98*Simulador!$F$8","v":{"$error":"#VALUE!"}},964.67529711304383,{"$error":"#VALUE!"},null,{"$error":"#VALUE!"}]
[{"$f":"IF(OR(A98>=Simulador!$C$24,A98=0),0,A98+1)","v":0},"","","","",{"$error":"#VALUE!"},{"$f":"F99*((1+Simulador!$C$10)^B99-1)","v":{"$error":"#VALUE!"}},{"$error":"#VALUE!"},{"$f":"F99*Simulador!$F$8","v":{"$error":"#VALUE!"}},964.67529711304383,{"$error":"#VALUE!"},null,{"$error":"#VALUE!"}]
[{"$f":"IF(OR(A99>=Simulador!$C$24,A99=0),0,A99+1)","v":0},"","","","",{"$error":"#VALUE!"},{"$f":"F100*((1+Simulador!$C$10)^B100-1)","v":{"$error":"#VALUE!"}},{"$error":"#VALUE!"},{"$f":"F100*Simulador!$F$8","v":{"$error":"#VALUE!"}},964.67529711304383,{"$error":"#VALUE!"},null,{"$error":"#VALUE!"}]
[{"$f":"IF(OR(A100>=Simulador!$C$24,A100=0),0,A100+1)","v":0},"","","","",{"$error":"#VALUE!"},{"$f":"F101*((1+Simulador!$C$10)^B101-1)","v":{"$error":"#VALUE!"}},{"$error":"#VALUE!"},{"$f":"F101*Simulador!$F$8","v":{"$error":"#VALUE!"}},964.67529711304383,{"$error":"#VALUE!"},null,{"$error":"#VALUE!"}]
[{"$f":"IF(OR(A101>=Simulador!$C$24,A101=0),0,A101+1)","v":0},"","","","",{"$error":"#VALUE!"},{"$f":"F102*((1+Simulador!$C$10)^B102-1)","v":{"$error":"#VALUE!"}},{"$error":"#VALUE!"},{"$f":"F102*Simulador!$F$8","v":{"$error":"#VALUE!"}},964.67529711304383,{"$error":"#VALUE!"},null,{"$error":"#VALUE!"}]
[{"$f":"IF(OR(A102>=Simulador!$C$24,A102=0),0,A102+1)","v":0},"","","","",{"$error":"#VALUE!"},{"$f":"F103*((1+Simulador!$C$10)^B103-1)","v":{"$error":"#VALUE!"}},{"$error":"#VALUE!"},{"$f":"F103*Simulador!$F$8","v":{"$error":"#VALUE!"}},964.67529711304383,{"$error":"#VALUE!"},null,{"$error":"#VALUE!"}]
[{"$f":"IF(OR(A103>=Simulador!$C$24,A103=0),0,A103+1)","v":0},"","","","",{"$error":"#VALUE!"},{"$f":"F104*((1+Simulador!$C$10)^B104-1)","v":{"$error":"#VALUE!"}},{"$error":"#VALUE!"},{"$f":"F104*Simulador!$F$8","v":{"$error":"#VALUE!"}},964.67529711304383,{"$error":"#VALUE!"},null,{"$error":"#VALUE!"}]
[{"$f":"IF(OR(A104>=Simulador!$C$24,A104=0),0,A104+1)","v":0},"","","","",{"$error":"#VALUE!"},{"$f":"F105*((1+Simulador!$C$10)^B105-1)","v":{"$error":"#VALUE!"}},{"$error":"#VALUE!"},{"$f":"F105*Simulador!$F$8","v":{"$error":"#VALUE!"}},964.67529711304383,{"$error":"#VALUE!"},null,{"$error":"#VALUE!"}]
[{"$f":"IF(OR(A105>=Simulador!$C$24,A105=0),0,A105+1)","v":0},"","","","",{"$error":"#VALUE!"},{"$f":"F106*((1+Simulador!$C$10)^B106-1)","v":{"$error":"#VALUE!"}},{"$error":"#VALUE!"},{"$f":"F106*Simulador!$F$8","v":{"$error":"#VALUE!"}},964.67529711304383,{"$error":"#VALUE!"},null,{"$error":"#VALUE!"}]
[{"$f":"IF(OR(A106>=Simulador!$C$24,A106=0),0,A106+1)","v":0},"","","","",{"$error":"#VALUE!"},{"$f":"F107*((1+Simulador!$C$10)^B107-1)","v":{"$error":"#VALUE!"}},{"$error":"#VALUE!"},{"$f":"F107*Simulador!$F$8","v":{"$error":"#VALUE!"}},964.67529711304383,{"$error":"#VALUE!"},null,{"$error":"#VALUE!"}]
[{"$f":"IF(OR(A107>=Simulador!$C$24,A107=0),0,A107+1)","v":0},"","","","",{"$error":"#VALUE!"},{"$f":"F108*((1+Simulador!$C$10)^B108-1)","v":{"$error":"#VALUE!"}},{"$error":"#VALUE!"},{"$f":"F108*Simulador!$F$8","v":{"$error":"#VALUE!"}},964.67529711304383,{"$error":"#VALUE!"},null,{"$error":"#VALUE!"}]
[{"$f":"IF(OR(A108>=Simulador!$C$24,A108=0),0,A108+1)","v":0},"","","","",{"$error":"#VALUE!"},{"$f":"F109*((1+Simulador!$C$10)^B109-1)","v":{"$error":"#VALUE!"}},{"$error":"#VALUE!"},{"$f":"F109*Simulador!$F$8","v":{"$error":"#VALUE!"}},964.67529711304383,{"$error":"#VALUE!"},null,{"$error":"#VALUE!"}]
[{"$f":"IF(OR(A109>=Simulador!$C$24,A109=0),0,A109+1)","v":0},"","","","",{"$error":"#VALUE!"},{"$f":"F110*((1+Simulador!$C$10)^B110-1)","v":{"$error":"#VALUE!"}},{"$error":"#VALUE!"},{"$f":"F110*Simulador!$F$8","v":{"$error":"#VALUE!"}},964.67529711304383,{"$error":"#VALUE!"},null,{"$error":"#VALUE!"}]
[{"$f":"IF(OR(A110>=Simulador!$C$24,A110=0),0,A110+1)","v":0},"","","","",{"$error":"#VALUE!"},{"$f":"F111*((1+Simulador!$C$10)^B111-1)","v":{"$error":"#VALUE!"}},{"$error":"#VALUE!"},{"$f":"F111*Simulador!$F$8","v":{"$error":"#VALUE!"}},964.67529711304383,{"$error":"#VALUE!"},null,{"$error":"#VALUE!"}]
[{"$f":"IF(OR(A111>=Simulador!$C$24,A111=0),0,A111+1)","v":0},"","","","",{"$error":"#VALUE!"},{"$f":"F112*((1+Simulador!$C$10)^B112-1)","v":{"$error":"#VALUE!"}},{"$error":"#VALUE!"},{"$f":"F112*Simulador!$F$8","v":{"$error":"#VALUE!"}},964.67529711304383,{"$error":"#VALUE!"},null,{"$error":"#VALUE!"}]
[{"$f":"IF(OR(A112>=Simulador!$C$24,A112=0),0,A112+1)","v":0},"","","","",{"$error":"#VALUE!"},{"$f":"F113*((1+Simulador!$C$10)^B113-1)","v":{"$error":"#VALUE!"}},{"$error":"#VALUE!"},{"$f":"F113*Simulador!$F$8","v":{"$error":"#VALUE!"}},964.67529711304383,{"$error":"#VALUE!"},null,{"$error":"#VALUE!"}]
[{"$f":"IF(OR(A113>=Simulador!$C$24,A113=0),0,A113+1)","v":0},"","","","",{"$error":"#VALUE!"},{"$f":"F114*((1+Simulador!$C$10)^B114-1)","v":{"$error":"#VALUE!"}},{"$error":"#VALUE!"},{"$f":"F114*Simulador!$F$8","v":{"$error":"#VALUE!"}},964.67529711304383,{"$error":"#VALUE!"},null,{"$error":"#VALUE!"}]
[{"$f":"IF(OR(A114>=Simulador!$C$24,A114=0),0,A114+1)","v":0},"","","","",{"$error":"#VALUE!"},{"$f":"F115*((1+Simulador!$C$10)^B115-1)","v":{"$error":"#VALUE!"}},{"$error":"#VALUE!"},{"$f":"F115*Simulador!$F$8","v":{"$error":"#VALUE!"}},964.67529711304383,{"$error":"#VALUE!"},null,{"$error":"#VALUE!"}]
[{"$f":"IF(OR(A115>=Simulador!$C$24,A115=0),0,A115+1)","v":0},"","","","",{"$error":"#VALUE!"},{"$f":"F116*((1+Simulador!$C$10)^B116-1)","v":{"$error":"#VALUE!"}},{"$error":"#VALUE!"},{"$f":"F116*Simulador!$F$8","v":{"$error":"#VALUE!"}},964.67529711304383,{"$error":"#VALUE!"},null,{"$error":"#VALUE!"}]
[{"$f":"IF(OR(A116>=Simulador!$C$24,A116=0),0,A116+1)","v":0},"","","","",{"$error":"#VALUE!"},{"$f":"F117*((1+Simulador!$C$10)^B117-1)","v":{"$error":"#VALUE!"}},{"$error":"#VALUE!"},{"$f":"F117*Simulador!$F$8","v":{"$error":"#VALUE!"}},964.67529711304383,{"$error":"#VALUE!"},null,{"$error":"#VALUE!"}]
[{"$f":"IF(OR(A117>=Simulador!$C$24,A117=0),0,A117+1)","v":0},"","","","",{"$error":"#VALUE!"},{"$f":"F118*((1+Simulador!$C$10)^B118-1)","v":{"$error":"#VALUE!"}},{"$error":"#VALUE!"},{"$f":"F118*Simulador!$F$8","v":{"$error":"#VALUE!"}},964.67529711304383,{"$error":"#VALUE!"},null,{"$error":"#VALUE!"}]
[{"$f":"IF(OR(A118>=Simulador!$C$24,A118=0),0,A118+1)","v":0},"","","","",{"$error":"#VALUE!"},{"$f":"F119*((1+Simulador!$C$10)^B119-1)","v":{"$error":"#VALUE!"}},{"$error":"#VALUE!"},{"$f":"F119*Simulador!$F$8","v":{"$error":"#VALUE!"}},964.67529711304383,{"$error":"#VALUE!"},null,{"$error":"#VALUE!"}]
[{"$f":"IF(OR(A119>=Simulador!$C$24,A119=0),0,A119+1)","v":0},"","","","",{"$error":"#VALUE!"},{"$f":"F120*((1+Simulador!$C$10)^B120-1)","v":{"$error":"#VALUE!"}},{"$error":"#VALUE!"},{"$f":"F120*Simulador!$F$8","v":{"$error":"#VALUE!"}},964.67529711304383,{"$error":"#VALUE!"},null,{"$error":"#VALUE!"}]
[{"$f":"IF(OR(A120>=Simulador!$C$24,A120=0),0,A120+1)","v":0},"","","","",{"$error":"#VALUE!"},{"$f":"F121*((1+Simulador!$C$10)^B121-1)","v":{"$error":"#VALUE!"}},{"$error":"#VALUE!"},{"$f":"F121*Simulador!$F$8","v":{"$error":"#VALUE!"}},964.67529711304383,{"$error":"#VALUE!"},null,{"$error":"#VALUE!"}]
[{"$f":"IF(OR(A121>=Simulador!$C$24,A121=0),0,A121+1)","v":0},"","","","",{"$error":"#VALUE!"},{"$f":"F122*((1+Simulador!$C$10)^B122-1)","v":{"$error":"#VALUE!"}},{"$error":"#VALUE!"},{"$f":"F122*Simulador!$F$8","v":{"$error":"#VALUE!"}},964.67529711304383,{"$error":"#VALUE!"},null,{"$error":"#VALUE!"}]
[{"$f":"IF(OR(A122>=Simulador!$C$24,A122=0),0,A122+1)","v":0},"","","","",{"$error":"#VALUE!"},{"$f":"F123*((1+Simulador!$C$10)^B123-1)","v":{"$error":"#VALUE!"}},{"$error":"#VALUE!"},{"$f":"F123*Simulador!$F$8","v":{"$error":"#VALUE!"}},964.67529711304383,{"$error":"#VALUE!"},null,{"$error":"#VALUE!"}]
[{"$f":"IF(OR(A123>=Simulador!$C$24,A123=0),0,A123+1)","v":0},"","","","",{"$error":"#VALUE!"},{"$f":"F124*((1+Simulador!$C$10)^B124-1)","v":{"$error":"#VALUE!"}},{"$error":"#VALUE!"},{"$f":"F124*Simulador!$F$8","v":{"$error":"#VALUE!"}},964.67529711304383,{"$error":"#VALUE!"},null,{"$error":"#VALUE!"}]
[{"$f":"IF(OR(A124>=Simulador!$C$24,A124=0),0,A124+1)","v":0},"","","","",{"$error":"#VALUE!"},{"$f":"F125*((1+Simulador!$C$10)^B125-1)","v":{"$error":"#VALUE!"}},{"$error":"#VALUE!"},{"$f":"F125*Simulador!$F$8","v":{"$error":"#VALUE!"}},964.67529711304383,{"$error":"#VALUE!"},null,{"$error":"#VALUE!"}]
[{"$f":"IF(OR(A125>=Simulador!$C$24,A125=0),0,A125+1)","v":0},"","","","",{"$error":"#VALUE!"},{"$f":"F126*((1+Simulador!$C$10)^B126-1)","v":{"$error":"#VALUE!"}},{"$error":"#VALUE!"},{"$f":"F126*Simulador!$F$8","v":{"$error":"#VALUE!"}},964.67529711304383,{"$error":"#VALUE!"},null,{"$error":"#VALUE!"}]
[{"$f":"IF(OR(A126>=Simulador!$C$24,A126=0),0,A126+1)","v":0},"","","","",{"$error":"#VALUE!"},{"$f":"F127*((1+Simulador!$C$10)^B127-1)","v":{"$error":"#VALUE!"}},{"$error":"#VALUE!"},{"$f":"F127*Simulador!$F$8","v":{"$error":"#VALUE!"}},964.67529711304383,{"$error":"#VALUE!"},null,{"$error":"#VALUE!"}]
[{"$f":"IF(OR(A127>=Simulador!$C$24,A127=0),0,A127+1)","v":0},"","","","",{"$error":"#VALUE!"},{"$f":"F128*((1+Simulador!$C$10)^B128-1)","v":{"$error":"#VALUE!"}},{"$error":"#VALUE!"},{"$f":"F128*Simulador!$F$8","v":{"$error":"#VALUE!"}},964.67529711304383,{"$error":"#VALUE!"},null,{"$error":"#VALUE!"}]
[{"$f":"IF(OR(A128>=Simulador!$C$24,A128=0),0,A128+1)","v":0},"","","","",{"$error":"#VALUE!"},{"$f":"F129*((1+Simulador!$C$10)^B129-1)","v":{"$error":"#VALUE!"}},{"$error":"#VALUE!"},{"$f":"F129*Simulador!$F$8","v":{"$error":"#VALUE!"}},964.67529711304383,{"$error":"#VALUE!"},null,{"$error":"#VALUE!"}]
[{"$f":"IF(OR(A129>=Simulador!$C$24,A129=0),0,A129+1)","v":0},"","","","",{"$error":"#VALUE!"},{"$f":"F130*((1+Simulador!$C$10)^B130-1)","v":{"$error":"#VALUE!"}},{"$error":"#VALUE!"},{"$f":"F130*Simulador!$F$8","v":{"$error":"#VALUE!"}},964.67529711304383,{"$error":"#VALUE!"},null,{"$error":"#VALUE!"}]
[{"$f":"IF(OR(A130>=Simulador!$C$24,A130=0),0,A130+1)","v":0},"","","","",{"$error":"#VALUE!"},{"$f":"F131*((1+Simulador!$C$10)^B131-1)","v":{"$error":"#VALUE!"}},{"$error":"#VALUE!"},{"$f":"F131*Simulador!$F$8","v":{"$error":"#VALUE!"}},964.67529711304383,{"$error":"#VALUE!"},null,{"$error":"#VALUE!"}]
[{"$f":"IF(OR(A131>=Simulador!$C$24,A131=0),0,A131+1)","v":0},"","","","",{"$error":"#VALUE!"},{"$f":"F132*((1+Simulador!$C$10)^B132-1)","v":{"$error":"#VALUE!"}},{"$error":"#VALUE!"},{"$f":"F132*Simulador!$F$8","v":{"$error":"#VALUE!"}},964.67529711304383,{"$error":"#VALUE!"},null,{"$error":"#VALUE!"}]
[{"$f":"IF(OR(A132>=Simulador!$C$24,A132=0),0,A132+1)","v":0},"","","","",{"$error":"#VALUE!"},{"$f":"F133*((1+Simulador!$C$10)^B133-1)","v":{"$error":"#VALUE!"}},{"$error":"#VALUE!"},{"$f":"F133*Simulador!$F$8","v":{"$error":"#VALUE!"}},964.67529711304383,{"$error":"#VALUE!"},null,{"$error":"#VALUE!"}]
[{"$f":"IF(OR(A133>=Simulador!$C$24,A133=0),0,A133+1)","v":0},"","","",{"$f":"IFERROR(EDATE(D134,1),\"\")","v":""},{"$error":"#VALUE!"},{"$f":"F134*((1+Simulador!$C$10)^B134-1)","v":{"$error":"#VALUE!"}},{"$error":"#VALUE!"},{"$f":"F134*Simulador!$F$8","v":{"$error":"#VALUE!"}},{"$f":"$J$4","v":964.67529711304383},{"$error":"#VALUE!"},null,{"$error":"#VALUE!"}]
[{"$f":"IF(OR(A134>=Simulador!$C$24,A134=0),0,A134+1)","v":0},"","","","",{"$error":"#VALUE!"},{"$f":"F135*((1+Simulador!$C$10)^B135-1)","v":{"$error":"#VALUE!"}},{"$error":"#VALUE!"},{"$f":"F135*Simulador!$F$8","v":{"$error":"#VALUE!"}},964.67529711304383,{"$error":"#VALUE!"},null,{"$error":"#VALUE!"}]
[{"$f":"IF(OR(A135>=Simulador!$C$24,A135=0),0,A135+1)","v":0},"","","","",{"$error":"#VALUE!"},{"$f":"F136*((1+Simulador!$C$10)^B136-1)","v":{"$error":"#VALUE!"}},{"$error":"#VALUE!"},{"$f":"F136*Simulador!$F$8","v":{"$error":"#VALUE!"}},964.67529711304383,{"$error":"#VALUE!"},null,{"$error":"#VALUE!"}]
[{"$f":"IF(OR(A136>=Simulador!$C$24,A136=0),0,A136+1)","v":0},"","","","",{"$error":"#VALUE!"},{"$f":"F137*((1+Simulador!$C$10)^B137-1)","v":{"$error":"#VALUE!"}},{"$error":"#VALUE!"},{"$f":"F137*Simulador!$F$8","v":{"$error":"#VALUE!"}},964.67529711304383,{"$error":"#VALUE!"},null,{"$error":"#VALUE!"}]
[{"$f":"IF(OR(A137>=Simulador!$C$24,A137=0),0,A137+1)","v":0},"","","","",{"$error":"#VALUE!"},{"$f":"F138*((1+Simulador!$C$10)^B138-1)","v":{"$error":"#VALUE!"}},{"$error":"#VALUE!"},{"$f":"F138*Simulador!$F$8","v":{"$error":"#VALUE!"}},964.67529711304383,{"$error":"#VALUE!"},null,{"$error":"#VALUE!"}]
[{"$f":"IF(OR(A138>=Simulador!$C$24,A138=0),0,A138+1)","v":0},"","","","",{"$error":"#VALUE!"},{"$f":"F139*((1+Simulador!$C$10)^B139-1)","v":{"$error":"#VALUE!"}},{"$error":"#VALUE!"},{"$f":"F139*Simulador!$F$8","v":{"$error":"#VALUE!"}},964.67529711304383,{"$error":"#VALUE!"},null,{"$error":"#VALUE!"}]
[{"$f":"IF(OR(A139>=Simulador!$C$24,A139=0),0,A139+1)","v":0},"","","","",{"$error":"#VALUE!"},{"$f":"F140*((1+Simulador!$C$10)^B140-1)","v":{"$error":"#VALUE!"}},{"$error":"#VALUE!"},{"$f":"F140*Simulador!$F$8","v":{"$error":"#VALUE!"}},964.67529711304383,{"$error":"#VALUE!"},null,{"$error":"#VALUE!"}]
[{"$f":"IF(OR(A140>=Simulador!$C$24,A140=0),0,A140+1)","v":0},"","","","",{"$error":"#VALUE!"},{"$f":"F141*((1+Simulador!$C$10)^B141-1)","v":{"$error":"#VALUE!"}},{"$error":"#VALUE!"},{"$f":"F141*Simulador!$F$8","v":{"$error":"#VALUE!"}},964.67529711304383,{"$error":"#VALUE!"},null,{"$error":"#VALUE!"}]
[{"$f":"IF(OR(A141>=Simulador!$C$24,A141=0),0,A141+1)","v":0},"","","","",{"$error":"#VALUE!"},{"$f":"F142*((1+Simulador!$C$10)^B142-1)","v":{"$error":"#VALUE!"}},{"$error":"#VALUE!"},{"$f":"F142*Simulador!$F$8","v":{"$error":"#VALUE!"}},964.67529711304383,{"$error":"#VALUE!"},null,{"$error":"#VALUE!"}]
[{"$f":"IF(OR(A142>=Simulador!$C$24,A142=0),0,A142+1)","v":0},"","","","",{"$error":"#VALUE!"},{"$f":"F143*((1+Simulador!$C$10)^B143-1)","v":{"$error":"#VALUE!"}},{"$error":"#VALUE!"},{"$f":"F143*Simulador!$F$8","v":{"$error":"#VALUE!"}},964.67529711304383,{"$error":"#VALUE!"},null,{"$error":"#VALUE!"}]
[{"$f":"IF(OR(A143>=Simulador!$C$24,A143=0),0,A143+1)","v":0},"","","","",{"$error":"#VALUE!"},{"$f":"F144*((1+Simulador!$C$10)^B144-1)","v":{"$error":"#VALUE!"}},{"$error":"#VALUE!"},{"$f":"F144*Simulador!$F$8","v":{"$error":"#VALUE!"}},964.67529711304383,{"$error":"#VALUE!"},null,{"$error":"#VALUE!"}]
[{"$f":"IF(OR(A144>=Simulador!$C$24,A144=0),0,A144+1)","v":0},"","","","",{"$error":"#VALUE!"},{"$f":"F145*((1+Simulador!$C$10)^B145-1)","v":{"$error":"#VALUE!"}},{"$error":"#VALUE!"},{"$f":"F145*Simulador!$F$8","v":{"$error":"#VALUE!"}},964.67529711304383,{"$error":"#VALUE!"},null,{"$error":"#VALUE!"}]
[{"$f":"IF(OR(A145>=Simulador!$C$24,A145=0),0,A145+1)","v":0},"","","","",{"$error":"#VALUE!"},{"$f":"F146*((1+Simulador!$C$10)^B146-1)","v":{"$error":"#VALUE!"}},{"$error":"#VALUE!"},{"$f":"F146*Simulador!$F$8","v":{"$error":"#VALUE!"}},964.67529711304383,{"$error":"#VALUE!"},null,{"$error":"#VALUE!"}]
[{"$f":"IF(OR(A146>=Simulador!$C$24,A146=0),0,A146+1)","v":0},{"$f":"IFERROR(_xlfn.DAYS(E147,D147),\"\")","v":""},{"$f":"IFERROR(C146+B147,\"\")","v":""},{"$f":"IF(A147<>0,E146,\"\")","v":""},"",{"$f":"K146","v":{"$error":"#VALUE!"}},{"$f":"F147*((1+Simulador!$C$10)^B147-1)","v":{"$error":"#VALUE!"}},{"$f":"J147-I147-G147","v":{"$error":"#VALUE!"}},{"$f":"F147*Simulador!$F$8","v":{"$error":"#VALUE!"}},964.67529711304383,{"$f":"F147-H147","v":{"$error":"#VALUE!"}},null,{"$f":"K147-L147","v":{"$error":"#VALUE!"}}]
[{"$f":"IF(OR(A147>=Simulador!$C$24,A147=0),0,A147+1)","v":0},"","","","",{"$error":"#VALUE!"},{"$f":"F148*((1+Simulador!$C$10)^B148-1)","v":{"$error":"#VALUE!"}},{"$error":"#VALUE!"},{"$f":"F148*Simulador!$F$8","v":{"$error":"#VALUE!"}},964.67529711304383,{"$error":"#VALUE!"},null,{"$error":"#VALUE!"}]
[{"$f":"IF(OR(A148>=Simulador!$C$24,A148=0),0,A148+1)","v":0},"","","","",{"$error":"#VALUE!"},{"$f":"F149*((1+Simulador!$C$10)^B149-1)","v":{"$error":"#VALUE!"}},{"$error":"#VALUE!"},{"$f":"F149*Simulador!$F$8","v":{"$error":"#VALUE!"}},964.67529711304383,{"$error":"#VALUE!"},null,{"$error":"#VALUE!"}]
[{"$f":"IF(OR(A149>=Simulador!$C$24,A149=0),0,A149+1)","v":0},"","","","",{"$error":"#VALUE!"},{"$f":"F150*((1+Simulador!$C$10)^B150-1)","v":{"$error":"#VALUE!"}},{"$error":"#VALUE!"},{"$f":"F150*Simulador!$F$8","v":{"$error":"#VALUE!"}},964.67529711304383,{"$error":"#VALUE!"},null,{"$error":"#VALUE!"}]
[{"$f":"IF(OR(A150>=Simulador!$C$24,A150=0),0,A150+1)","v":0},"","","","",{"$error":"#VALUE!"},{"$f":"F151*((1+Simulador!$C$10)^B151-1)","v":{"$error":"#VALUE!"}},{"$error":"#VALUE!"},{"$f":"F151*Simulador!$F$8","v":{"$error":"#VALUE!"}},964.67529711304383,{"$error":"#VALUE!"},null,{"$error":"#VALUE!"}]
[{"$f":"IF(OR(A151>=Simulador!$C$24,A151=0),0,A151+1)","v":0},"","","","",{"$error":"#VALUE!"},{"$f":"F152*((1+Simulador!$C$10)^B152-1)","v":{"$error":"#VALUE!"}},{"$error":"#VALUE!"},{"$f":"F152*Simulador!$F$8","v":{"$error":"#VALUE!"}},964.67529711304383,{"$error":"#VALUE!"},null,{"$error":"#VALUE!"}]
[{"$f":"IF(OR(A152>=Simulador!$C$24,A152=0),0,A152+1)","v":0},"","","","",{"$error":"#VALUE!"},{"$f":"F153*((1+Simulador!$C$10)^B153-1)","v":{"$error":"#VALUE!"}},{"$error":"#VALUE!"},{"$f":"F153*Simulador!$F$8","v":{"$error":"#VALUE!"}},964.67529711304383,{"$error":"#VALUE!"},null,{"$error":"#VALUE!"}]
[{"$f":"IF(OR(A153>=Simulador!$C$24,A153=0),0,A153+1)","v":0},"","","","",{"$error":"#VALUE!"},{"$f":"F154*((1+Simulador!$C$10)^B154-1)","v":{"$error":"#VALUE!"}},{"$error":"#VALUE!"},{"$f":"F154*Simulador!$F$8","v":{"$error":"#VALUE!"}},964.67529711304383,{"$error":"#VALUE!"},null,{"$error":"#VALUE!"}]
[{"$f":"IF(OR(A154>=Simulador!$C$24,A154=0),0,A154+1)","v":0},"","","","",{"$error":"#VALUE!"},{"$f":"F155*((1+Simulador!$C$10)^B155-1)","v":{"$error":"#VALUE!"}},{"$error":"#VALUE!"},{"$f":"F155*Simulador!$F$8","v":{"$error":"#VALUE!"}},964.67529711304383,{"$error":"#VALUE!"},null,{"$error":"#VALUE!"}]
[{"$f":"IF(OR(A155>=Simulador!$C$24,A155=0),0,A155+1)","v":0},"","","","",{"$error":"#VALUE!"},{"$f":"F156*((1+Simulador!$C$10)^B156-1)","v":{"$error":"#VALUE!"}},{"$error":"#VALUE!"},{"$f":"F156*Simulador!$F$8","v":{"$error":"#VALUE!"}},964.67529711304383,{"$error":"#VALUE!"},null,{"$error":"#VALUE!"}]
[{"$f":"IF(OR(A156>=Simulador!$C$24,A156=0),0,A156+1)","v":0},"","","","",{"$error":"#VALUE!"},{"$f":"F157*((1+Simulador!$C$10)^B157-1)","v":{"$error":"#VALUE!"}},{"$error":"#VALUE!"},{"$f":"F157*Simulador!$F$8","v":{"$error":"#VALUE!"}},964.67529711304383,{"$error":"#VALUE!"},null,{"$error":"#VALUE!"}]
[{"$f":"IF(OR(A157>=Simulador!$C$24,A157=0),0,A157+1)","v":0},"","","","",{"$error":"#VALUE!"},{"$f":"F158*((1+Simulador!$C$10)^B158-1)","v":{"$error":"#VALUE!"}},{"$error":"#VALUE!"},{"$f":"F158*Simulador!$F$8","v":{"$error":"#VALUE!"}},964.67529711304383,{"$error":"#VALUE!"},null,{"$error":"#VALUE!"}]
[{"$f":"IF(OR(A158>=Simulador!$C$24,A158=0),0,A158+1)","v":0},"","","","",{"$error":"#VALUE!"},{"$f":"F159*((1+Simulador!$C$10)^B159-1)","v":{"$error":"#VALUE!"}},{"$error":"#VALUE!"},{"$f":"F159*Simulador!$F$8","v":{"$error":"#VALUE!"}},964.67529711304383,{"$error":"#VALUE!"},null,{"$error":"#VALUE!"}]
[{"$f":"IF(OR(A159>=Simulador!$C$24,A159=0),0,A159+1)","v":0},"","","","",{"$error":"#VALUE!"},{"$f":"F160*((1+Simulador!$C$10)^B160-1)","v":{"$error":"#VALUE!"}},{"$error":"#VALUE!"},{"$f":"F160*Simulador!$F$8","v":{"$error":"#VALUE!"}},964.67529711304383,{"$error":"#VALUE!"},null,{"$error":"#VALUE!"}]
[{"$f":"IF(OR(A160>=Simulador!$C$24,A160=0),0,A160+1)","v":0},"","","","",{"$error":"#VALUE!"},{"$f":"F161*((1+Simulador!$C$10)^B161-1)","v":{"$error":"#VALUE!"}},{"$error":"#VALUE!"},{"$f":"F161*Simulador!$F$8","v":{"$error":"#VALUE!"}},964.67529711304383,{"$error":"#VALUE!"},null,{"$error":"#VALUE!"}]
[{"$f":"IF(OR(A161>=Simulador!$C$24,A161=0),0,A161+1)","v":0},"","","","",{"$error":"#VALUE!"},{"$f":"F162*((1+Simulador!$C$10)^B162-1)","v":{"$error":"#VALUE!"}},{"$error":"#VALUE!"},{"$f":"F162*Simulador!$F$8","v":{"$error":"#VALUE!"}},964.67529711304383,{"$error":"#VALUE!"},null,{"$error":"#VALUE!"}]
[{"$f":"IF(OR(A162>=Simulador!$C$24,A162=0),0,A162+1)","v":0},"","","","",{"$error":"#VALUE!"},{"$f":"F163*((1+Simulador!$C$10)^B163-1)","v":{"$error":"#VALUE!"}},{"$error":"#VALUE!"},{"$f":"F163*Simulador!$F$8","v":{"$error":"#VALUE!"}},964.67529711304383,{"$error":"#VALUE!"},null,{"$error":"#VALUE!"}]
[{"$f":"IF(OR(A163>=Simulador!$C$24,A163=0),0,A163+1)","v":0},"","","","",{"$error":"#VALUE!"},{"$f":"F164*((1+Simulador!$C$10)^B164-1)","v":{"$error":"#VALUE!"}},{"$error":"#VALUE!"},{"$f":"F164*Simulador!$F$8","v":{"$error":"#VALUE!"}},964.67529711304383,{"$error":"#VALUE!"},null,{"$error":"#VALUE!"}]
[null,"","","","",{"$error":"#VALUE!"},{"$f":"F165*((1+Simulador!$C$10)^B165-1)","v":{"$error":"#VALUE!"}},{"$error":"#VALUE!"},{"$f":"F165*Simulador!$F$8","v":{"$error":"#VALUE!"}},964.67529711304383,{"$error":"#VALUE!"},null,{"$error":"#VALUE!"}]
[null,"","","","",{"$error":"#VALUE!"},{"$f":"F166*((1+Simulador!$C$10)^B166-1)","v":{"$error":"#VALUE!"}},{"$error":"#VALUE!"},{"$f":"F166*Simulador!$F$8","v":{"$error":"#VALUE!"}},964.67529711304383,{"$error":"#VALUE!"},null,{"$error":"#VALUE!"}]
[null,"","","","",{"$error":"#VALUE!"},{"$f":"F167*((1+Simulador!$C$10)^B167-1)","v":{"$error":"#VALUE!"}},{"$error":"#VALUE!"},{"$f":"F167*Simulador!$F$8","v":{"$error":"#VALUE!"}},964.67529711304383,{"$error":"#VALUE!"},null,{"$error":"#VALUE!"}]
[null,"","","","",{"$error":"#VALUE!"},{"$f":"F168*((1+Simulador!$C$10)^B168-1)","v":{"$error":"#VALUE!"}},{"$error":"#VALUE!"},{"$f":"F168*Simulador!$F$8","v":{"$error":"#VALUE!"}},964.67529711304383,{"$error":"#VALUE!"},null,{"$error":"#VALUE!"}]
[null,"","","","",{"$error":"#VALUE!"},{"$f":"F169*((1+Simulador!$C$10)^B169-1)","v":{"$error":"#VALUE!"}},{"$error":"#VALUE!"},{"$f":"F169*Simulador!$F$8","v":{"$error":"#VALUE!"}},964.67529711304383,{"$error":"#VALUE!"},null,{"$error":"#VALUE!"}]
[null,"","","","",{"$error":"#VALUE!"},{"$f":"F170*((1+Simulador!$C$10)^B170-1)","v":{"$error":"#VALUE!"}},{"$error":"#VALUE!"},{"$f":"F170*Simulador!$F$8","v":{"$error":"#VALUE!"}},964.67529711304383,{"$error":"#VALUE!"},null,{"$error":"#VALUE!"}]
[null,"","","","",{"$error":"#VALUE!"},{"$f":"F171*((1+Simulador!$C$10)^B171-1)","v":{"$error":"#VALUE!"}},{"$error":"#VALUE!"},{"$f":"F171*Simulador!$F$8","v":{"$error":"#VALUE!"}},964.67529711304383,{"$error":"#VALUE!"},null,{"$error":"#VALUE!"}]
[null,"","","","",{"$error":"#VALUE!"},{"$f":"F172*((1+Simulador!$C$10)^B172-1)","v":{"$error":"#VALUE!"}},{"$error":"#VALUE!"},{"$f":"F172*Simulador!$F$8","v":{"$error":"#VALUE!"}},964.67529711304383,{"$error":"#VALUE!"},null,{"$error":"#VALUE!"}]
[null,"","","","",{"$error":"#VALUE!"},{"$f":"F173*((1+Simulador!$C$10)^B173-1)","v":{"$error":"#VALUE!"}},{"$error":"#VALUE!"},{"$f":"F173*Simulador!$F$8","v":{"$error":"#VALUE!"}},964.67529711304383,{"$error":"#VALUE!"},null,{"$error":"#VALUE!"}]
[null,"","","","",{"$error":"#VALUE!"},{"$f":"F174*((1+Simulador!$C$10)^B174-1)","v":{"$error":"#VALUE!"}},{"$error":"#VALUE!"},{"$f":"F174*Simulador!$F$8","v":{"$error":"#VALUE!"}},964.67529711304383,{"$error":"#VALUE!"},null,{"$error":"#VALUE!"}]
[null,"","","","",{"$error":"#VALUE!"},{"$f":"F175*((1+Simulador!$C$10)^B175-1)","v":{"$error":"#VALUE!"}},{"$error":"#VALUE!"},{"$f":"F175*Simulador!$F$8","v":{"$error":"#VALUE!"}},964.67529711304383,{"$error":"#VALUE!"},null,{"$error":"#VALUE!"}]
[null,"","","","",{"$error":"#VALUE!"},{"$f":"F176*((1+Simulador!$C$10)^B176-1)","v":{"$error":"#VALUE!"}},{"$error":"#VALUE!"},{"$f":"F176*Simulador!$F$8","v":{"$error":"#VALUE!"}},964.67529711304383,{"$error":"#VALUE!"},null,{"$error":"#VALUE!"}]
[null,"","","","",{"$error":"#VALUE!"},{"$f":"F177*((1+Simulador!$C$10)^B177-1)","v":{"$error":"#VALUE!"}},{"$error":"#VALUE!"},{"$f":"F177*Simulador!$F$8","v":{"$error":"#VALUE!"}},964.67529711304383,{"$error":"#VALUE!"},null,{"$error":"#VALUE!"}]
[null,"","","","",{"$error":"#VALUE!"},{"$f":"F178*((1+Simulador!$C$10)^B178-1)","v":{"$error":"#VALUE!"}},{"$error":"#VALUE!"},{"$f":"F178*Simulador!$F$8","v":{"$error":"#VALUE!"}},964.67529711304383,{"$error":"#VALUE!"},null,{"$error":"#VALUE!"}]
[null,"","","","",{"$error":"#VALUE!"},{"$f":"F179*((1+Simulador!$C$10)^B179-1)","v":{"$error":"#VALUE!"}},{"$error":"#VALUE!"},{"$f":"F179*Simulador!$F$8","v":{"$error":"#VALUE!"}},964.67529711304383,{"$error":"#VALUE!"},null,{"$error":"#VALUE!"}]
[null,"","","","",{"$error":"#VALUE!"},{"$f":"F180*((1+Simulador!$C$10)^B180-1)","v":{"$error":"#VALUE!"}},{"$error":"#VALUE!"},{"$f":"F180*Simulador!$F$8","v":{"$error":"#VALUE!"}},964.67529711304383,{"$error":"#VALUE!"},null,{"$error":"#VALUE!"}]
[null,"","","","",{"$error":"#VALUE!"},{"$f":"F181*((1+Simulador!$C$10)^B181-1)","v":{"$error":"#VALUE!"}},{"$error":"#VALUE!"},{"$f":"F181*Simulador!$F$8","v":{"$error":"#VALUE!"}},964.67529711304383,{"$error":"#VALUE!"},null,{"$error":"#VALUE!"}]
[null,"","","","",{"$error":"#VALUE!"},{"$f":"F182*((1+Simulador!$C$10)^B182-1)","v":{"$error":"#VALUE!"}},{"$error":"#VALUE!"},{"$f":"F182*Simulador!$F$8","v":{"$error":"#VALUE!"}},964.67529711304383,{"$error":"#VALUE!"},null,{"$error":"#VALUE!"}]
[null,"","","","",{"$error":"#VALUE!"},{"$f":"F183*((1+Simulador!$C$10)^B183-1)","v":{"$error":"#VALUE!"}},{"$error":"#VALUE!"},{"$f":"F183*Simulador!$F$8","v":{"$error":"#VALUE!"}},964.67529711304383,{"$error":"#VALUE!"},null,{"$error":"#VALUE!"}]
[null,"","","","",{"$error":"#VALUE!"},{"$f":"F184*((1+Simulador!$C$10)^B184-1)","v":{"$error":"#VALUE!"}},{"$error":"#VALUE!"},{"$f":"F184*Simulador!$F$8","v":{"$error":"#VALUE!"}},964.67529711304383,{"$error":"#VALUE!"},null,{"$error":"#VALUE!"}]
[null,"","","","",{"$error":"#VALUE!"},{"$f":"F185*((1+Simulador!$C$10)^B185-1)","v":{"$error":"#VALUE!"}},{"$error":"#VALUE!"},{"$f":"F185*Simulador!$F$8","v":{"$error":"#VALUE!"}},964.67529711304383,{"$error":"#VALUE!"},null,{"$error":"#VALUE!"}]

{"sheet":"Con gracia","index":2,"n_rows":166,"n_cols":13,"rows_kept":166,"cut":false,"hidden":true,"merged":[]}
["Cronograma"]
[]
["n° Periodo","n° Días","n° días acum","Fecha inicial","Fecha Final","Saldo inicial","i","k","Seguro","Cuota","Saldo Aant","Anticipo","Saldo Final"]
[0]
[0]
[1,{"$f":"_xlfn.DAYS(E6,D6)","v":29},{"$f":"B6","v":29},{"$f":"Simulador!C12","v":"2025-11-07"},{"$f":"IFERROR(Simulador!C20,\"\")","v":"2025-12-06"},{"$f":"Simulador!C6","v":14993.27},{"$f":"F6*((1+Simulador!$C$10)^B6-1)","v":741.41628924516124},{"$f":"J6-I6-G6","v":178.27919786788254},{"$f":"F6*Simulador!$F$8","v":44.979810000000001},{"$f":"Simulador!C34","v":964.67529711304383},{"$f":"F6-H6","v":14814.990802132117},null,{"$f":"K6-L6","v":14814.990802132117}]
[{"$f":"IF(OR(A6>Simulador!$C$24,A6=0),0,A6+1)","v":2},{"$f":"IFERROR(_xlfn.DAYS(E7,D7),\"\")","v":31},{"$f":"IFERROR(C6+B7,\"\")","v":60},{"$f":"E6","v":"2025-12-06"},{"$f":"IFERROR(EDATE(D7,1),\"\")","v":"2026-01-06"},{"$f":"K6","v":14814.990802132117},{"$f":"F7*((1+Simulador!$C$10)^B7-1)","v":784.43990192131707},{"$f":"J7-I7-G7","v":135.79042278533041},{"$f":"F7*Simulador!$F$8","v":44.444972406396353},{"$f":"$J$6","v":964.67529711304383},{"$f":"F7-H7","v":14679.200379346787},null,{"$f":"K7-L7","v":14679.200379346787}]
[{"$f":"IF(OR(A7>Simulador!$C$24,A7=0),0,A7+1)","v":3},{"$f":"IFERROR(_xlfn.DAYS(E8,D8),\"\")","v":31},{"$f":"IFERROR(C7+B8,\"\")","v":91},{"$f":"IF(A8<>0,E7,\"\")","v":"2026-01-06"},{"$f":"IFERROR(EDATE(D8,1),\"\")","v":"2026-02-06"},{"$f":"K7","v":14679.200379346787},{"$f":"F8*((1+Simulador!$C$10)^B8-1)","v":777.24992608169327},143.38776989331018,{"$f":"F8*Simulador!$F$8","v":44.037601138040358},{"$f":"$J$6","v":964.67529711304383},14535.812609453476,null,{"$f":"K8-L8","v":14535.812609453476}]
[{"$f":"IF(OR(A8>=Simulador!$C$24,A8=0),0,A8+1)","v":4},28,119,{"$f":"IF(A9<>0,E8,\"\")","v":"2026-02-06"},"2026-03-06",14535.812609453476,{"$f":"F9*((1+Simulador!$C$10)^B9-1)","v":693.4271542861303},227.64070499855313,{"$f":"F9*Simulador!$F$8","v":43.607437828360432},964.67529711304383,14308.171904454923,null,14308.171904454923]
[{"$f":"IF(OR(A9>=Simulador!$C$24,A9=0),0,A9+1)","v":5},31,150,"2026-03-06","2026-04-06",14308.171904454923,{"$f":"F10*((1+Simulador!$C$10)^B10-1)","v":757.6043154740712},164.1464659256078,{"$f":"F10*Simulador!$F$8","v":42.924515713364769},964.67529711304383,14144.025438529316,null,14144.025438529316]
[{"$f":"IF(OR(A10>=Simulador!$C$24,A10=0),0,A10+1)","v":6},30,180,"2026-04-06","2026-05-06",14144.025438529316,{"$f":"F11*((1+Simulador!$C$10)^B11-1)","v":724.14646263245106},198.09675816500487,{"$f":"F11*Simulador!$F$8","v":42.432076315587949},964.67529711304383,13945.92868036431,null,13945.92868036431]
[{"$f":"IF(OR(A11>=Simulador!$C$24,A11=0),0,A11+1)","v":7},31,211,"2026-05-06","2026-06-06",13945.92868036431,{"$f":"F12*((1+Simulador!$C$10)^B12-1)","v":738.42387567680817},184.41363539514271,{"$f":"F12*Simulador!$F$8","v":41.837786041092933},964.67529711304383,13761.515044969166,null,13761.515044969166]
[{"$f":"IF(OR(A12>=Simulador!$C$24,A12=0),0,A12+1)","v":8},30,241,"2026-06-06","2026-07-06",13761.515044969166,{"$f":"F13*((1+Simulador!$C$10)^B13-1)","v":704.56267797223836},218.82807400589797,{"$f":"F13*Simulador!$F$8","v":41.284545134907503},964.67529711304383,13542.686970963268,null,13542.686970963268]
[{"$f":"IF(OR(A13>=Simulador!$C$24,A13=0),0,A13+1)","v":9},31,272,"2026-07-06","2026-08-06",13542.686970963268,{"$f":"F14*((1+Simulador!$C$10)^B14-1)","v":717.07260444094516},206.97463175920882,{"$f":"F14*Simulador!$F$8","v":40.628060912889808},964.67529711304383,13335.712339204059,null,13335.712339204059]
[{"$f":"IF(OR(A14>=Simulador!$C$24,A14=0),0,A14+1)","v":10},31,303,"2026-08-06","2026-09-06",13335.712339204059,{"$f":"F15*((1+Simulador!$C$10)^B15-1)","v":706.11349133680278},218.55466875862885,{"$f":"F15*Simulador!$F$8","v":40.00713701761218},964.67529711304383,13117.157670445431,null,13117.157670445431]
[{"$f":"IF(OR(A15>=Simulador!$C$24,A15=0),0,A15+1)","v":11},30,333,"2026-09-06","2026-10-06",13117.157670445431,{"$f":"F16*((1+Simulador!$C$10)^B16-1)","v":671.57283958002085},253.75098452168663,{"$f":"F16*Simulador!$F$8","v":39.351473011336296},964.67529711304383,12863.406685923745,null,12863.406685923745]
[{"$f":"IF(OR(A16>=Simulador!$C$24,A16=0),0,A16+1)","v":12},31,364,"2026-10-06","2026-11-06",12863.406685923745,{"$f":"F17*((1+Simulador!$C$10)^B17-1)","v":681.10534888943971},244.97972816583285,{"$f":"F17*Simulador!$F$8","v":38.590220057771234},964.67529711304383,12618.426957757913,null,12618.426957757913]
[{"$f":"IF(OR(A17>=Simulador!$C$24,A17=0),0,A17+1)","v":13},30,394,"2026-11-06","2026-12-06",12618.426957757913,{"$f":"F18*((1+Simulador!$C$10)^B18-1)","v":646.03880169466618},280.78121454510392,{"$f":"F18*Simulador!$F$8","v":37.855280873273742},964.67529711304383,12337.645743212808,null,12337.645743212808]
[{"$f":"IF(OR(A18>=Simulador!$C$24,A18=0),0,A18+1)","v":14},31,425,"2026-12-06","2027-01-06",12337.645743212808,{"$f":"F19*((1+Simulador!$C$10)^B19-1)","v":653.2667988800215},274.39556100338393,{"$f":"F19*Simulador!$F$8","v":37.012937229638425},964.67529711304383,12063.250182209424,null,12063.250182209424]
[{"$f":"IF(OR(A19>=Simulador!$C$24,A19=0),0,A19+1)","v":15},31,456,"2027-01-06","2027-02-06",12063.250182209424,{"$f":"F20*((1+Simulador!$C$10)^B20-1)","v":638.73781065208675},289.74773591432881,{"$f":"F20*Simulador!$F$8","v":36.189750546628275},964.67529711304383,11773.502446295095,null,11773.502446295095]
[{"$f":"IF(OR(A20>=Simulador!$C$24,A20=0),0,A20+1)","v":16},28,484,"2027-02-06","2027-03-06",11773.502446295095,{"$f":"F21*((1+Simulador!$C$10)^B21-1)","v":561.65186747149164},367.70292230266693,{"$f":"F21*Simulador!$F$8","v":35.320507338885285},964.67529711304383,11405.799523992428,null,11405.799523992428]
[{"$f":"IF(OR(A21>=Simulador!$C$24,A21=0),0,A21+1)","v":17},31,515,"2027-03-06","2027-04-06",11405.799523992428,{"$f":"F22*((1+Simulador!$C$10)^B22-1)","v":603.92641341681986},326.53148512424673,{"$f":"F22*Simulador!$F$8","v":34.217398571977284},964.67529711304383,11079.26803886818,null,11079.26803886818]
[{"$f":"IF(OR(A22>=Simulador!$C$24,A22=0),0,A22+1)","v":18},30,545,"2027-04-06","2027-05-06",11079.26803886818,{"$f":"F23*((1+Simulador!$C$10)^B23-1)","v":567.23687282461458},364.20062017182465,{"$f":"F23*Simulador!$F$8","v":33.237804116604543},964.67529711304383,10715.067418696355,null,10715.067418696355]
[{"$f":"IF(OR(A23>=Simulador!$C$24,A23=0),0,A23+1)","v":19},31,576,"2027-05-06","2027-06-06",10715.067418696355,{"$f":"F24*((1+Simulador!$C$10)^B24-1)","v":567.35279469716625},365.1773001597885,{"$f":"F24*Simulador!$F$8","v":32.145202256089064},964.67529711304383,10349.890118536567,null,10349.890118536567]
[{"$f":"IF(OR(A24>=Simulador!$C$24,A24=0),0,A24+1)","v":20},30,606,"2027-06-06","2027-07-06",10349.890118536567,{"$f":"F25*((1+Simulador!$C$10)^B25-1)","v":529.8941486315739},403.73147812586024,{"$f":"F25*Simulador!$F$8","v":31.049670355609699},964.67529711304383,9946.1586404107056,null,9946.1586404107056]
[{"$f":"IF(OR(A25>=Simulador!$C$24,A25=0),0,A25+1)","v":21},31,637,"2027-07-06","2027-08-06",9946.1586404107056,{"$f":"F26*((1+Simulador!$C$10)^B26-1)","v":526.63979428558116},408.19702690623058,{"$f":"F26*Simulador!$F$8","v":29.838475921232117},964.67529711304383,9537.9616135044744,null,9537.9616135044744]
[{"$f":"IF(OR(A26>=Simulador!$C$24,A26=0),0,A26+1)","v":22},31,668,"2027-08-06","2027-09-06",9537.9616135044744,{"$f":"F27*((1+Simulador!$C$10)^B27-1)","v":505.02614362406234},431.0352686484681,{"$f":"F27*Simulador!$F$8","v":28.613884840513425},964.67529711304383,9106.9263448560068,null,9106.9263448560068]
[{"$f":"IF(OR(A27>=Simulador!$C$24,A27=0),0,A27+1)","v":23},30,698,"2027-09-06","2027-10-06",9106.9263448560068,{"$f":"F28*((1+Simulador!$C$10)^B28-1)","v":466.25683238077318},471.09768569770267,{"$f":"F28*Simulador!$F$8","v":27.320779034568019},964.67529711304383,8635.8286591583037,null,8635.8286591583037]
[{"$f":"IF(OR(A28>=Simulador!$C$24,A28=0),0,A28+1)","v":24},31,729,"2027-10-06","2027-11-06",8635.8286591583037,{"$f":"F29*((1+Simulador!$C$10)^B29-1)","v":457.25904773592629},481.50876339964259,{"$f":"F29*Simulador!$F$8","v":25.907485977474913},964.67529711304383,8154.319895758661,null,8154.319895758661]
[{"$f":"IF(OR(A29>=Simulador!$C$24,A29=0),0,A29+1)","v":25},30,759,"2027-11-06","2027-12-06",8154.319895758661,{"$f":"F30*((1+Simulador!$C$10)^B30-1)","v":417.48524374126413},522.72709368450364,{"$f":"F30*Simulador!$F$8","v":24.462959687275983},964.67529711304383,7631.5928020741576,null,7631.5928020741576]
[{"$f":"IF(OR(A30>=Simulador!$C$24,A30=0),0,A30+1)","v":26},31,790,"2027-12-06","2028-01-06",7631.5928020741576,{"$f":"F31*((1+Simulador!$C$10)^B31-1)","v":404.08569867629774},537.6948200305236,{"$f":"F31*Simulador!$F$8","v":22.894778406222475},964.67529711304383,7093.8979820436343,null,7093.8979820436343]
[{"$f":"IF(OR(A31>=Simulador!$C$24,A31=0),0,A31+1)","v":27},31,821,"2028-01-06","2028-02-06",7093.8979820436343,{"$f":"F32*((1+Simulador!$C$10)^B32-1)","v":375.61526102826076},567.77834213865219,{"$f":"F32*Simulador!$F$8","v":21.281693946130904},964.67529711304383,6526.1196399049823,null,6526.1196399049823]
[{"$f":"IF(OR(A32>=Simulador!$C$24,A32=0),0,A32+1)","v":28},29,850,"2028-02-06","2028-03-06",6526.1196399049823,{"$f":"F33*((1+Simulador!$C$10)^B33-1)","v":322.71621911619809},622.38071907713083,{"$f":"F33*Simulador!$F$8","v":19.578358919714947},964.67529711304383,5903.738920827851,null,5903.738920827851]
[{"$f":"IF(OR(A33>=Simulador!$C$24,A33=0),0,A33+1)","v":29},31,881,"2028-03-06","2028-04-06",5903.738920827851,{"$f":"F34*((1+Simulador!$C$10)^B34-1)","v":312.59745226144639},634.36662808911387,{"$f":"F34*Simulador!$F$8","v":17.711216762483552},964.67529711304383,5269.3722927387371,null,5269.3722927387371]
[{"$f":"IF(OR(A34>=Simulador!$C$24,A34=0),0,A34+1)","v":30},30,911,"2028-04-06","2028-05-06",5269.3722927387371,{"$f":"F35*((1+Simulador!$C$10)^B35-1)","v":269.78156414267369},679.08561609215394,{"$f":"F35*Simulador!$F$8","v":15.808116878216211},964.67529711304383,4590.2866766465831,null,4590.2866766465831]
[{"$f":"IF(OR(A35>=Simulador!$C$24,A35=0),0,A35+1)","v":31},31,942,"2028-05-06","2028-06-06",4590.2866766465831,{"$f":"F36*((1+Simulador!$C$10)^B36-1)","v":243.05138481092814},707.853052272176,{"$f":"F36*Simulador!$F$8","v":13.770860029939749},964.67529711304383,3882.4336243744074,null,3882.4336243744074]
[{"$f":"IF(OR(A36>=Simulador!$C$24,A36=0),0,A36+1)","v":32},30,972,"2028-06-06","2028-07-06",3882.4336243744074,{"$f":"F37*((1+Simulador!$C$10)^B37-1)","v":198.77301463538274},754.25498160453787,{"$f":"F37*Simulador!$F$8","v":11.647300873123223},964.67529711304383,3128.1786427698694,null,3128.1786427698694]
[{"$f":"IF(OR(A37>=Simulador!$C$24,A37=0),0,A37+1)","v":33},31,1003,"2028-07-06","2028-08-06",3128.1786427698694,{"$f":"F38*((1+Simulador!$C$10)^B38-1)","v":165.63413237985972},789.65662880487457,{"$f":"F38*Simulador!$F$8","v":9.3845359283096084},964.67529711304383,2338.5220139649946,null,2338.5220139649946]
[{"$f":"IF(OR(A38>=Simulador!$C$24,A38=0),0,A38+1)","v":34},31,1034,"2028-08-06","2028-09-06",2338.5220139649946,{"$f":"F39*((1+Simulador!$C$10)^B39-1)","v":123.82255269517529},833.83717837597351,{"$f":"F39*Simulador!$F$8","v":7.0155660418949841},964.67529711304383,1504.6848355890211,null,1504.6848355890211]
[{"$f":"IF(OR(A39>=Simulador!$C$24,A39=0),0,A39+1)","v":35},30,1064,"2028-09-06","2028-10-06",1504.6848355890211,{"$f":"F40*((1+Simulador!$C$10)^B40-1)","v":77.036923173250301},883.12431943302647,{"$f":"F40*Simulador!$F$8","v":4.5140545067670637},964.67529711304383,621.56051615599461,null,621.56051615599461]
[{"$f":"IF(OR(A40>=Simulador!$C$24,A40=0),0,A40+1)","v":36},31,1095,"2028-10-06","2028-11-06",621.56051615599461,{"$f":"F41*((1+Simulador!$C$10)^B41-1)","v":32.911047792307869},929.89956777226803,{"$f":"F41*Simulador!$F$8","v":1.864681548467984},964.67529711304383,-308.33905161627342,null,-308.33905161627342]
[{"$f":"IF(OR(A41>=Simulador!$C$24,A41=0),0,A41+1)","v":0},"","","","",-308.33905161627342,{"$f":"F42*((1+Simulador!$C$10)^B42-1)","v":{"$error":"#VALUE!"}},{"$error":"#VALUE!"},{"$f":"F42*Simulador!$F$8","v":-0.9250171548488203},964.67529711304383,{"$error":"#VALUE!"},null,{"$error":"#VALUE!"}]
[{"$f":"IF(OR(A42>=Simulador!$C$24,A42=0),0,A42+1)","v":0},"","","","",{"$error":"#VALUE!"},{"$f":"F43*((1+Simulador!$C$10)^B43-1)","v":{"$error":"#VALUE!"}},{"$error":"#VALUE!"},{"$f":"F43*Simulador!$F$8","v":{"$error":"#VALUE!"}},964.67529711304383,{"$error":"#VALUE!"},null,{"$error":"#VALUE!"}]
[{"$f":"IF(OR(A43>=Simulador!$C$24,A43=0),0,A43+1)","v":0},"","","","",{"$error":"#VALUE!"},{"$f":"F44*((1+Simulador!$C$10)^B44-1)","v":{"$error":"#VALUE!"}},{"$error":"#VALUE!"},{"$f":"F44*Simulador!$F$8","v":{"$error":"#VALUE!"}},964.67529711304383,{"$error":"#VALUE!"},null,{"$error":"#VALUE!"}]
[{"$f":"IF(OR(A44>=Simulador!$C$24,A44=0),0,A44+1)","v":0},"","","","",{"$error":"#VALUE!"},{"$f":"F45*((1+Simulador!$C$10)^B45-1)","v":{"$error":"#VALUE!"}},{"$error":"#VALUE!"},{"$f":"F45*Simulador!$F$8","v":{"$error":"#VALUE!"}},964.67529711304383,{"$error":"#VALUE!"},null,{"$error":"#VALUE!"}]
[{"$f":"IF(OR(A45>=Simulador!$C$24,A45=0),0,A45+1)","v":0},"","","","",{"$error":"#VALUE!"},{"$f":"F46*((1+Simulador!$C$10)^B46-1)","v":{"$error":"#VALUE!"}},{"$error":"#VALUE!"},{"$f":"F46*Simulador!$F$8","v":{"$error":"#VALUE!"}},964.67529711304383,{"$error":"#VALUE!"},null,{"$error":"#VALUE!"}]
[{"$f":"IF(OR(A46>=Simulador!$C$24,A46=0),0,A46+1)","v":0},"","","","",{"$error":"#VALUE!"},{"$f":"F47*((1+Simulador!$C$10)^B47-1)","v":{"$error":"#VALUE!"}},{"$error":"#VALUE!"},{"$f":"F47*Simulador!$F$8","v":{"$error":"#VALUE!"}},964.67529711304383,{"$error":"#VALUE!"},null,{"$error":"#VALUE!"}]
[{"$f":"IF(OR(A47>=Simulador!$C$24,A47=0),0,A47+1)","v":0},"","","","",{"$error":"#VALUE!"},{"$f":"F48*((1+Simulador!$C$10)^B48-1)","v":{"$error":"#VALUE!"}},{"$error":"#VALUE!"},{"$f":"F48*Simulador!$F$8","v":{"$error":"#VALUE!"}},964.67529711304383,{"$error":"#VALUE!"},null,{"$error":"#VALUE!"}]
[{"$f":"IF(OR(A48>=Simulador!$C$24,A48=0),0,A48+1)","v":0},"","","","",{"$error":"#VALUE!"},{"$f":"F49*((1+Simulador!$C$10)^B49-1)","v":{"$error":"#VALUE!"}},{"$error":"#VALUE!"},{"$f":"F49*Simulador!$F$8","v":{"$error":"#VALUE!"}},964.67529711304383,{"$error":"#VALUE!"},null,{"$error":"#VALUE!"}]
[{"$f":"IF(OR(A49>=Simulador!$C$24,A49=0),0,A49+1)","v":0},"","","","",{"$error":"#VALUE!"},{"$f":"F50*((1+Simulador!$C$10)^B50-1)","v":{"$error":"#VALUE!"}},{"$error":"#VALUE!"},{"$f":"F50*Simulador!$F$8","v":{"$error":"#VALUE!"}},964.67529711304383,{"$error":"#VALUE!"},null,{"$error":"#VALUE!"}]
[{"$f":"IF(OR(A50>=Simulador!$C$24,A50=0),0,A50+1)","v":0},"","","","",{"$error":"#VALUE!"},{"$f":"F51*((1+Simulador!$C$10)^B51-1)","v":{"$error":"#VALUE!"}},{"$error":"#VALUE!"},{"$f":"F51*Simulador!$F$8","v":{"$error":"#VALUE!"}},964.67529711304383,{"$error":"#VALUE!"},null,{"$error":"#VALUE!"}]
[{"$f":"IF(OR(A51>=Simulador!$C$24,A51=0),0,A51+1)","v":0},"","","","",{"$error":"#VALUE!"},{"$f":"F52*((1+Simulador!$C$10)^B52-1)","v":{"$error":"#VALUE!"}},{"$error":"#VALUE!"},{"$f":"F52*Simulador!$F$8","v":{"$error":"#VALUE!"}},964.67529711304383,{"$error":"#VALUE!"},null,{"$error":"#VALUE!"}]
[{"$f":"IF(OR(A52>=Simulador!$C$24,A52=0),0,A52+1)","v":0},"","","","",{"$error":"#VALUE!"},{"$f":"F53*((1+Simulador!$C$10)^B53-1)","v":{"$error":"#VALUE!"}},{"$error":"#VALUE!"},{"$f":"F53*Simulador!$F$8","v":{"$error":"#VALUE!"}},964.67529711304383,{"$error":"#VALUE!"},null,{"$error":"#VALUE!"}]
[{"$f":"IF(OR(A53>=Simulador!$C$24,A53=0),0,A53+1)","v":0},"","","","",{"$error":"#VALUE!"},{"$f":"F54*((1+Simulador!$C$10)^B54-1)","v":{"$error":"#VALUE!"}},{"$error":"#VALUE!"},{"$f":"F54*Simulador!$F$8","v":{"$error":"#VALUE!"}},964.67529711304383,{"$error":"#VALUE!"},null,{"$error":"#VALUE!"}]
[{"$f":"IF(OR(A54>=Simulador!$C$24,A54=0),0,A54+1)","v":0},"","","","",{"$error":"#VALUE!"},{"$f":"F55*((1+Simulador!$C$10)^B55-1)","v":{"$error":"#VALUE!"}},{"$error":"#VALUE!"},{"$f":"F55*Simulador!$F$8","v":{"$error":"#VALUE!"}},964.67529711304383,{"$error":"#VALUE!"},null,{"$error":"#VALUE!"}]
[{"$f":"IF(OR(A55>=Simulador!$C$24,A55=0),0,A55+1)","v":0},"","","","",{"$error":"#VALUE!"},{"$f":"F56*((1+Simulador!$C$10)^B56-1)","v":{"$error":"#VALUE!"}},{"$error":"#VALUE!"},{"$f":"F56*Simulador!$F$8","v":{"$error":"#VALUE!"}},964.67529711304383,{"$error":"#VALUE!"},null,{"$error":"#VALUE!"}]
[{"$f":"IF(OR(A56>=Simulador!$C$24,A56=0),0,A56+1)","v":0},"","","","",{"$error":"#VALUE!"},{"$f":"F57*((1+Simulador!$C$10)^B57-1)","v":{"$error":"#VALUE!"}},{"$error":"#VALUE!"},{"$f":"F57*Simulador!$F$8","v":{"$error":"#VALUE!"}},964.67529711304383,{"$error":"#VALUE!"},null,{"$error":"#VALUE!"}]
[{"$f":"IF(OR(A57>=Simulador!$C$24,A57=0),0,A57+1)","v":0},"","","","",{"$error":"#VALUE!"},{"$f":"F58*((1+Simulador!$C$10)^B58-1)","v":{"$error":"#VALUE!"}},{"$error":"#VALUE!"},{"$f":"F58*Simulador!$F$8","v":{"$error":"#VALUE!"}},964.67529711304383,{"$error":"#VALUE!"},null,{"$error":"#VALUE!"}]
[{"$f":"IF(OR(A58>=Simulador!$C$24,A58=0),0,A58+1)","v":0},"","","","",{"$error":"#VALUE!"},{"$f":"F59*((1+Simulador!$C$10)^B59-1)","v":{"$error":"#VALUE!"}},{"$error":"#VALUE!"},{"$f":"F59*Simulador!$F$8","v":{"$error":"#VALUE!"}},964.67529711304383,{"$error":"#VALUE!"},null,{"$error":"#VALUE!"}]
[{"$f":"IF(OR(A59>=Simulador!$C$24,A59=0),0,A59+1)","v":0},"","","","",{"$error":"#VALUE!"},{"$f":"F60*((1+Simulador!$C$10)^B60-1)","v":{"$error":"#VALUE!"}},{"$error":"#VALUE!"},{"$f":"F60*Simulador!$F$8","v":{"$error":"#VALUE!"}},964.67529711304383,{"$error":"#VALUE!"},null,{"$error":"#VALUE!"}]
[{"$f":"IF(OR(A60>=Simulador!$C$24,A60=0),0,A60+1)","v":0},"","","","",{"$error":"#VALUE!"},{"$f":"F61*((1+Simulador!$C$10)^B61-1)","v":{"$error":"#VALUE!"}},{"$error":"#VALUE!"},{"$f":"F61*Simulador!$F$8","v":{"$error":"#VALUE!"}},964.67529711304383,{"$error":"#VALUE!"},null,{"$error":"#VALUE!"}]
[{"$f":"IF(OR(A61>=Simulador!$C$24,A61=0),0,A61+1)","v":0},"","","","",{"$error":"#VALUE!"},{"$f":"F62*((1+Simulador!$C$10)^B62-1)","v":{"$error":"#VALUE!"}},{"$error":"#VALUE!"},{"$f":"F62*Simulador!$F$8","v":{"$error":"#VALUE!"}},964.67529711304383,{"$error":"#VALUE!"},null,{"$error":"#VALUE!"}]
[{"$f":"IF(OR(A62>=Simulador!$C$24,A62=0),0,A62+1)","v":0},"","","","",{"$error":"#VALUE!"},{"$f":"F63*((1+Simulador!$C$10)^B63-1)","v":{"$error":"#VALUE!"}},{"$error":"#VALUE!"},{"$f":"F63*Simulador!$F$8","v":{"$error":"#VALUE!"}},964.67529711304383,{"$error":"#VALUE!"},null,{"$error":"#VALUE!"}]
[{"$f":"IF(OR(A63>=Simulador!$C$24,A63=0),0,A63+1)","v":0},"","","","",{"$error":"#VALUE!"},{"$f":"F64*((1+Simulador!$C$10)^B64-1)","v":{"$error":"#VALUE!"}},{"$error":"#VALUE!"},{"$f":"F64*Simulador!$F$8","v":{"$error":"#VALUE!"}},964.67529711304383,{"$error":"#VALUE!"},null,{"$error":"#VALUE!"}]
[{"$f":"IF(OR(A64>=Simulador!$C$24,A64=0),0,A64+1)","v":0},"","","","",{"$error":"#VALUE!"},{"$f":"F65*((1+Simulador!$C$10)^B65-1)","v":{"$error":"#VALUE!"}},{"$error":"#VALUE!"},{"$f":"F65*Simulador!$F$8","v":{"$error":"#VALUE!"}},964.67529711304383,{"$error":"#VALUE!"},null,{"$error":"#VALUE!"}]
[{"$f":"IF(OR(A65>=Simulador!$C$24,A65=0),0,A65+1)","v":0},"","","","",{"$error":"#VALUE!"},{"$f":"F66*((1+Simulador!$C$10)^B66-1)","v":{"$error":"#VALUE!"}},{"$error":"#VALUE!"},{"$f":"F66*Simulador!$F$8","v":{"$error":"#VALUE!"}},964.67529711304383,{"$error":"#VALUE!"},null,{"$error":"#VALUE!"}]
[{"$f":"IF(OR(A66>=Simulador!$C$24,A66=0),0,A66+1)","v":0},"","","","",{"$error":"#VALUE!"},{"$f":"F67*((1+Simulador!$C$10)^B67-1)","v":{"$error":"#VALUE!"}},{"$error":"#VALUE!"},{"$f":"F67*Simulador!$F$8","v":{"$error":"#VALUE!"}},964.67529711304383,{"$error":"#VALUE!"},null,{"$error":"#VALUE!"}]
[{"$f":"IF(OR(A67>=Simulador!$C$24,A67=0),0,A67+1)","v":0},"","","","",{"$error":"#VALUE!"},{"$f":"F68*((1+Simulador!$C$10)^B68-1)","v":{"$error":"#VALUE!"}},{"$error":"#VALUE!"},{"$f":"F68*Simulador!$F$8","v":{"$error":"#VALUE!"}},964.67529711304383,{"$error":"#VALUE!"},null,{"$error":"#VALUE!"}]
[{"$f":"IF(OR(A68>=Simulador!$C$24,A68=0),0,A68+1)","v":0},"","","","",{"$error":"#VALUE!"},{"$f":"F69*((1+Simulador!$C$10)^B69-1)","v":{"$error":"#VALUE!"}},{"$error":"#VALUE!"},{"$f":"F69*Simulador!$F$8","v":{"$error":"#VALUE!"}},964.67529711304383,{"$error":"#VALUE!"},null,{"$error":"#VALUE!"}]
[{"$f":"IF(OR(A69>=Simulador!$C$24,A69=0),0,A69+1)","v":0},"","","","",{"$error":"#VALUE!"},{"$f":"F70*((1+Simulador!$C$10)^B70-1)","v":{"$error":"#VALUE!"}},{"$error":"#VALUE!"},{"$f":"F70*Simulador!$F$8","v":{"$error":"#VALUE!"}},964.67529711304383,{"$error":"#VALUE!"},null,{"$error":"#VALUE!"}]
[{"$f":"IF(OR(A70>=Simulador!$C$24,A70=0),0,A70+1)","v":0},"","","","",{"$error":"#VALUE!"},{"$f":"F71*((1+Simulador!$C$10)^B71-1)","v":{"$error":"#VALUE!"}},{"$f":"J71-I71-G71","v":{"$error":"#VALUE!"}},{"$f":"F71*Simulador!$F$8","v":{"$error":"#VALUE!"}},964.67529711304383,{"$f":"F71-H71","v":{"$error":"#VALUE!"}},null,{"$error":"#VALUE!"}]
[{"$f":"IF(OR(A71>=Simulador!$C$24,A71=0),0,A71+1)","v":0},{"$f":"IFERROR(_xlfn.DAYS(E72,D72),\"\")","v":""},{"$f":"IFERROR(C71+B72,\"\")","v":""},"",{"$f":"IFERROR(EDATE(D72,1),\"\")","v":""},{"$f":"K71","v":{"$error":"#VALUE!"}},{"$f":"F72*((1+Simulador!$C$10)^B72-1)","v":{"$error":"#VALUE!"}},{"$error":"#VALUE!"},{"$f":"F72*Simulador!$F$8","v":{"$error":"#VALUE!"}},{"$f":"$J$6","v":964.67529711304383},{"$error":"#VALUE!"},null,{"$f":"K72-L72","v":{"$error":"#VALUE!"}}]
[{"$f":"IF(OR(A72>=Simulador!$C$24,A72=0),0,A72+1)","v":0},"","",{"$f":"IF(A73<>0,E72,\"\")","v":""},"",{"$error":"#VALUE!"},{"$f":"F73*((1+Simulador!$C$10)^B73-1)","v":{"$error":"#VALUE!"}},{"$error":"#VALUE!"},{"$f":"F73*Simulador!$F$8","v":{"$error":"#VALUE!"}},964.67529711304383,{"$error":"#VALUE!"},null,{"$error":"#VALUE!"}]
[{"$f":"IF(OR(A73>=Simulador!$C$24,A73=0),0,A73+1)","v":0},"","","","",{"$error":"#VALUE!"},{"$f":"F74*((1+Simulador!$C$10)^B74-1)","v":{"$error":"#VALUE!"}},{"$error":"#VALUE!"},{"$f":"F74*Simulador!$F$8","v":{"$error":"#VALUE!"}},964.67529711304383,{"$error":"#VALUE!"},null,{"$error":"#VALUE!"}]
[{"$f":"IF(OR(A74>=Simulador!$C$24,A74=0),0,A74+1)","v":0},"","","","",{"$error":"#VALUE!"},{"$f":"F75*((1+Simulador!$C$10)^B75-1)","v":{"$error":"#VALUE!"}},{"$error":"#VALUE!"},{"$f":"F75*Simulador!$F$8","v":{"$error":"#VALUE!"}},964.67529711304383,{"$error":"#VALUE!"},null,{"$error":"#VALUE!"}]
[{"$f":"IF(OR(A75>=Simulador!$C$24,A75=0),0,A75+1)","v":0},"","","","",{"$error":"#VALUE!"},{"$f":"F76*((1+Simulador!$C$10)^B76-1)","v":{"$error":"#VALUE!"}},{"$error":"#VALUE!"},{"$f":"F76*Simulador!$F$8","v":{"$error":"#VALUE!"}},964.67529711304383,{"$error":"#VALUE!"},null,{"$error":"#VALUE!"}]
[{"$f":"IF(OR(A76>=Simulador!$C$24,A76=0),0,A76+1)","v":0},"","","","",{"$error":"#VALUE!"},{"$f":"F77*((1+Simulador!$C$10)^B77-1)","v":{"$error":"#VALUE!"}},{"$error":"#VALUE!"},{"$f":"F77*Simulador!$F$8","v":{"$error":"#VALUE!"}},964.67529711304383,{"$error":"#VALUE!"},null,{"$error":"#VALUE!"}]
[{"$f":"IF(OR(A77>=Simulador!$C$24,A77=0),0,A77+1)","v":0},"","","","",{"$error":"#VALUE!"},{"$f":"F78*((1+Simulador!$C$10)^B78-1)","v":{"$error":"#VALUE!"}},{"$error":"#VALUE!"},{"$f":"F78*Simulador!$F$8","v":{"$error":"#VALUE!"}},964.67529711304383,{"$error":"#VALUE!"},null,{"$error":"#VALUE!"}]
[{"$f":"IF(OR(A78>=Simulador!$C$24,A78=0),0,A78+1)","v":0},"","","","",{"$error":"#VALUE!"},{"$f":"F79*((1+Simulador!$C$10)^B79-1)","v":{"$error":"#VALUE!"}},{"$error":"#VALUE!"},{"$f":"F79*Simulador!$F$8","v":{"$error":"#VALUE!"}},964.67529711304383,{"$error":"#VALUE!"},null,{"$error":"#VALUE!"}]
[{"$f":"IF(OR(A79>=Simulador!$C$24,A79=0),0,A79+1)","v":0},"","","","",{"$error":"#VALUE!"},{"$f":"F80*((1+Simulador!$C$10)^B80-1)","v":{"$error":"#VALUE!"}},{"$error":"#VALUE!"},{"$f":"F80*Simulador!$F$8","v":{"$error":"#VALUE!"}},964.67529711304383,{"$error":"#VALUE!"},null,{"$error":"#VALUE!"}]
[{"$f":"IF(OR(A80>=Simulador!$C$24,A80=0),0,A80+1)","v":0},"","","","",{"$error":"#VALUE!"},{"$f":"F81*((1+Simulador!$C$10)^B81-1)","v":{"$error":"#VALUE!"}},{"$error":"#VALUE!"},{"$f":"F81*Simulador!$F$8","v":{"$error":"#VALUE!"}},964.67529711304383,{"$error":"#VALUE!"},null,{"$error":"#VALUE!"}]
[{"$f":"IF(OR(A81>=Simulador!$C$24,A81=0),0,A81+1)","v":0},"","","","",{"$error":"#VALUE!"},{"$f":"F82*((1+Simulador!$C$10)^B82-1)","v":{"$error":"#VALUE!"}},{"$error":"#VALUE!"},{"$f":"F82*Simulador!$F$8","v":{"$error":"#VALUE!"}},964.67529711304383,{"$error":"#VALUE!"},null,{"$error":"#VALUE!"}]
[{"$f":"IF(OR(A82>=Simulador!$C$24,A82=0),0,A82+1)","v":0},"","","","",{"$error":"#VALUE!"},{"$f":"F83*((1+Simulador!$C$10)^B83-1)","v":{"$error":"#VALUE!"}},{"$error":"#VALUE!"},{"$f":"F83*Simulador!$F$8","v":{"$error":"#VALUE!"}},964.67529711304383,{"$error":"#VALUE!"},null,{"$error":"#VALUE!"}]
[{"$f":"IF(OR(A83>=Simulador!$C$24,A83=0),0,A83+1)","v":0},"","","","",{"$error":"#VALUE!"},{"$f":"F84*((1+Simulador!$C$10)^B84-1)","v":{"$error":"#VALUE!"}},{"$error":"#VALUE!"},{"$f":"F84*Simulador!$F$8","v":{"$error":"#VALUE!"}},964.67529711304383,{"$error":"#VALUE!"},null,{"$error":"#VALUE!"}]
[{"$f":"IF(OR(A84>=Simulador!$C$24,A84=0),0,A84+1)","v":0},"","","","",{"$error":"#VALUE!"},{"$f":"F85*((1+Simulador!$C$10)^B85-1)","v":{"$error":"#VALUE!"}},{"$error":"#VALUE!"},{"$f":"F85*Simulador!$F$8","v":{"$error":"#VALUE!"}},964.67529711304383,{"$error":"#VALUE!"},null,{"$error":"#VALUE!"}]
[{"$f":"IF(OR(A85>=Simulador!$C$24,A85=0),0,A85+1)","v":0},"","","","",{"$error":"#VALUE!"},{"$f":"F86*((1+Simulador!$C$10)^B86-1)","v":{"$error":"#VALUE!"}},{"$error":"#VALUE!"},{"$f":"F86*Simulador!$F$8","v":{"$error":"#VALUE!"}},964.67529711304383,{"$error":"#VALUE!"},null,{"$error":"#VALUE!"}]
[{"$f":"IF(OR(A86>=Simulador!$C$24,A86=0),0,A86+1)","v":0},"","","","",{"$error":"#VALUE!"},{"$f":"F87*((1+Simulador!$C$10)^B87-1)","v":{"$error":"#VALUE!"}},{"$error":"#VALUE!"},{"$f":"F87*Simulador!$F$8","v":{"$error":"#VALUE!"}},964.67529711304383,{"$error":"#VALUE!"},null,{"$error":"#VALUE!"}]
[{"$f":"IF(OR(A87>=Simulador!$C$24,A87=0),0,A87+1)","v":0},"","","","",{"$error":"#VALUE!"},{"$f":"F88*((1+Simulador!$C$10)^B88-1)","v":{"$error":"#VALUE!"}},{"$error":"#VALUE!"},{"$f":"F88*Simulador!$F$8","v":{"$error":"#VALUE!"}},964.67529711304383,{"$error":"#VALUE!"},null,{"$error":"#VALUE!"}]
[{"$f":"IF(OR(A88>=Simulador!$C$24,A88=0),0,A88+1)","v":0},"","","","",{"$error":"#VALUE!"},{"$f":"F89*((1+Simulador!$C$10)^B89-1)","v":{"$error":"#VALUE!"}},{"$error":"#VALUE!"},{"$f":"F89*Simulador!$F$8","v":{"$error":"#VALUE!"}},964.67529711304383,{"$error":"#VALUE!"},null,{"$error":"#VALUE!"}]
[{"$f":"IF(OR(A89>=Simulador!$C$24,A89=0),0,A89+1)","v":0},"","","","",{"$error":"#VALUE!"},{"$f":"F90*((1+Simulador!$C$10)^B90-1)","v":{"$error":"#VALUE!"}},{"$error":"#VALUE!"},{"$f":"F90*Simulador!$F$8","v":{"$error":"#VALUE!"}},964.67529711304383,{"$error":"#VALUE!"},null,{"$error":"#VALUE!"}]
[{"$f":"IF(OR(A90>=Simulador!$C$24,A90=0),0,A90+1)","v":0},"","","","",{"$error":"#VALUE!"},{"$f":"F91*((1+Simulador!$C$10)^B91-1)","v":{"$error":"#VALUE!"}},{"$error":"#VALUE!"},{"$f":"F91*Simulador!$F$8","v":{"$error":"#VALUE!"}},964.67529711304383,{"$error":"#VALUE!"},null,{"$error":"#VALUE!"}]
[{"$f":"IF(OR(A91>=Simulador!$C$24,A91=0),0,A91+1)","v":0},"","","","",{"$error":"#VALUE!"},{"$f":"F92*((1+Simulador!$C$10)^B92-1)","v":{"$error":"#VALUE!"}},{"$error":"#VALUE!"},{"$f":"F92*Simulador!$F$8","v":{"$error":"#VALUE!"}},964.67529711304383,{"$error":"#VALUE!"},null,{"$error":"#VALUE!"}]
[{"$f":"IF(OR(A92>=Simulador!$C$24,A92=0),0,A92+1)","v":0},"","","","",{"$error":"#VALUE!"},{"$f":"F93*((1+Simulador!$C$10)^B93-1)","v":{"$error":"#VALUE!"}},{"$error":"#VALUE!"},{"$f":"F93*Simulador!$F$8","v":{"$error":"#VALUE!"}},964.67529711304383,{"$error":"#VALUE!"},null,{"$error":"#VALUE!"}]
[{"$f":"IF(OR(A93>=Simulador!$C$24,A93=0),0,A93+1)","v":0},"","","","",{"$error":"#VALUE!"},{"$f":"F94*((1+Simulador!$C$10)^B94-1)","v":{"$error":"#VALUE!"}},{"$error":"#VALUE!"},{"$f":"F94*Simulador!$F$8","v":{"$error":"#VALUE!"}},964.67529711304383,{"$error":"#VALUE!"},null,{"$error":"#VALUE!"}]
[{"$f":"IF(OR(A94>=Simulador!$C$24,A94=0),0,A94+1)","v":0},"","","","",{"$error":"#VALUE!"},{"$f":"F95*((1+Simulador!$C$10)^B95-1)","v":{"$error":"#VALUE!"}},{"$error":"#VALUE!"},{"$f":"F95*Simulador!$F$8","v":{"$error":"#VALUE!"}},964.67529711304383,{"$error":"#VALUE!"},null,{"$error":"#VALUE!"}]
[{"$f":"IF(OR(A95>=Simulador!$C$24,A95=0),0,A95+1)","v":0},"","","","",{"$error":"#VALUE!"},{"$f":"F96*((1+Simulador!$C$10)^B96-1)","v":{"$error":"#VALUE!"}},{"$error":"#VALUE!"},{"$f":"F96*Simulador!$F$8","v":{"$error":"#VALUE!"}},964.67529711304383,{"$error":"#VALUE!"},null,{"$error":"#VALUE!"}]
[{"$f":"IF(OR(A96>=Simulador!$C$24,A96=0),0,A96+1)","v":0},"","","","",{"$error":"#VALUE!"},{"$f":"F97*((1+Simulador!$C$10)^B97-1)","v":{"$error":"#VALUE!"}},{"$error":"#VALUE!"},{"$f":"F97*Simulador!$F$8","v":{"$error":"#VALUE!"}},964.67529711304383,{"$error":"#VALUE!"},null,{"$error":"#VALUE!"}]
[{"$f":"IF(OR(A97>=Simulador!$C$24,A97=0),0,A97+1)","v":0},"","","","",{"$error":"#VALUE!"},{"$f":"F98*((1+Simulador!$C$10)^B98-1)","v":{"$error":"#VALUE!"}},{"$error":"#VALUE!"},{"$f":"F98*Simulador!$F$8","v":{"$error":"#VALUE!"}},964.67529711304383,{"$error":"#VALUE!"},null,{"$error":"#VALUE!"}]
[{"$f":"IF(OR(A98>=Simulador!$C$24,A98=0),0,A98+1)","v":0},"","","","",{"$error":"#VALUE!"},{"$f":"F99*((1+Simulador!$C$10)^B99-1)","v":{"$error":"#VALUE!"}},{"$error":"#VALUE!"},{"$f":"F99*Simulador!$F$8","v":{"$error":"#VALUE!"}},964.67529711304383,{"$error":"#VALUE!"},null,{"$error":"#VALUE!"}]
[{"$f":"IF(OR(A99>=Simulador!$C$24,A99=0),0,A99+1)","v":0},"","","","",{"$error":"#VALUE!"},{"$f":"F100*((1+Simulador!$C$10)^B100-1)","v":{"$error":"#VALUE!"}},{"$error":"#VALUE!"},{"$f":"F100*Simulador!$F$8","v":{"$error":"#VALUE!"}},964.67529711304383,{"$error":"#VALUE!"},null,{"$error":"#VALUE!"}]
[{"$f":"IF(OR(A100>=Simulador!$C$24,A100=0),0,A100+1)","v":0},"","","","",{"$error":"#VALUE!"},{"$f":"F101*((1+Simulador!$C$10)^B101-1)","v":{"$error":"#VALUE!"}},{"$error":"#VALUE!"},{"$f":"F101*Simulador!$F$8","v":{"$error":"#VALUE!"}},964.67529711304383,{"$error":"#VALUE!"},null,{"$error":"#VALUE!"}]
[{"$f":"IF(OR(A101>=Simulador!$C$24,A101=0),0,A101+1)","v":0},"","","","",{"$error":"#VALUE!"},{"$f":"F102*((1+Simulador!$C$10)^B102-1)","v":{"$error":"#VALUE!"}},{"$error":"#VALUE!"},{"$f":"F102*Simulador!$F$8","v":{"$error":"#VALUE!"}},964.67529711304383,{"$error":"#VALUE!"},null,{"$error":"#VALUE!"}]
[{"$f":"IF(OR(A102>=Simulador!$C$24,A102=0),0,A102+1)","v":0},"","","","",{"$error":"#VALUE!"},{"$f":"F103*((1+Simulador!$C$10)^B103-1)","v":{"$error":"#VALUE!"}},{"$error":"#VALUE!"},{"$f":"F103*Simulador!$F$8","v":{"$error":"#VALUE!"}},964.67529711304383,{"$error":"#VALUE!"},null,{"$error":"#VALUE!"}]
[{"$f":"IF(OR(A103>=Simulador!$C$24,A103=0),0,A103+1)","v":0},"","","","",{"$error":"#VALUE!"},{"$f":"F104*((1+Simulador!$C$10)^B104-1)","v":{"$error":"#VALUE!"}},{"$error":"#VALUE!"},{"$f":"F104*Simulador!$F$8","v":{"$error":"#VALUE!"}},964.67529711304383,{"$error":"#VALUE!"},null,{"$error":"#VALUE!"}]
[{"$f":"IF(OR(A104>=Simulador!$C$24,A104=0),0,A104+1)","v":0},"","","","",{"$error":"#VALUE!"},{"$f":"F105*((1+Simulador!$C$10)^B105-1)","v":{"$error":"#VALUE!"}},{"$error":"#VALUE!"},{"$f":"F105*Simulador!$F$8","v":{"$error":"#VALUE!"}},964.67529711304383,{"$error":"#VALUE!"},null,{"$error":"#VALUE!"}]
[{"$f":"IF(OR(A105>=Simulador!$C$24,A105=0),0,A105+1)","v":0},"","","","",{"$error":"#VALUE!"},{"$f":"F106*((1+Simulador!$C$10)^B106-1)","v":{"$error":"#VALUE!"}},{"$error":"#VALUE!"},{"$f":"F106*Simulador!$F$8","v":{"$error":"#VALUE!"}},964.67529711304383,{"$error":"#VALUE!"},null,{"$error":"#VALUE!"}]
[{"$f":"IF(OR(A106>=Simulador!$C$24,A106=0),0,A106+1)","v":0},"","","","",{"$error":"#VALUE!"},{"$f":"F107*((1+Simulador!$C$10)^B107-1)","v":{"$error":"#VALUE!"}},{"$error":"#VALUE!"},{"$f":"F107*Simulador!$F$8","v":{"$error":"#VALUE!"}},964.67529711304383,{"$error":"#VALUE!"},null,{"$error":"#VALUE!"}]
[{"$f":"IF(OR(A107>=Simulador!$C$24,A107=0),0,A107+1)","v":0},"","","","",{"$error":"#VALUE!"},{"$f":"F108*((1+Simulador!$C$10)^B108-1)","v":{"$error":"#VALUE!"}},{"$error":"#VALUE!"},{"$f":"F108*Simulador!$F$8","v":{"$error":"#VALUE!"}},964.67529711304383,{"$error":"#VALUE!"},null,{"$error":"#VALUE!"}]
[{"$f":"IF(OR(A108>=Simulador!$C$24,A108=0),0,A108+1)","v":0},"","","","",{"$error":"#VALUE!"},{"$f":"F109*((1+Simulador!$C$10)^B109-1)","v":{"$error":"#VALUE!"}},{"$error":"#VALUE!"},{"$f":"F109*Simulador!$F$8","v":{"$error":"#VALUE!"}},964.67529711304383,{"$error":"#VALUE!"},null,{"$error":"#VALUE!"}]
[{"$f":"IF(OR(A109>=Simulador!$C$24,A109=0),0,A109+1)","v":0},"","","","",{"$error":"#VALUE!"},{"$f":"F110*((1+Simulador!$C$10)^B110-1)","v":{"$error":"#VALUE!"}},{"$error":"#VALUE!"},{"$f":"F110*Simulador!$F$8","v":{"$error":"#VALUE!"}},964.67529711304383,{"$error":"#VALUE!"},null,{"$error":"#VALUE!"}]
[{"$f":"IF(OR(A110>=Simulador!$C$24,A110=0),0,A110+1)","v":0},"","","","",{"$error":"#VALUE!"},{"$f":"F111*((1+Simulador!$C$10)^B111-1)","v":{"$error":"#VALUE!"}},{"$error":"#VALUE!"},{"$f":"F111*Simulador!$F$8","v":{"$error":"#VALUE!"}},964.67529711304383,{"$error":"#VALUE!"},null,{"$error":"#VALUE!"}]
[{"$f":"IF(OR(A111>=Simulador!$C$24,A111=0),0,A111+1)","v":0},"","","","",{"$error":"#VALUE!"},{"$f":"F112*((1+Simulador!$C$10)^B112-1)","v":{"$error":"#VALUE!"}},{"$error":"#VALUE!"},{"$f":"F112*Simulador!$F$8","v":{"$error":"#VALUE!"}},964.67529711304383,{"$error":"#VALUE!"},null,{"$error":"#VALUE!"}]
[{"$f":"IF(OR(A112>=Simulador!$C$24,A112=0),0,A112+1)","v":0},"","","","",{"$error":"#VALUE!"},{"$f":"F113*((1+Simulador!$C$10)^B113-1)","v":{"$error":"#VALUE!"}},{"$error":"#VALUE!"},{"$f":"F113*Simulador!$F$8","v":{"$error":"#VALUE!"}},964.67529711304383,{"$error":"#VALUE!"},null,{"$error":"#VALUE!"}]
[{"$f":"IF(OR(A113>=Simulador!$C$24,A113=0),0,A113+1)","v":0},"","","","",{"$error":"#VALUE!"},{"$f":"F114*((1+Simulador!$C$10)^B114-1)","v":{"$error":"#VALUE!"}},{"$error":"#VALUE!"},{"$f":"F114*Simulador!$F$8","v":{"$error":"#VALUE!"}},964.67529711304383,{"$error":"#VALUE!"},null,{"$error":"#VALUE!"}]
[{"$f":"IF(OR(A114>=Simulador!$C$24,A114=0),0,A114+1)","v":0},"","","","",{"$error":"#VALUE!"},{"$f":"F115*((1+Simulador!$C$10)^B115-1)","v":{"$error":"#VALUE!"}},{"$error":"#VALUE!"},{"$f":"F115*Simulador!$F$8","v":{"$error":"#VALUE!"}},964.67529711304383,{"$error":"#VALUE!"},null,{"$error":"#VALUE!"}]
[{"$f":"IF(OR(A115>=Simulador!$C$24,A115=0),0,A115+1)","v":0},"","","","",{"$error":"#VALUE!"},{"$f":"F116*((1+Simulador!$C$10)^B116-1)","v":{"$error":"#VALUE!"}},{"$error":"#VALUE!"},{"$f":"F116*Simulador!$F$8","v":{"$error":"#VALUE!"}},964.67529711304383,{"$error":"#VALUE!"},null,{"$error":"#VALUE!"}]
[{"$f":"IF(OR(A116>=Simulador!$C$24,A116=0),0,A116+1)","v":0},"","","","",{"$error":"#VALUE!"},{"$f":"F117*((1+Simulador!$C$10)^B117-1)","v":{"$error":"#VALUE!"}},{"$error":"#VALUE!"},{"$f":"F117*Simulador!$F$8","v":{"$error":"#VALUE!"}},964.67529711304383,{"$error":"#VALUE!"},null,{"$error":"#VALUE!"}]
[{"$f":"IF(OR(A117>=Simulador!$C$24,A117=0),0,A117+1)","v":0},"","","","",{"$error":"#VALUE!"},{"$f":"F118*((1+Simulador!$C$10)^B118-1)","v":{"$error":"#VALUE!"}},{"$error":"#VALUE!"},{"$f":"F118*Simulador!$F$8","v":{"$error":"#VALUE!"}},964.67529711304383,{"$error":"#VALUE!"},null,{"$error":"#VALUE!"}]
[{"$f":"IF(OR(A118>=Simulador!$C$24,A118=0),0,A118+1)","v":0},"","","","",{"$error":"#VALUE!"},{"$f":"F119*((1+Simulador!$C$10)^B119-1)","v":{"$error":"#VALUE!"}},{"$error":"#VALUE!"},{"$f":"F119*Simulador!$F$8","v":{"$error":"#VALUE!"}},964.67529711304383,{"$error":"#VALUE!"},null,{"$error":"#VALUE!"}]
[{"$f":"IF(OR(A119>=Simulador!$C$24,A119=0),0,A119+1)","v":0},"","","","",{"$error":"#VALUE!"},{"$f":"F120*((1+Simulador!$C$10)^B120-1)","v":{"$error":"#VALUE!"}},{"$error":"#VALUE!"},{"$f":"F120*Simulador!$F$8","v":{"$error":"#VALUE!"}},964.67529711304383,{"$error":"#VALUE!"},null,{"$error":"#VALUE!"}]
[{"$f":"IF(OR(A120>=Simulador!$C$24,A120=0),0,A120+1)","v":0},"","","","",{"$error":"#VALUE!"},{"$f":"F121*((1+Simulador!$C$10)^B121-1)","v":{"$error":"#VALUE!"}},{"$error":"#VALUE!"},{"$f":"F121*Simulador!$F$8","v":{"$error":"#VALUE!"}},964.67529711304383,{"$error":"#VALUE!"},null,{"$error":"#VALUE!"}]
[{"$f":"IF(OR(A121>=Simulador!$C$24,A121=0),0,A121+1)","v":0},"","","","",{"$error":"#VALUE!"},{"$f":"F122*((1+Simulador!$C$10)^B122-1)","v":{"$error":"#VALUE!"}},{"$error":"#VALUE!"},{"$f":"F122*Simulador!$F$8","v":{"$error":"#VALUE!"}},964.67529711304383,{"$error":"#VALUE!"},null,{"$error":"#VALUE!"}]
[{"$f":"IF(OR(A122>=Simulador!$C$24,A122=0),0,A122+1)","v":0},"","","","",{"$error":"#VALUE!"},{"$f":"F123*((1+Simulador!$C$10)^B123-1)","v":{"$error":"#VALUE!"}},{"$error":"#VALUE!"},{"$f":"F123*Simulador!$F$8","v":{"$error":"#VALUE!"}},964.67529711304383,{"$error":"#VALUE!"},null,{"$error":"#VALUE!"}]
[{"$f":"IF(OR(A123>=Simulador!$C$24,A123=0),0,A123+1)","v":0},"","","","",{"$error":"#VALUE!"},{"$f":"F124*((1+Simulador!$C$10)^B124-1)","v":{"$error":"#VALUE!"}},{"$error":"#VALUE!"},{"$f":"F124*Simulador!$F$8","v":{"$error":"#VALUE!"}},964.67529711304383,{"$error":"#VALUE!"},null,{"$error":"#VALUE!"}]
[{"$f":"IF(OR(A124>=Simulador!$C$24,A124=0),0,A124+1)","v":0},"","","","",{"$error":"#VALUE!"},{"$f":"F125*((1+Simulador!$C$10)^B125-1)","v":{"$error":"#VALUE!"}},{"$error":"#VALUE!"},{"$f":"F125*Simulador!$F$8","v":{"$error":"#VALUE!"}},964.67529711304383,{"$error":"#VALUE!"},null,{"$error":"#VALUE!"}]
[{"$f":"IF(OR(A125>=Simulador!$C$24,A125=0),0,A125+1)","v":0},"","","","",{"$error":"#VALUE!"},{"$f":"F126*((1+Simulador!$C$10)^B126-1)","v":{"$error":"#VALUE!"}},{"$error":"#VALUE!"},{"$f":"F126*Simulador!$F$8","v":{"$error":"#VALUE!"}},964.67529711304383,{"$error":"#VALUE!"},null,{"$error":"#VALUE!"}]
[{"$f":"IF(OR(A126>=Simulador!$C$24,A126=0),0,A126+1)","v":0},"","","","",{"$error":"#VALUE!"},{"$f":"F127*((1+Simulador!$C$10)^B127-1)","v":{"$error":"#VALUE!"}},{"$error":"#VALUE!"},{"$f":"F127*Simulador!$F$8","v":{"$error":"#VALUE!"}},964.67529711304383,{"$error":"#VALUE!"},null,{"$error":"#VALUE!"}]
[{"$f":"IF(OR(A127>=Simulador!$C$24,A127=0),0,A127+1)","v":0},"","","","",{"$error":"#VALUE!"},{"$f":"F128*((1+Simulador!$C$10)^B128-1)","v":{"$error":"#VALUE!"}},{"$error":"#VALUE!"},{"$f":"F128*Simulador!$F$8","v":{"$error":"#VALUE!"}},964.67529711304383,{"$error":"#VALUE!"},null,{"$error":"#VALUE!"}]
[{"$f":"IF(OR(A128>=Simulador!$C$24,A128=0),0,A128+1)","v":0},"","","","",{"$error":"#VALUE!"},{"$f":"F129*((1+Simulador!$C$10)^B129-1)","v":{"$error":"#VALUE!"}},{"$error":"#VALUE!"},{"$f":"F129*Simulador!$F$8","v":{"$error":"#VALUE!"}},964.67529711304383,{"$error":"#VALUE!"},null,{"$error":"#VALUE!"}]
[{"$f":"IF(OR(A129>=Simulador!$C$24,A129=0),0,A129+1)","v":0},"","","","",{"$error":"#VALUE!"},{"$f":"F130*((1+Simulador!$C$10)^B130-1)","v":{"$error":"#VALUE!"}},{"$error":"#VALUE!"},{"$f":"F130*Simulador!$F$8","v":{"$error":"#VALUE!"}},964.67529711304383,{"$error":"#VALUE!"},null,{"$error":"#VALUE!"}]
[{"$f":"IF(OR(A130>=Simulador!$C$24,A130=0),0,A130+1)","v":0},"","","","",{"$error":"#VALUE!"},{"$f":"F131*((1+Simulador!$C$10)^B131-1)","v":{"$error":"#VALUE!"}},{"$error":"#VALUE!"},{"$f":"F131*Simulador!$F$8","v":{"$error":"#VALUE!"}},964.67529711304383,{"$error":"#VALUE!"},null,{"$error":"#VALUE!"}]
[{"$f":"IF(OR(A131>=Simulador!$C$24,A131=0),0,A131+1)","v":0},"","","","",{"$error":"#VALUE!"},{"$f":"F132*((1+Simulador!$C$10)^B132-1)","v":{"$error":"#VALUE!"}},{"$error":"#VALUE!"},{"$f":"F132*Simulador!$F$8","v":{"$error":"#VALUE!"}},964.67529711304383,{"$error":"#VALUE!"},null,{"$error":"#VALUE!"}]
[{"$f":"IF(OR(A132>=Simulador!$C$24,A132=0),0,A132+1)","v":0},"","","","",{"$error":"#VALUE!"},{"$f":"F133*((1+Simulador!$C$10)^B133-1)","v":{"$error":"#VALUE!"}},{"$error":"#VALUE!"},{"$f":"F133*Simulador!$F$8","v":{"$error":"#VALUE!"}},964.67529711304383,{"$error":"#VALUE!"},null,{"$error":"#VALUE!"}]
[{"$f":"IF(OR(A133>=Simulador!$C$24,A133=0),0,A133+1)","v":0},"","","","",{"$error":"#VALUE!"},{"$f":"F134*((1+Simulador!$C$10)^B134-1)","v":{"$error":"#VALUE!"}},{"$error":"#VALUE!"},{"$f":"F134*Simulador!$F$8","v":{"$error":"#VALUE!"}},964.67529711304383,{"$error":"#VALUE!"},null,{"$error":"#VALUE!"}]
[{"$f":"IF(OR(A134>=Simulador!$C$24,A134=0),0,A134+1)","v":0},"","","","",{"$error":"#VALUE!"},{"$f":"F135*((1+Simulador!$C$10)^B135-1)","v":{"$error":"#VALUE!"}},{"$f":"J135-I135-G135","v":{"$error":"#VALUE!"}},{"$f":"F135*Simulador!$F$8","v":{"$error":"#VALUE!"}},964.67529711304383,{"$f":"F135-H135","v":{"$error":"#VALUE!"}},null,{"$error":"#VALUE!"}]
[{"$f":"IF(OR(A135>=Simulador!$C$24,A135=0),0,A135+1)","v":0},{"$f":"IFERROR(_xlfn.DAYS(E136,D136),\"\")","v":""},{"$f":"IFERROR(C135+B136,\"\")","v":""},"",{"$f":"IFERROR(EDATE(D136,1),\"\")","v":""},{"$f":"K135","v":{"$error":"#VALUE!"}},{"$f":"F136*((1+Simulador!$C$10)^B136-1)","v":{"$error":"#VALUE!"}},{"$error":"#VALUE!"},{"$f":"F136*Simulador!$F$8","v":{"$error":"#VALUE!"}},{"$f":"$J$6","v":964.67529711304383},{"$error":"#VALUE!"},null,{"$f":"K136-L136","v":{"$error":"#VALUE!"}}]
[{"$f":"IF(OR(A136>=Simulador!$C$24,A136=0),0,A136+1)","v":0},"","",{"$f":"IF(A137<>0,E136,\"\")","v":""},"",{"$error":"#VALUE!"},{"$f":"F137*((1+Simulador!$C$10)^B137-1)","v":{"$error":"#VALUE!"}},{"$error":"#VALUE!"},{"$f":"F137*Simulador!$F$8","v":{"$error":"#VALUE!"}},964.67529711304383,{"$error":"#VALUE!"},null,{"$error":"#VALUE!"}]
[{"$f":"IF(OR(A137>=Simulador!$C$24,A137=0),0,A137+1)","v":0},"","","","",{"$error":"#VALUE!"},{"$f":"F138*((1+Simulador!$C$10)^B138-1)","v":{"$error":"#VALUE!"}},{"$error":"#VALUE!"},{"$f":"F138*Simulador!$F$8","v":{"$error":"#VALUE!"}},964.67529711304383,{"$error":"#VALUE!"},null,{"$error":"#VALUE!"}]
[{"$f":"IF(OR(A138>=Simulador!$C$24,A138=0),0,A138+1)","v":0},"","","","",{"$error":"#VALUE!"},{"$f":"F139*((1+Simulador!$C$10)^B139-1)","v":{"$error":"#VALUE!"}},{"$error":"#VALUE!"},{"$f":"F139*Simulador!$F$8","v":{"$error":"#VALUE!"}},964.67529711304383,{"$error":"#VALUE!"},null,{"$error":"#VALUE!"}]
[{"$f":"IF(OR(A139>=Simulador!$C$24,A139=0),0,A139+1)","v":0},"","","","",{"$error":"#VALUE!"},{"$f":"F140*((1+Simulador!$C$10)^B140-1)","v":{"$error":"#VALUE!"}},{"$error":"#VALUE!"},{"$f":"F140*Simulador!$F$8","v":{"$error":"#VALUE!"}},964.67529711304383,{"$error":"#VALUE!"},null,{"$error":"#VALUE!"}]
[{"$f":"IF(OR(A140>=Simulador!$C$24,A140=0),0,A140+1)","v":0},"","","","",{"$error":"#VALUE!"},{"$f":"F141*((1+Simulador!$C$10)^B141-1)","v":{"$error":"#VALUE!"}},{"$error":"#VALUE!"},{"$f":"F141*Simulador!$F$8","v":{"$error":"#VALUE!"}},964.67529711304383,{"$error":"#VALUE!"},null,{"$error":"#VALUE!"}]
[{"$f":"IF(OR(A141>=Simulador!$C$24,A141=0),0,A141+1)","v":0},"","","","",{"$error":"#VALUE!"},{"$f":"F142*((1+Simulador!$C$10)^B142-1)","v":{"$error":"#VALUE!"}},{"$error":"#VALUE!"},{"$f":"F142*Simulador!$F$8","v":{"$error":"#VALUE!"}},964.67529711304383,{"$error":"#VALUE!"},null,{"$error":"#VALUE!"}]
[{"$f":"IF(OR(A142>=Simulador!$C$24,A142=0),0,A142+1)","v":0},"","","","",{"$error":"#VALUE!"},{"$f":"F143*((1+Simulador!$C$10)^B143-1)","v":{"$error":"#VALUE!"}},{"$error":"#VALUE!"},{"$f":"F143*Simulador!$F$8","v":{"$error":"#VALUE!"}},964.67529711304383,{"$error":"#VALUE!"},null,{"$error":"#VALUE!"}]
[{"$f":"IF(OR(A143>=Simulador!$C$24,A143=0),0,A143+1)","v":0},"","","","",{"$error":"#VALUE!"},{"$f":"F144*((1+Simulador!$C$10)^B144-1)","v":{"$error":"#VALUE!"}},{"$error":"#VALUE!"},{"$f":"F144*Simulador!$F$8","v":{"$error":"#VALUE!"}},964.67529711304383,{"$error":"#VALUE!"},null,{"$error":"#VALUE!"}]
[{"$f":"IF(OR(A144>=Simulador!$C$24,A144=0),0,A144+1)","v":0},"","","","",{"$error":"#VALUE!"},{"$f":"F145*((1+Simulador!$C$10)^B145-1)","v":{"$error":"#VALUE!"}},{"$error":"#VALUE!"},{"$f":"F145*Simulador!$F$8","v":{"$error":"#VALUE!"}},964.67529711304383,{"$error":"#VALUE!"},null,{"$error":"#VALUE!"}]
[{"$f":"IF(OR(A145>=Simulador!$C$24,A145=0),0,A145+1)","v":0},"","","","",{"$error":"#VALUE!"},{"$f":"F146*((1+Simulador!$C$10)^B146-1)","v":{"$error":"#VALUE!"}},{"$error":"#VALUE!"},{"$f":"F146*Simulador!$F$8","v":{"$error":"#VALUE!"}},964.67529711304383,{"$error":"#VALUE!"},null,{"$error":"#VALUE!"}]
[{"$f":"IF(OR(A146>=Simulador!$C$24,A146=0),0,A146+1)","v":0},"","","","",{"$error":"#VALUE!"},{"$f":"F147*((1+Simulador!$C$10)^B147-1)","v":{"$error":"#VALUE!"}},{"$error":"#VALUE!"},{"$f":"F147*Simulador!$F$8","v":{"$error":"#VALUE!"}},964.67529711304383,{"$error":"#VALUE!"},null,{"$error":"#VALUE!"}]
[{"$f":"IF(OR(A147>=Simulador!$C$24,A147=0),0,A147+1)","v":0},"","","","",{"$error":"#VALUE!"},{"$f":"F148*((1+Simulador!$C$10)^B148-1)","v":{"$error":"#VALUE!"}},{"$error":"#VALUE!"},{"$f":"F148*Simulador!$F$8","v":{"$error":"#VALUE!"}},964.67529711304383,{"$error":"#VALUE!"},null,{"$error":"#VALUE!"}]
[{"$f":"IF(OR(A148>=Simulador!$C$24,A148=0),0,A148+1)","v":0},"","","","",{"$error":"#VALUE!"},{"$f":"F149*((1+Simulador!$C$10)^B149-1)","v":{"$error":"#VALUE!"}},{"$error":"#VALUE!"},{"$f":"F149*Simulador!$F$8","v":{"$error":"#VALUE!"}},964.67529711304383,{"$error":"#VALUE!"},null,{"$error":"#VALUE!"}]
[{"$f":"IF(OR(A149>=Simulador!$C$24,A149=0),0,A149+1)","v":0},"","","","",{"$error":"#VALUE!"},{"$f":"F150*((1+Simulador!$C$10)^B150-1)","v":{"$error":"#VALUE!"}},{"$error":"#VALUE!"},{"$f":"F150*Simulador!$F$8","v":{"$error":"#VALUE!"}},964.67529711304383,{"$error":"#VALUE!"},null,{"$error":"#VALUE!"}]
[{"$f":"IF(OR(A150>=Simulador!$C$24,A150=0),0,A150+1)","v":0},"","","","",{"$error":"#VALUE!"},{"$f":"F151*((1+Simulador!$C$10)^B151-1)","v":{"$error":"#VALUE!"}},{"$error":"#VALUE!"},{"$f":"F151*Simulador!$F$8","v":{"$error":"#VALUE!"}},964.67529711304383,{"$error":"#VALUE!"},null,{"$error":"#VALUE!"}]
[{"$f":"IF(OR(A151>=Simulador!$C$24,A151=0),0,A151+1)","v":0},"","","","",{"$error":"#VALUE!"},{"$f":"F152*((1+Simulador!$C$10)^B152-1)","v":{"$error":"#VALUE!"}},{"$error":"#VALUE!"},{"$f":"F152*Simulador!$F$8","v":{"$error":"#VALUE!"}},964.67529711304383,{"$error":"#VALUE!"},null,{"$error":"#VALUE!"}]
[{"$f":"IF(OR(A152>=Simulador!$C$24,A152=0),0,A152+1)","v":0},"","","","",{"$error":"#VALUE!"},{"$f":"F153*((1+Simulador!$C$10)^B153-1)","v":{"$error":"#VALUE!"}},{"$error":"#VALUE!"},{"$f":"F153*Simulador!$F$8","v":{"$error":"#VALUE!"}},964.67529711304383,{"$error":"#VALUE!"},null,{"$error":"#VALUE!"}]
[{"$f":"IF(OR(A153>=Simulador!$C$24,A153=0),0,A153+1)","v":0},"","","","",{"$error":"#VALUE!"},{"$f":"F154*((1+Simulador!$C$10)^B154-1)","v":{"$error":"#VALUE!"}},{"$error":"#VALUE!"},{"$f":"F154*Simulador!$F$8","v":{"$error":"#VALUE!"}},964.67529711304383,{"$error":"#VALUE!"},null,{"$error":"#VALUE!"}]
[{"$f":"IF(OR(A154>=Simulador!$C$24,A154=0),0,A154+1)","v":0},"","","","",{"$error":"#VALUE!"},{"$f":"F155*((1+Simulador!$C$10)^B155-1)","v":{"$error":"#VALUE!"}},{"$error":"#VALUE!"},{"$f":"F155*Simulador!$F$8","v":{"$error":"#VALUE!"}},964.67529711304383,{"$error":"#VALUE!"},null,{"$error":"#VALUE!"}]
[{"$f":"IF(OR(A155>=Simulador!$C$24,A155=0),0,A155+1)","v":0},"","","","",{"$error":"#VALUE!"},{"$f":"F156*((1+Simulador!$C$10)^B156-1)","v":{"$error":"#VALUE!"}},{"$error":"#VALUE!"},{"$f":"F156*Simulador!$F$8","v":{"$error":"#VALUE!"}},964.67529711304383,{"$error":"#VALUE!"},null,{"$error":"#VALUE!"}]
[{"$f":"IF(OR(A156>=Simulador!$C$24,A156=0),0,A156+1)","v":0},"","","","",{"$error":"#VALUE!"},{"$f":"F157*((1+Simulador!$C$10)^B157-1)","v":{"$error":"#VALUE!"}},{"$error":"#VALUE!"},{"$f":"F157*Simulador!$F$8","v":{"$error":"#VALUE!"}},964.67529711304383,{"$error":"#VALUE!"},null,{"$error":"#VALUE!"}]
[{"$f":"IF(OR(A157>=Simulador!$C$24,A157=0),0,A157+1)","v":0},"","","","",{"$error":"#VALUE!"},{"$f":"F158*((1+Simulador!$C$10)^B158-1)","v":{"$error":"#VALUE!"}},{"$error":"#VALUE!"},{"$f":"F158*Simulador!$F$8","v":{"$error":"#VALUE!"}},964.67529711304383,{"$error":"#VALUE!"},null,{"$error":"#VALUE!"}]
[{"$f":"IF(OR(A158>=Simulador!$C$24,A158=0),0,A158+1)","v":0},"","","","",{"$error":"#VALUE!"},{"$f":"F159*((1+Simulador!$C$10)^B159-1)","v":{"$error":"#VALUE!"}},{"$error":"#VALUE!"},{"$f":"F159*Simulador!$F$8","v":{"$error":"#VALUE!"}},964.67529711304383,{"$error":"#VALUE!"},null,{"$error":"#VALUE!"}]
[{"$f":"IF(OR(A159>=Simulador!$C$24,A159=0),0,A159+1)","v":0},"","","","",{"$error":"#VALUE!"},{"$f":"F160*((1+Simulador!$C$10)^B160-1)","v":{"$error":"#VALUE!"}},{"$error":"#VALUE!"},{"$f":"F160*Simulador!$F$8","v":{"$error":"#VALUE!"}},964.67529711304383,{"$error":"#VALUE!"},null,{"$error":"#VALUE!"}]
[{"$f":"IF(OR(A160>=Simulador!$C$24,A160=0),0,A160+1)","v":0},"","","","",{"$error":"#VALUE!"},{"$f":"F161*((1+Simulador!$C$10)^B161-1)","v":{"$error":"#VALUE!"}},{"$error":"#VALUE!"},{"$f":"F161*Simulador!$F$8","v":{"$error":"#VALUE!"}},964.67529711304383,{"$error":"#VALUE!"},null,{"$error":"#VALUE!"}]
[{"$f":"IF(OR(A161>=Simulador!$C$24,A161=0),0,A161+1)","v":0},"","","","",{"$error":"#VALUE!"},{"$f":"F162*((1+Simulador!$C$10)^B162-1)","v":{"$error":"#VALUE!"}},{"$error":"#VALUE!"},{"$f":"F162*Simulador!$F$8","v":{"$error":"#VALUE!"}},964.67529711304383,{"$error":"#VALUE!"},null,{"$error":"#VALUE!"}]
[{"$f":"IF(OR(A162>=Simulador!$C$24,A162=0),0,A162+1)","v":0},"","","","",{"$error":"#VALUE!"},{"$f":"F163*((1+Simulador!$C$10)^B163-1)","v":{"$error":"#VALUE!"}},{"$error":"#VALUE!"},{"$f":"F163*Simulador!$F$8","v":{"$error":"#VALUE!"}},964.67529711304383,{"$error":"#VALUE!"},null,{"$error":"#VALUE!"}]
[{"$f":"IF(OR(A163>=Simulador!$C$24,A163=0),0,A163+1)","v":0},"","","","",{"$error":"#VALUE!"},{"$f":"F164*((1+Simulador!$C$10)^B164-1)","v":{"$error":"#VALUE!"}},{"$error":"#VALUE!"},{"$f":"F164*Simulador!$F$8","v":{"$error":"#VALUE!"}},964.67529711304383,{"$error":"#VALUE!"},null,{"$error":"#VALUE!"}]
[{"$f":"IF(OR(A164>=Simulador!$C$24,A164=0),0,A164+1)","v":0},"","","","",{"$error":"#VALUE!"},{"$f":"F165*((1+Simulador!$C$10)^B165-1)","v":{"$error":"#VALUE!"}},{"$error":"#VALUE!"},{"$f":"F165*Simulador!$F$8","v":{"$error":"#VALUE!"}},964.67529711304383,{"$error":"#VALUE!"},null,{"$error":"#VALUE!"}]
[{"$f":"IF(OR(A165>=Simulador!$C$24,A165=0),0,A165+1)","v":0},"","","","",{"$error":"#VALUE!"},{"$f":"F166*((1+Simulador!$C$10)^B166-1)","v":{"$error":"#VALUE!"}},{"$error":"#VALUE!"},{"$f":"F166*Simulador!$F$8","v":{"$error":"#VALUE!"}},964.67529711304383,{"$error":"#VALUE!"},null,{"$error":"#VALUE!"}]

{"sheet":"Cronograma final","index":3,"n_rows":0,"n_cols":0,"rows_kept":0,"cut":false,"hidden":true,"merged":[]}

{"sheet":"Resultados","index":4,"n_rows":7,"n_cols":1,"rows_kept":7,"cut":false,"hidden":true,"merged":[]}
["Resultados:"]
["Cuota"]
["TCEA"]
["Última fecha de pago"]
["Intereses"]
[]
["Cronograma:"]

{"sheet":"Procesamiento (2)","index":5,"n_rows":185,"n_cols":25,"rows_kept":185,"cut":false,"hidden":true,"merged":[]}
["Cronograma"]
[]
["n° Periodo","n° Días","n° días acum","Fecha inicial","Fecha Final","Saldo inicial","i","k","Seguro","Cuota","Saldo Aant","Anticipo","Saldo Final",null,null,{"$f":"_xlfn.MAXIFS($K$4:$K$185,$K$4:$K$185,\"<1\")","v":-0.11355107389442765},{"$f":"P3/(COUNT($C$5:$C$206)*2)","v":-1.5770982485337173E-3},{"$f":"D4","v":"2025-11-07"},{"$f":"-F4","v":-14993.27},{"$f":"S3","v":-14993.27},null,{"$f":"SUM(S4:S40)","v":34728.31029664271},null,{"$f":"D4","v":"2025-11-07"},{"$f":"MAX(E4:E185)","v":"2028-11-06"}]
[0,{"$f":"_xlfn.DAYS(E4,D4)","v":23},{"$f":"B4","v":23},{"$f":"Simulador!C12","v":"2025-11-07"},{"$f":"EOMONTH(E5,-1)","v":"2025-11-30"},{"$f":"Simulador!C6","v":14993.27},{"$f":"F4*((1+Simulador!$C$10)^B4-1)","v":585.07005178379814},null,{"$f":"F4*Simulador!$F$8","v":44.979810000000001},null,{"$f":"F4-H4+G4+I4","v":15623.319861783799},null,{"$f":"K4-L4","v":15623.319861783799},null,null,null,null,null,null,{"$f":"S4+T3","v":-14993.27},null,{"$f":"T3","v":-14993.27},null,null,{"$f":"Y3-X3","v":1095}]
[{"$f":"IF(OR(A4>Simulador!$C$24,A4=0),0,A4+1)+1","v":1},{"$f":"IFERROR(_xlfn.DAYS(E5,D5),\"\")","v":6},{"$f":"IFERROR(C4+B5,\"\")","v":29},{"$f":"E4","v":"2025-11-30"},{"$f":"Simulador!C20","v":"2025-12-06"},{"$f":"K4","v":15623.319861783799},{"$f":"F5*((1+Simulador!$C$10)^B5-1)","v":156.7976606574083},{"$f":"J5-I5-G5","v":761.00766577509341},{"$f":"F5*Simulador!$F$8","v":46.869959585351396},{"$f":"Simulador!$C$34+Q5","v":964.67528601785307},{"$f":"F5-H5","v":14862.312196008705},null,{"$f":"K5-L5","v":14862.312196008705},null,null,{"$f":"$Q$3","v":-1.5770982485337173E-3},-1.1095190714627279E-5,{"$f":"IF(E5=\"\",0,E5)","v":"2025-12-06"},{"$f":"IFERROR(I5+G5+H5,0)","v":964.67528601785307},{"$f":"S5+T4","v":-14028.594713982147},null,{"$f":"((1+-V3/V4))/Y4*360","v":1.0902772323478587},null,{"$f":"IRR(S3:S81)","v":5.4967601412434952E-2},{"$f":"X5/Y4*360","v":1.8071540190389573E-2}]
[{"$f":"IF(OR(A5>Simulador!$C$24,A5=0),0,A5+1)","v":2},{"$f":"IFERROR(_xlfn.DAYS(E6,D6),\"\")","v":31},{"$f":"IFERROR(C5+B6,\"\")","v":60},{"$f":"IF(A6<>0,E5,\"\")","v":"2025-12-06"},{"$f":"IFERROR(EDATE(D6,1),\"\")","v":"2026-01-06"},{"$f":"K5","v":14862.312196008705},{"$f":"F6*((1+Simulador!$C$10)^B6-1)","v":786.94552545271938},133.14282397710758,{"$f":"F6*Simulador!$F$8","v":44.586936588026113},{"$f":"Simulador!$C$34+Q6","v":964.67528601785307},14729.169372031596,null,{"$f":"K6-L6","v":14729.169372031596},null,null,{"$f":"$Q$3","v":-1.5770982485337173E-3},-1.1095190714627279E-5,"2026-01-06",964.67528601785307,{"$f":"S6+T5","v":-13063.919427964294}]
[{"$f":"IF(OR(A6>=Simulador!$C$24,A6=0),0,A6+1)","v":3},31,91,{"$f":"IF(A7<>0,E6,\"\")","v":"2026-01-06"},"2026-02-06",14729.169372031596,{"$f":"F7*((1+Simulador!$C$10)^B7-1)","v":779.89573749287138},140.59204040888687,{"$f":"F7*Simulador!$F$8","v":44.18750811609479},{"$f":"Simulador!$C$34+Q7","v":964.67528601785307},14588.57733162271,null,14588.57733162271,null,null,-1.5770982485337173E-3,-1.1095190714627279E-5,"2026-02-06",964.67528601785307,{"$f":"S7+T6","v":-12099.244141946441},null,{"$f":"(V3+V4)/V4","v":-1.3162599150580701}]
[{"$f":"IF(OR(A7>=Simulador!$C$24,A7=0),0,A7+1)","v":4},28,119,"2026-02-06","2026-03-06",14588.57733162271,{"$f":"F8*((1+Simulador!$C$10)^B8-1)","v":695.94428161320616},224.96527240977878,{"$f":"F8*Simulador!$F$8","v":43.765731994868126},{"$f":"Simulador!$C$34+Q8","v":964.67528601785307},14363.61205921293,null,14363.61205921293,null,null,-1.5770982485337173E-3,-1.1095190714627279E-5,"2026-03-06",964.67528601785307,{"$f":"S8+T7","v":-11134.568855928588}]
[{"$f":"IF(OR(A8>=Simulador!$C$24,A8=0),0,A8+1)","v":5},31,150,"2026-03-06","2026-04-06",14363.61205921293,{"$f":"F9*((1+Simulador!$C$10)^B9-1)","v":760.53981979815194},161.04463004206229,{"$f":"F9*Simulador!$F$8","v":43.090836177638792},{"$f":"Simulador!$C$34+Q9","v":964.67528601785307},14202.567429170867,null,14202.567429170867,null,null,-1.5770982485337173E-3,-1.1095190714627279E-5,{"$f":"IF(E9=\"\",0,E9)","v":"2026-04-06"},964.67528601785307,{"$f":"S9+T8","v":-10169.893569910735}]
[{"$f":"IF(OR(A9>=Simulador!$C$24,A9=0),0,A9+1)","v":6},30,180,"2026-04-06","2026-05-06",14202.567429170867,{"$f":"F10*((1+Simulador!$C$10)^B10-1)","v":727.14369815233783},194.92388557800268,{"$f":"F10*Simulador!$F$8","v":42.607702287512602},{"$f":"Simulador!$C$34+Q10","v":964.67528601785307},14007.643543592865,null,14007.643543592865,null,null,-1.5770982485337173E-3,-1.1095190714627279E-5,"2026-05-06",964.67528601785307,-9205.218283892882,null,{"$f":"XIRR(S3:S79,R3:R79)","v":0.90515829324722286}]
[{"$f":"IF(OR(A10>=Simulador!$C$24,A10=0),0,A10+1)","v":7},31,211,"2026-05-06","2026-06-06",14007.643543592865,{"$f":"F11*((1+Simulador!$C$10)^B11-1)","v":741.69161994372507},180.96073544334945,{"$f":"F11*Simulador!$F$8","v":42.022930630778596},{"$f":"Simulador!$C$34+Q11","v":964.67528601785307},13826.682808149515,null,13826.682808149515,null,null,-1.5770982485337173E-3,-1.1095190714627279E-5,"2026-06-06",964.67528601785307,-8240.542997875029]
[{"$f":"IF(OR(A11>=Simulador!$C$24,A11=0),0,A11+1)","v":8},30,241,"2026-06-06","2026-07-06",13826.682808149515,{"$f":"F12*((1+Simulador!$C$10)^B12-1)","v":707.8991400982303},215.29609749517419,{"$f":"F12*Simulador!$F$8","v":41.480048424448547},{"$f":"Simulador!$C$34+Q12","v":964.67528601785307},13611.38671065434,null,13611.38671065434,null,null,-1.5770982485337173E-3,-1.1095190714627279E-5,"2026-07-06",964.67528601785307,-7275.8677118571759]
[{"$f":"IF(OR(A12>=Simulador!$C$24,A12=0),0,A12+1)","v":9},31,272,"2026-07-06","2026-08-06",13611.38671065434,{"$f":"F13*((1+Simulador!$C$10)^B13-1)","v":720.71019138143311},203.13093450445695,{"$f":"F13*Simulador!$F$8","v":40.834160131963024},{"$f":"Simulador!$C$34+Q13","v":964.67528601785307},13408.255776149883,null,13408.255776149883,null,null,-1.5770982485337173E-3,-1.1095190714627279E-5,"2026-08-06",964.67528601785307,-6311.1924258393228]
[{"$f":"IF(OR(A13>=Simulador!$C$24,A13=0),0,A13+1)","v":10},31,303,"2026-08-06","2026-09-06",13408.255776149883,{"$f":"F14*((1+Simulador!$C$10)^B14-1)","v":709.95459845072878},214.49592023867467,{"$f":"F14*Simulador!$F$8","v":40.224767328449651},{"$f":"Simulador!$C$34+Q14","v":964.67528601785307},13193.759855911208,null,13193.759855911208,null,null,-1.5770982485337173E-3,-1.1095190714627279E-5,"2026-09-06",964.67528601785307,-5346.5171398214698]
[{"$f":"IF(OR(A14>=Simulador!$C$24,A14=0),0,A14+1)","v":11},30,333,"2026-09-06","2026-10-06",13193.759855911208,{"$f":"F15*((1+Simulador!$C$10)^B15-1)","v":675.4947217822297},249.59928466788972,{"$f":"F15*Simulador!$F$8","v":39.581279567733624},{"$f":"Simulador!$C$34+Q15","v":964.67528601785307},12944.160571243319,null,12944.160571243319,null,null,-1.5770982485337173E-3,-1.1095190714627279E-5,"2026-10-06",964.67528601785307,-4381.8418538036167]
[{"$f":"IF(OR(A15>=Simulador!$C$24,A15=0),0,A15+1)","v":12},31,364,"2026-10-06","2026-11-06",12944.160571243319,{"$f":"F16*((1+Simulador!$C$10)^B16-1)","v":685.38119156297932},240.46161274114377,{"$f":"F16*Simulador!$F$8","v":38.832481713729962},{"$f":"Simulador!$C$34+Q16","v":964.67528601785307},12703.698958502175,null,12703.698958502175,null,null,-1.5770982485337173E-3,-1.1095190714627279E-5,"2026-11-06",964.67528601785307,-3417.1665677857636]
[{"$f":"IF(OR(A16>=Simulador!$C$24,A16=0),0,A16+1)","v":13},30,394,"2026-11-06","2026-12-06",12703.698958502175,{"$f":"F17*((1+Simulador!$C$10)^B17-1)","v":650.40456149684655},276.1596276455,{"$f":"F17*Simulador!$F$8","v":38.111096875506526},{"$f":"Simulador!$C$34+Q17","v":964.67528601785307},12427.539330856674,null,12427.539330856674,null,null,-1.5770982485337173E-3,-1.1095190714627279E-5,"2026-12-06",964.67528601785307,-2452.4912817679106]
[{"$f":"IF(OR(A17>=Simulador!$C$24,A17=0),0,A17+1)","v":14},31,425,"2026-12-06","2027-01-06",12427.539330856674,{"$f":"F18*((1+Simulador!$C$10)^B18-1)","v":658.0265802404366},269.3660877848464,{"$f":"F18*Simulador!$F$8","v":37.282617992570025},{"$f":"Simulador!$C$34+Q18","v":964.67528601785307},12158.173243071828,null,12158.173243071828,null,null,-1.5770982485337173E-3,-1.1095190714627279E-5,"2027-01-06",964.67528601785307,-1487.8159957500575]
[{"$f":"IF(OR(A18>=Simulador!$C$24,A18=0),0,A18+1)","v":15},31,456,"2027-01-06","2027-02-06",12158.173243071828,{"$f":"F19*((1+Simulador!$C$10)^B19-1)","v":643.76389791379859},284.43686837483904,{"$f":"F19*Simulador!$F$8","v":36.47451972921548},{"$f":"Simulador!$C$34+Q19","v":964.67528601785307},11873.736374696988,null,11873.736374696988,null,null,-1.5770982485337173E-3,-1.1095190714627279E-5,"2027-02-06",964.67528601785307,-523.14070973220441]
[{"$f":"IF(OR(A19>=Simulador!$C$24,A19=0),0,A19+1)","v":16},28,484,"2027-02-06","2027-03-06",11873.736374696988,{"$f":"F20*((1+Simulador!$C$10)^B20-1)","v":566.4335009172504},362.62057597651176,{"$f":"F20*Simulador!$F$8","v":35.621209124090967},{"$f":"Simulador!$C$34+Q20","v":964.67528601785307},11511.115798720475,null,11511.115798720475,null,null,-1.5770982485337173E-3,-1.1095190714627279E-5,"2027-03-06",964.67528601785318,441.53457628564877]
[{"$f":"IF(OR(A20>=Simulador!$C$24,A20=0),0,A20+1)","v":17},31,515,"2027-03-06","2027-04-06",11511.115798720475,{"$f":"F21*((1+Simulador!$C$10)^B21-1)","v":609.5028116287242},320.63912699296748,{"$f":"F21*Simulador!$F$8","v":34.533347396161425},{"$f":"Simulador!$C$34+Q21","v":964.67528601785307},11190.476671727507,null,11190.476671727507,null,null,-1.5770982485337173E-3,-1.1095190714627279E-5,"2027-04-06",964.67528601785307,1406.2098623035017]
[{"$f":"IF(OR(A21>=Simulador!$C$24,A21=0),0,A21+1)","v":18},30,545,"2027-04-06","2027-05-06",11190.476671727507,{"$f":"F22*((1+Simulador!$C$10)^B22-1)","v":572.9305375065162},358.17331849615437,{"$f":"F22*Simulador!$F$8","v":33.571430015182521},{"$f":"Simulador!$C$34+Q22","v":964.67528601785307},10832.303353231353,null,10832.303353231353,null,null,-1.5770982485337173E-3,-1.1095190714627279E-5,"2027-05-06",964.67528601785307,2370.8851483213548]
[{"$f":"IF(OR(A22>=Simulador!$C$24,A22=0),0,A22+1)","v":19},31,576,"2027-05-06","2027-06-06",10832.303353231353,{"$f":"F23*((1+Simulador!$C$10)^B23-1)","v":573.56032774369726},358.61804821446174,{"$f":"F23*Simulador!$F$8","v":32.496910059694059},{"$f":"Simulador!$C$34+Q23","v":964.67528601785307},10473.685305016892,null,10473.685305016892,null,null,-1.5770982485337173E-3,-1.1095190714627279E-5,"2027-06-06",964.67528601785307,3335.5604343392079]
[{"$f":"IF(OR(A23>=Simulador!$C$24,A23=0),0,A23+1)","v":20},30,606,"2027-06-06","2027-07-06",10473.685305016892,{"$f":"F24*((1+Simulador!$C$10)^B24-1)","v":536.23222026261396},397.02200984018839,{"$f":"F24*Simulador!$F$8","v":31.421055915050676},{"$f":"Simulador!$C$34+Q24","v":964.67528601785307},10076.663295176704,null,10076.663295176704,null,null,-1.5770982485337173E-3,-1.1095190714627279E-5,"2027-07-06",964.67528601785307,4300.2357203570609]
[{"$f":"IF(OR(A24>=Simulador!$C$24,A24=0),0,A24+1)","v":21},31,637,"2027-07-06","2027-08-06",10076.663295176704,{"$f":"F25*((1+Simulador!$C$10)^B25-1)","v":533.54989365399797},400.89540247832497,{"$f":"F25*Simulador!$F$8","v":30.229989885530113},{"$f":"Simulador!$C$34+Q25","v":964.67528601785307},9675.767892698379,null,9675.767892698379,null,null,-1.5770982485337173E-3,-1.1095190714627279E-5,"2027-08-06",964.67528601785307,5264.911006374914]
[{"$f":"IF(OR(A25>=Simulador!$C$24,A25=0),0,A25+1)","v":22},31,668,"2027-08-06","2027-09-06",9675.767892698379,{"$f":"F26*((1+Simulador!$C$10)^B26-1)","v":512.32285717446496},423.325125165293,{"$f":"F26*Simulador!$F$8","v":29.027303678095137},{"$f":"Simulador!$C$34+Q26","v":964.67528601785307},9252.4427675330862,null,9252.4427675330862,null,null,-1.5770982485337173E-3,-1.1095190714627279E-5,"2027-09-06",964.67528601785307,6229.5862923927671]
[{"$f":"IF(OR(A26>=Simulador!$C$24,A26=0),0,A26+1)","v":23},30,698,"2027-09-06","2027-10-06",9252.4427675330862,{"$f":"F27*((1+Simulador!$C$10)^B27-1)","v":473.70698885811419},463.21096885713962,{"$f":"F27*Simulador!$F$8","v":27.757328302599259},{"$f":"Simulador!$C$34+Q27","v":964.67528601785307},8789.2317986759463,null,8789.2317986759463,null,null,-1.5770982485337173E-3,-1.1095190714627279E-5,"2027-10-06",964.67528601785307,7194.2615784106201]
[{"$f":"IF(OR(A27>=Simulador!$C$24,A27=0),0,A27+1)","v":24},31,729,"2027-10-06","2027-11-06",8789.2317986759463,{"$f":"F28*((1+Simulador!$C$10)^B28-1)","v":465.38160044789447},472.92599017393081,{"$f":"F28*Simulador!$F$8","v":26.367695396027841},{"$f":"Simulador!$C$34+Q28","v":964.67528601785307},8316.3058085020148,null,8316.3058085020148,null,null,-1.5770982485337173E-3,-1.1095190714627279E-5,"2027-11-06",964.67528601785307,8158.9368644284732]
[{"$f":"IF(OR(A28>=Simulador!$C$24,A28=0),0,A28+1)","v":25},30,759,"2027-11-06","2027-12-06",8316.3058085020148,{"$f":"F29*((1+Simulador!$C$10)^B29-1)","v":425.77860592582658},513.94776266652048,{"$f":"F29*Simulador!$F$8","v":24.948917425506046},{"$f":"Simulador!$C$34+Q29","v":964.67528601785307},7802.3580458354945,null,7802.3580458354945,null,null,-1.5770982485337173E-3,-1.1095190714627279E-5,"2027-12-06",964.67528601785307,9123.6121504463263]
[{"$f":"IF(OR(A29>=Simulador!$C$24,A29=0),0,A29+1)","v":26},31,790,"2027-12-06","2028-01-06",7802.3580458354945,{"$f":"F30*((1+Simulador!$C$10)^B30-1)","v":413.12755856381352},528.14065331653308,{"$f":"F30*Simulador!$F$8","v":23.407074137506484},{"$f":"Simulador!$C$34+Q30","v":964.67528601785307},7274.2173925189618,null,7274.2173925189618,null,null,-1.5770982485337173E-3,-1.1095190714627279E-5,"2028-01-06",964.67528601785307,10088.287436464179]
[{"$f":"IF(OR(A30>=Simulador!$C$24,A30=0),0,A30+1)","v":27},31,821,"2028-01-06","2028-02-06",7274.2173925189618,{"$f":"F31*((1+Simulador!$C$10)^B31-1)","v":385.16300510430966},557.68962873598662,{"$f":"F31*Simulador!$F$8","v":21.822652177556886},{"$f":"Simulador!$C$34+Q31","v":964.67528601785307},6716.5277637829749,null,6716.5277637829749,null,null,-1.5770982485337173E-3,-1.1095190714627279E-5,"2028-02-06",964.67528601785318,11052.962722482032]
[{"$f":"IF(OR(A31>=Simulador!$C$24,A31=0),0,A31+1)","v":28},29,850,"2028-02-06","2028-03-06",6716.5277637829749,{"$f":"F32*((1+Simulador!$C$10)^B32-1)","v":332.13188925671813},612.39381346978598,{"$f":"F32*Simulador!$F$8","v":20.149583291348925},{"$f":"Simulador!$C$34+Q32","v":964.67528601785307},6104.1339503131894,null,6104.1339503131894,null,null,-1.5770982485337173E-3,-1.1095190714627279E-5,"2028-03-06",964.67528601785307,12017.638008499885]
[{"$f":"IF(OR(A32>=Simulador!$C$24,A32=0),0,A32+1)","v":29},31,881,"2028-03-06","2028-04-06",6104.1339503131894,{"$f":"F33*((1+Simulador!$C$10)^B33-1)","v":323.20818158112809},623.15470258578546,{"$f":"F33*Simulador!$F$8","v":18.312401850939569},{"$f":"Simulador!$C$34+Q33","v":964.67528601785307},5480.9792477274041,null,5480.9792477274041,null,null,-1.5770982485337173E-3,-1.1095190714627279E-5,"2028-04-06",964.67528601785307,12982.313294517739]
[{"$f":"IF(OR(A33>=Simulador!$C$24,A33=0),0,A33+1)","v":30},30,911,"2028-04-06","2028-05-06",5480.9792477274041,{"$f":"F34*((1+Simulador!$C$10)^B34-1)","v":280.61542672227893},667.61692155239189,{"$f":"F34*Simulador!$F$8","v":16.442937743182213},{"$f":"Simulador!$C$34+Q34","v":964.67528601785307},4813.3623261750126,null,4813.3623261750126,null,null,-1.5770982485337173E-3,-1.1095190714627279E-5,"2028-05-06",964.67528601785307,13946.988580535592]
[{"$f":"IF(OR(A34>=Simulador!$C$24,A34=0),0,A34+1)","v":31},31,942,"2028-05-06","2028-06-06",4813.3623261750126,{"$f":"F35*((1+Simulador!$C$10)^B35-1)","v":254.86303174167963},695.37216729764839,{"$f":"F35*Simulador!$F$8","v":14.440086978525038},{"$f":"Simulador!$C$34+Q35","v":964.67528601785307},4117.9901588773646,null,4117.9901588773646,null,null,-1.5770982485337173E-3,-1.1095190714627279E-5,"2028-06-06",964.67528601785307,14911.663866553445]
[{"$f":"IF(OR(A35>=Simulador!$C$24,A35=0),0,A35+1)","v":32},30,972,"2028-06-06","2028-07-06",4117.9901588773646,{"$f":"F36*((1+Simulador!$C$10)^B36-1)","v":210.83304888458667},741.48826665663432,{"$f":"F36*Simulador!$F$8","v":12.353970476632094},{"$f":"Simulador!$C$34+Q36","v":964.67528601785307},3376.50189222073,null,3376.50189222073,null,null,-1.5770982485337173E-3,-1.1095190714627279E-5,"2028-07-06",964.67528601785307,15876.339152571298]
[{"$f":"IF(OR(A36>=Simulador!$C$24,A36=0),0,A36+1)","v":33},31,1003,"2028-07-06","2028-08-06",3376.50189222073,{"$f":"F37*((1+Simulador!$C$10)^B37-1)","v":178.78261610460032},775.76316423659046,{"$f":"F37*Simulador!$F$8","v":10.129505676662191},{"$f":"Simulador!$C$34+Q37","v":964.67528601785307},2600.7387279841396,null,2600.7387279841396,null,null,-1.5770982485337173E-3,-1.1095190714627279E-5,"2028-08-06",964.67528601785295,16841.014438589151]
[{"$f":"IF(OR(A37>=Simulador!$C$24,A37=0),0,A37+1)","v":34},31,1034,"2028-08-06","2028-09-06",2600.7387279841396,{"$f":"F38*((1+Simulador!$C$10)^B38-1)","v":137.70668236994399},819.16638746395665,{"$f":"F38*Simulador!$F$8","v":7.8022161839524191},{"$f":"Simulador!$C$34+Q38","v":964.67528601785307},1781.5723405201829,null,1781.5723405201829,null,null,-1.5770982485337173E-3,-1.1095190714627279E-5,"2028-09-06",964.67528601785307,17805.689724607004]
[{"$f":"IF(OR(A38>=Simulador!$C$24,A38=0),0,A38+1)","v":35},30,1064,"2028-09-06","2028-10-06",1781.5723405201829,{"$f":"F39*((1+Simulador!$C$10)^B39-1)","v":91.213022340664892},868.11754665562762,{"$f":"F39*Simulador!$F$8","v":5.3447170215605491},{"$f":"Simulador!$C$34+Q39","v":964.67528601785307},913.45479386455531,null,913.45479386455531,null,null,-1.5770982485337173E-3,-1.1095190714627279E-5,"2028-10-06",964.67528601785307,18770.365010624857]
[{"$f":"IF(OR(A39>=Simulador!$C$24,A39=0),0,A39+1)","v":36},31,1095,"2028-10-06","2028-11-06",913.45479386455531,{"$f":"F40*((1+Simulador!$C$10)^B40-1)","v":48.366576697809727},913.56834493844974,{"$f":"F40*Simulador!$F$8","v":2.740364381593666},{"$f":"Simulador!$C$34+Q40","v":964.67528601785307},{"$f":"F40-H40","v":-0.11355107389442765},null,-0.11355107389442765,null,null,-1.5770982485337173E-3,-1.1095190714627279E-5,"2028-11-06",964.67528601785318,19735.04029664271]
[{"$f":"IF(OR(A40>=Simulador!$C$24,A40=0),0,A40+1)","v":0},"","","","",-0.11355107389442765,{"$f":"F41*((1+Simulador!$C$10)^B41-1)","v":{"$error":"#VALUE!"}},{"$error":"#VALUE!"},{"$f":"F41*Simulador!$F$8","v":-3.4065322168328296E-4},{"$f":"Simulador!$C$34+Q41","v":964.67528601785307},{"$error":"#VALUE!"},null,{"$error":"#VALUE!"},null,null,-1.5770982485337173E-3,-1.1095190714627279E-5,{"$f":"IF(E41=\"\",0,E41)","v":"00:00:00"},0]
[{"$f":"IF(OR(A41>=Simulador!$C$24,A41=0),0,A41+1)","v":0},"","","","",{"$error":"#VALUE!"},{"$f":"F42*((1+Simulador!$C$10)^B42-1)","v":{"$error":"#VALUE!"}},{"$error":"#VALUE!"},{"$f":"F42*Simulador!$F$8","v":{"$error":"#VALUE!"}},{"$f":"$J$5","v":964.67528601785307},{"$error":"#VALUE!"},null,{"$error":"#VALUE!"},null,null,-1.5770982485337173E-3,-1.1095190714627279E-5,{"$f":"IF(E42=\"\",0,E42)","v":"00:00:00"},0]
[{"$f":"IF(OR(A42>=Simulador!$C$24,A42=0),0,A42+1)","v":0},"","","","",{"$error":"#VALUE!"},{"$f":"F43*((1+Simulador!$C$10)^B43-1)","v":{"$error":"#VALUE!"}},{"$error":"#VALUE!"},{"$f":"F43*Simulador!$F$8","v":{"$error":"#VALUE!"}},964.67528601785307,{"$error":"#VALUE!"},null,{"$error":"#VALUE!"},null,null,-1.5770982485337173E-3,-1.1095190714627279E-5,"00:00:00",0]
[{"$f":"IF(OR(A43>=Simulador!$C$24,A43=0),0,A43+1)","v":0},"","","","",{"$error":"#VALUE!"},{"$f":"F44*((1+Simulador!$C$10)^B44-1)","v":{"$error":"#VALUE!"}},{"$error":"#VALUE!"},{"$f":"F44*Simulador!$F$8","v":{"$error":"#VALUE!"}},964.67528601785307,{"$error":"#VALUE!"},null,{"$error":"#VALUE!"},null,null,-1.5770982485337173E-3,-1.1095190714627279E-5,"00:00:00",0]
[{"$f":"IF(OR(A44>=Simulador!$C$24,A44=0),0,A44+1)","v":0},"","","","",{"$error":"#VALUE!"},{"$f":"F45*((1+Simulador!$C$10)^B45-1)","v":{"$error":"#VALUE!"}},{"$error":"#VALUE!"},{"$f":"F45*Simulador!$F$8","v":{"$error":"#VALUE!"}},964.67528601785307,{"$error":"#VALUE!"},null,{"$error":"#VALUE!"},null,null,-1.5770982485337173E-3,-1.1095190714627279E-5,"00:00:00",0]
[{"$f":"IF(OR(A45>=Simulador!$C$24,A45=0),0,A45+1)","v":0},"","","","",{"$error":"#VALUE!"},{"$f":"F46*((1+Simulador!$C$10)^B46-1)","v":{"$error":"#VALUE!"}},{"$error":"#VALUE!"},{"$f":"F46*Simulador!$F$8","v":{"$error":"#VALUE!"}},964.67528601785307,{"$error":"#VALUE!"},null,{"$error":"#VALUE!"},null,null,-1.5770982485337173E-3,-1.1095190714627279E-5,"00:00:00",0]
[{"$f":"IF(OR(A46>=Simulador!$C$24,A46=0),0,A46+1)","v":0},"","","","",{"$error":"#VALUE!"},{"$f":"F47*((1+Simulador!$C$10)^B47-1)","v":{"$error":"#VALUE!"}},{"$error":"#VALUE!"},{"$f":"F47*Simulador!$F$8","v":{"$error":"#VALUE!"}},964.67528601785307,{"$error":"#VALUE!"},null,{"$error":"#VALUE!"},null,null,-1.5770982485337173E-3,-1.1095190714627279E-5,"00:00:00",0]
[{"$f":"IF(OR(A47>=Simulador!$C$24,A47=0),0,A47+1)","v":0},"","","","",{"$error":"#VALUE!"},{"$f":"F48*((1+Simulador!$C$10)^B48-1)","v":{"$error":"#VALUE!"}},{"$error":"#VALUE!"},{"$f":"F48*Simulador!$F$8","v":{"$error":"#VALUE!"}},964.67528601785307,{"$error":"#VALUE!"},null,{"$error":"#VALUE!"},null,null,-1.5770982485337173E-3,-1.1095190714627279E-5,"00:00:00",0]
[{"$f":"IF(OR(A48>=Simulador!$C$24,A48=0),0,A48+1)","v":0},"","","","",{"$error":"#VALUE!"},{"$f":"F49*((1+Simulador!$C$10)^B49-1)","v":{"$error":"#VALUE!"}},{"$error":"#VALUE!"},{"$f":"F49*Simulador!$F$8","v":{"$error":"#VALUE!"}},964.67528601785307,{"$error":"#VALUE!"},null,{"$error":"#VALUE!"},null,null,-1.5770982485337173E-3,-1.1095190714627279E-5,"00:00:00",0]
[{"$f":"IF(OR(A49>=Simulador!$C$24,A49=0),0,A49+1)","v":0},"","","","",{"$error":"#VALUE!"},{"$f":"F50*((1+Simulador!$C$10)^B50-1)","v":{"$error":"#VALUE!"}},{"$error":"#VALUE!"},{"$f":"F50*Simulador!$F$8","v":{"$error":"#VALUE!"}},964.67528601785307,{"$error":"#VALUE!"},null,{"$error":"#VALUE!"},null,null,-1.5770982485337173E-3,-1.1095190714627279E-5,"00:00:00",0]
[{"$f":"IF(OR(A50>=Simulador!$C$24,A50=0),0,A50+1)","v":0},"","","","",{"$error":"#VALUE!"},{"$f":"F51*((1+Simulador!$C$10)^B51-1)","v":{"$error":"#VALUE!"}},{"$error":"#VALUE!"},{"$f":"F51*Simulador!$F$8","v":{"$error":"#VALUE!"}},964.67528601785307,{"$error":"#VALUE!"},null,{"$error":"#VALUE!"},null,null,-1.5770982485337173E-3,-1.1095190714627279E-5,"00:00:00",0]
[{"$f":"IF(OR(A51>=Simulador!$C$24,A51=0),0,A51+1)","v":0},"","","","",{"$error":"#VALUE!"},{"$f":"F52*((1+Simulador!$C$10)^B52-1)","v":{"$error":"#VALUE!"}},{"$error":"#VALUE!"},{"$f":"F52*Simulador!$F$8","v":{"$error":"#VALUE!"}},964.67528601785307,{"$error":"#VALUE!"},null,{"$error":"#VALUE!"},null,null,-1.5770982485337173E-3,-1.1095190714627279E-5,"00:00:00",0]
[{"$f":"IF(OR(A52>=Simulador!$C$24,A52=0),0,A52+1)","v":0},"","","","",{"$error":"#VALUE!"},{"$f":"F53*((1+Simulador!$C$10)^B53-1)","v":{"$error":"#VALUE!"}},{"$error":"#VALUE!"},{"$f":"F53*Simulador!$F$8","v":{"$error":"#VALUE!"}},964.67528601785307,{"$error":"#VALUE!"},null,{"$error":"#VALUE!"},null,null,-1.5770982485337173E-3,-1.1095190714627279E-5,"00:00:00",0]
[{"$f":"IF(OR(A53>=Simulador!$C$24,A53=0),0,A53+1)","v":0},"","",{"$f":"IF(A54<>0,E53,\"\")","v":""},{"$f":"IFERROR(EDATE(D54,1),\"\")","v":""},{"$error":"#VALUE!"},{"$f":"F54*((1+Simulador!$C$10)^B54-1)","v":{"$error":"#VALUE!"}},{"$error":"#VALUE!"},{"$f":"F54*Simulador!$F$8","v":{"$error":"#VALUE!"}},964.67528601785307,{"$error":"#VALUE!"},null,{"$error":"#VALUE!"},null,null,-1.5770982485337173E-3,-1.1095190714627279E-5,"00:00:00",0]
[{"$f":"IF(OR(A54>=Simulador!$C$24,A54=0),0,A54+1)","v":0},"","","","",{"$error":"#VALUE!"},{"$f":"F55*((1+Simulador!$C$10)^B55-1)","v":{"$error":"#VALUE!"}},{"$error":"#VALUE!"},{"$f":"F55*Simulador!$F$8","v":{"$error":"#VALUE!"}},964.67528601785307,{"$error":"#VALUE!"},null,{"$error":"#VALUE!"},null,null,-1.5770982485337173E-3,-1.1095190714627279E-5,"00:00:00",0]
[{"$f":"IF(OR(A55>=Simulador!$C$24,A55=0),0,A55+1)","v":0},"","","","",{"$error":"#VALUE!"},{"$f":"F56*((1+Simulador!$C$10)^B56-1)","v":{"$error":"#VALUE!"}},{"$error":"#VALUE!"},{"$f":"F56*Simulador!$F$8","v":{"$error":"#VALUE!"}},964.67528601785307,{"$error":"#VALUE!"},null,{"$error":"#VALUE!"},null,null,-1.5770982485337173E-3,-1.1095190714627279E-5,"00:00:00",0]
[{"$f":"IF(OR(A56>=Simulador!$C$24,A56=0),0,A56+1)","v":0},"","","","",{"$error":"#VALUE!"},{"$f":"F57*((1+Simulador!$C$10)^B57-1)","v":{"$error":"#VALUE!"}},{"$error":"#VALUE!"},{"$f":"F57*Simulador!$F$8","v":{"$error":"#VALUE!"}},964.67528601785307,{"$error":"#VALUE!"},null,{"$error":"#VALUE!"},null,null,-1.5770982485337173E-3,-1.1095190714627279E-5,"00:00:00",0]
[{"$f":"IF(OR(A57>=Simulador!$C$24,A57=0),0,A57+1)","v":0},"","","","",{"$error":"#VALUE!"},{"$f":"F58*((1+Simulador!$C$10)^B58-1)","v":{"$error":"#VALUE!"}},{"$error":"#VALUE!"},{"$f":"F58*Simulador!$F$8","v":{"$error":"#VALUE!"}},964.67528601785307,{"$error":"#VALUE!"},null,{"$error":"#VALUE!"},null,null,-1.5770982485337173E-3,-1.1095190714627279E-5,"00:00:00",0]
[{"$f":"IF(OR(A58>=Simulador!$C$24,A58=0),0,A58+1)","v":0},"","","","",{"$error":"#VALUE!"},{"$f":"F59*((1+Simulador!$C$10)^B59-1)","v":{"$error":"#VALUE!"}},{"$error":"#VALUE!"},{"$f":"F59*Simulador!$F$8","v":{"$error":"#VALUE!"}},964.67528601785307,{"$error":"#VALUE!"},null,{"$error":"#VALUE!"},null,null,-1.5770982485337173E-3,-1.1095190714627279E-5,"00:00:00",0]
[{"$f":"IF(OR(A59>=Simulador!$C$24,A59=0),0,A59+1)","v":0},"","","","",{"$error":"#VALUE!"},{"$f":"F60*((1+Simulador!$C$10)^B60-1)","v":{"$error":"#VALUE!"}},{"$error":"#VALUE!"},{"$f":"F60*Simulador!$F$8","v":{"$error":"#VALUE!"}},964.67528601785307,{"$error":"#VALUE!"},null,{"$error":"#VALUE!"},null,null,-1.5770982485337173E-3,-1.1095190714627279E-5,"00:00:00",0]
[{"$f":"IF(OR(A60>=Simulador!$C$24,A60=0),0,A60+1)","v":0},"","","","",{"$error":"#VALUE!"},{"$f":"F61*((1+Simulador!$C$10)^B61-1)","v":{"$error":"#VALUE!"}},{"$error":"#VALUE!"},{"$f":"F61*Simulador!$F$8","v":{"$error":"#VALUE!"}},964.67528601785307,{"$error":"#VALUE!"},null,{"$error":"#VALUE!"},null,null,-1.5770982485337173E-3,-1.1095190714627279E-5,"00:00:00",0]
[{"$f":"IF(OR(A61>=Simulador!$C$24,A61=0),0,A61+1)","v":0},"","","","",{"$error":"#VALUE!"},{"$f":"F62*((1+Simulador!$C$10)^B62-1)","v":{"$error":"#VALUE!"}},{"$error":"#VALUE!"},{"$f":"F62*Simulador!$F$8","v":{"$error":"#VALUE!"}},964.67528601785307,{"$error":"#VALUE!"},null,{"$error":"#VALUE!"},null,null,-1.5770982485337173E-3,-1.1095190714627279E-5,"00:00:00",0]
[{"$f":"IF(OR(A62>=Simulador!$C$24,A62=0),0,A62+1)","v":0},"","","","",{"$error":"#VALUE!"},{"$f":"F63*((1+Simulador!$C$10)^B63-1)","v":{"$error":"#VALUE!"}},{"$error":"#VALUE!"},{"$f":"F63*Simulador!$F$8","v":{"$error":"#VALUE!"}},964.67528601785307,{"$error":"#VALUE!"},null,{"$error":"#VALUE!"},null,null,-1.5770982485337173E-3,-1.1095190714627279E-5,"00:00:00",0]
[{"$f":"IF(OR(A63>=Simulador!$C$24,A63=0),0,A63+1)","v":0},"","","","",{"$error":"#VALUE!"},{"$f":"F64*((1+Simulador!$C$10)^B64-1)","v":{"$error":"#VALUE!"}},{"$error":"#VALUE!"},{"$f":"F64*Simulador!$F$8","v":{"$error":"#VALUE!"}},964.67528601785307,{"$error":"#VALUE!"},null,{"$error":"#VALUE!"},null,null,-1.5770982485337173E-3,-1.1095190714627279E-5,"00:00:00",0]
[{"$f":"IF(OR(A64>=Simulador!$C$24,A64=0),0,A64+1)","v":0},"","","","",{"$error":"#VALUE!"},{"$f":"F65*((1+Simulador!$C$10)^B65-1)","v":{"$error":"#VALUE!"}},{"$error":"#VALUE!"},{"$f":"F65*Simulador!$F$8","v":{"$error":"#VALUE!"}},964.67528601785307,{"$error":"#VALUE!"},null,{"$error":"#VALUE!"},null,null,-1.5770982485337173E-3,-1.1095190714627279E-5,"00:00:00",0]
[{"$f":"IF(OR(A65>=Simulador!$C$24,A65=0),0,A65+1)","v":0},"","","","",{"$error":"#VALUE!"},{"$f":"F66*((1+Simulador!$C$10)^B66-1)","v":{"$error":"#VALUE!"}},{"$error":"#VALUE!"},{"$f":"F66*Simulador!$F$8","v":{"$error":"#VALUE!"}},964.67528601785307,{"$error":"#VALUE!"},null,{"$error":"#VALUE!"},null,null,-1.5770982485337173E-3,-1.1095190714627279E-5,"00:00:00",0]
[{"$f":"IF(OR(A66>=Simulador!$C$24,A66=0),0,A66+1)","v":0},"","","","",{"$error":"#VALUE!"},{"$f":"F67*((1+Simulador!$C$10)^B67-1)","v":{"$error":"#VALUE!"}},{"$error":"#VALUE!"},{"$f":"F67*Simulador!$F$8","v":{"$error":"#VALUE!"}},964.67528601785307,{"$error":"#VALUE!"},null,{"$error":"#VALUE!"},null,null,-1.5770982485337173E-3,-1.1095190714627279E-5,"00:00:00",0]
[{"$f":"IF(OR(A67>=Simulador!$C$24,A67=0),0,A67+1)","v":0},"","","","",{"$error":"#VALUE!"},{"$f":"F68*((1+Simulador!$C$10)^B68-1)","v":{"$error":"#VALUE!"}},{"$error":"#VALUE!"},{"$f":"F68*Simulador!$F$8","v":{"$error":"#VALUE!"}},964.67528601785307,{"$error":"#VALUE!"},null,{"$error":"#VALUE!"},null,null,-1.5770982485337173E-3,-1.1095190714627279E-5,"00:00:00",0]
[{"$f":"IF(OR(A68>=Simulador!$C$24,A68=0),0,A68+1)","v":0},"","","","",{"$error":"#VALUE!"},{"$f":"F69*((1+Simulador!$C$10)^B69-1)","v":{"$error":"#VALUE!"}},{"$f":"J69-I69-G69","v":{"$error":"#VALUE!"}},{"$f":"F69*Simulador!$F$8","v":{"$error":"#VALUE!"}},964.67528601785307,{"$f":"F69-H69","v":{"$error":"#VALUE!"}},null,{"$error":"#VALUE!"},null,null,-1.5770982485337173E-3,-1.1095190714627279E-5,"00:00:00",{"$f":"IFERROR(I69+G69+H69,0)","v":0}]
[{"$f":"IF(OR(A69>=Simulador!$C$24,A69=0),0,A69+1)","v":0},{"$f":"IFERROR(_xlfn.DAYS(E70,D70),\"\")","v":""},{"$f":"IFERROR(C69+B70,\"\")","v":""},"",{"$f":"IFERROR(EDATE(D70,1),\"\")","v":""},{"$f":"K69","v":{"$error":"#VALUE!"}},{"$f":"F70*((1+Simulador!$C$10)^B70-1)","v":{"$error":"#VALUE!"}},{"$error":"#VALUE!"},{"$f":"F70*Simulador!$F$8","v":{"$error":"#VALUE!"}},964.67528601785307,{"$error":"#VALUE!"},null,{"$f":"K70-L70","v":{"$error":"#VALUE!"}},null,null,{"$f":"$Q$3","v":-1.5770982485337173E-3},-1.1095190714627279E-5,"00:00:00",0]
[{"$f":"IF(OR(A70>=Simulador!$C$24,A70=0),0,A70+1)","v":0},"","",{"$f":"IF(A71<>0,E70,\"\")","v":""},"",{"$error":"#VALUE!"},{"$f":"F71*((1+Simulador!$C$10)^B71-1)","v":{"$error":"#VALUE!"}},{"$error":"#VALUE!"},{"$f":"F71*Simulador!$F$8","v":{"$error":"#VALUE!"}},{"$f":"$J$5","v":964.67528601785307},{"$error":"#VALUE!"},null,{"$error":"#VALUE!"},null,null,-1.5770982485337173E-3,-1.1095190714627279E-5,"00:00:00",0]
[{"$f":"IF(OR(A71>=Simulador!$C$24,A71=0),0,A71+1)","v":0},"","","","",{"$error":"#VALUE!"},{"$f":"F72*((1+Simulador!$C$10)^B72-1)","v":{"$error":"#VALUE!"}},{"$error":"#VALUE!"},{"$f":"F72*Simulador!$F$8","v":{"$error":"#VALUE!"}},964.67528601785307,{"$error":"#VALUE!"},null,{"$error":"#VALUE!"},null,null,-1.5770982485337173E-3,-1.1095190714627279E-5,"00:00:00",0]
[{"$f":"IF(OR(A72>=Simulador!$C$24,A72=0),0,A72+1)","v":0},"","","","",{"$error":"#VALUE!"},{"$f":"F73*((1+Simulador!$C$10)^B73-1)","v":{"$error":"#VALUE!"}},{"$error":"#VALUE!"},{"$f":"F73*Simulador!$F$8","v":{"$error":"#VALUE!"}},964.67528601785307,{"$error":"#VALUE!"},null,{"$error":"#VALUE!"},null,null,-1.5770982485337173E-3,-1.1095190714627279E-5,"00:00:00",0]
[{"$f":"IF(OR(A73>=Simulador!$C$24,A73=0),0,A73+1)","v":0},"","","","",{"$error":"#VALUE!"},{"$f":"F74*((1+Simulador!$C$10)^B74-1)","v":{"$error":"#VALUE!"}},{"$error":"#VALUE!"},{"$f":"F74*Simulador!$F$8","v":{"$error":"#VALUE!"}},964.67528601785307,{"$error":"#VALUE!"},null,{"$error":"#VALUE!"},null,null,-1.5770982485337173E-3,-1.1095190714627279E-5,"00:00:00",0]
[{"$f":"IF(OR(A74>=Simulador!$C$24,A74=0),0,A74+1)","v":0},"","","","",{"$error":"#VALUE!"},{"$f":"F75*((1+Simulador!$C$10)^B75-1)","v":{"$error":"#VALUE!"}},{"$error":"#VALUE!"},{"$f":"F75*Simulador!$F$8","v":{"$error":"#VALUE!"}},964.67528601785307,{"$error":"#VALUE!"},null,{"$error":"#VALUE!"},null,null,-1.5770982485337173E-3,-1.1095190714627279E-5,"00:00:00",0]
[{"$f":"IF(OR(A75>=Simulador!$C$24,A75=0),0,A75+1)","v":0},"","","","",{"$error":"#VALUE!"},{"$f":"F76*((1+Simulador!$C$10)^B76-1)","v":{"$error":"#VALUE!"}},{"$error":"#VALUE!"},{"$f":"F76*Simulador!$F$8","v":{"$error":"#VALUE!"}},964.67528601785307,{"$error":"#VALUE!"},null,{"$error":"#VALUE!"},null,null,-1.5770982485337173E-3,-1.1095190714627279E-5,"00:00:00",0]
[{"$f":"IF(OR(A76>=Simulador!$C$24,A76=0),0,A76+1)","v":0},"","","","",{"$error":"#VALUE!"},{"$f":"F77*((1+Simulador!$C$10)^B77-1)","v":{"$error":"#VALUE!"}},{"$error":"#VALUE!"},{"$f":"F77*Simulador!$F$8","v":{"$error":"#VALUE!"}},964.67528601785307,{"$error":"#VALUE!"},null,{"$error":"#VALUE!"},null,null,-1.5770982485337173E-3,-1.1095190714627279E-5,"00:00:00",0]
[{"$f":"IF(OR(A77>=Simulador!$C$24,A77=0),0,A77+1)","v":0},"","","","",{"$error":"#VALUE!"},{"$f":"F78*((1+Simulador!$C$10)^B78-1)","v":{"$error":"#VALUE!"}},{"$error":"#VALUE!"},{"$f":"F78*Simulador!$F$8","v":{"$error":"#VALUE!"}},964.67528601785307,{"$error":"#VALUE!"},null,{"$error":"#VALUE!"},null,null,-1.5770982485337173E-3,-1.1095190714627279E-5,"00:00:00",0]
[{"$f":"IF(OR(A78>=Simulador!$C$24,A78=0),0,A78+1)","v":0},"","","","",{"$error":"#VALUE!"},{"$f":"F79*((1+Simulador!$C$10)^B79-1)","v":{"$error":"#VALUE!"}},{"$error":"#VALUE!"},{"$f":"F79*Simulador!$F$8","v":{"$error":"#VALUE!"}},964.67528601785307,{"$error":"#VALUE!"},null,{"$error":"#VALUE!"},null,null,-1.5770982485337173E-3,-1.1095190714627279E-5,"00:00:00",0]
[{"$f":"IF(OR(A79>=Simulador!$C$24,A79=0),0,A79+1)","v":0},"","","","",{"$error":"#VALUE!"},{"$f":"F80*((1+Simulador!$C$10)^B80-1)","v":{"$error":"#VALUE!"}},{"$error":"#VALUE!"},{"$f":"F80*Simulador!$F$8","v":{"$error":"#VALUE!"}},964.67528601785307,{"$error":"#VALUE!"},null,{"$error":"#VALUE!"},null,null,-1.5770982485337173E-3,-1.1095190714627279E-5,"00:00:00",0]
[{"$f":"IF(OR(A80>=Simulador!$C$24,A80=0),0,A80+1)","v":0},"","","","",{"$error":"#VALUE!"},{"$f":"F81*((1+Simulador!$C$10)^B81-1)","v":{"$error":"#VALUE!"}},{"$error":"#VALUE!"},{"$f":"F81*Simulador!$F$8","v":{"$error":"#VALUE!"}},964.67528601785307,{"$error":"#VALUE!"},null,{"$error":"#VALUE!"},null,null,-1.5770982485337173E-3,-1.1095190714627279E-5,"00:00:00",0]
[{"$f":"IF(OR(A81>=Simulador!$C$24,A81=0),0,A81+1)","v":0},"","","","",{"$error":"#VALUE!"},{"$f":"F82*((1+Simulador!$C$10)^B82-1)","v":{"$error":"#VALUE!"}},{"$error":"#VALUE!"},{"$f":"F82*Simulador!$F$8","v":{"$error":"#VALUE!"}},964.67528601785307,{"$error":"#VALUE!"},null,{"$error":"#VALUE!"},null,null,-1.5770982485337173E-3,-1.1095190714627279E-5,"00:00:00"]
[{"$f":"IF(OR(A82>=Simulador!$C$24,A82=0),0,A82+1)","v":0},"","","","",{"$error":"#VALUE!"},{"$f":"F83*((1+Simulador!$C$10)^B83-1)","v":{"$error":"#VALUE!"}},{"$error":"#VALUE!"},{"$f":"F83*Simulador!$F$8","v":{"$error":"#VALUE!"}},964.67528601785307,{"$error":"#VALUE!"},null,{"$error":"#VALUE!"},null,null,-1.5770982485337173E-3,-1.1095190714627279E-5,"00:00:00"]
[{"$f":"IF(OR(A83>=Simulador!$C$24,A83=0),0,A83+1)","v":0},"","","","",{"$error":"#VALUE!"},{"$f":"F84*((1+Simulador!$C$10)^B84-1)","v":{"$error":"#VALUE!"}},{"$error":"#VALUE!"},{"$f":"F84*Simulador!$F$8","v":{"$error":"#VALUE!"}},964.67528601785307,{"$error":"#VALUE!"},null,{"$error":"#VALUE!"},null,null,-1.5770982485337173E-3,-1.1095190714627279E-5,"00:00:00"]
[{"$f":"IF(OR(A84>=Simulador!$C$24,A84=0),0,A84+1)","v":0},"","","","",{"$error":"#VALUE!"},{"$f":"F85*((1+Simulador!$C$10)^B85-1)","v":{"$error":"#VALUE!"}},{"$error":"#VALUE!"},{"$f":"F85*Simulador!$F$8","v":{"$error":"#VALUE!"}},964.67528601785307,{"$error":"#VALUE!"},null,{"$error":"#VALUE!"},null,null,-1.5770982485337173E-3,-1.1095190714627279E-5,"00:00:00"]
[{"$f":"IF(OR(A85>=Simulador!$C$24,A85=0),0,A85+1)","v":0},"","","","",{"$error":"#VALUE!"},{"$f":"F86*((1+Simulador!$C$10)^B86-1)","v":{"$error":"#VALUE!"}},{"$error":"#VALUE!"},{"$f":"F86*Simulador!$F$8","v":{"$error":"#VALUE!"}},964.67528601785307,{"$error":"#VALUE!"},null,{"$error":"#VALUE!"},null,null,-1.5770982485337173E-3,-1.1095190714627279E-5,"00:00:00"]
[{"$f":"IF(OR(A86>=Simulador!$C$24,A86=0),0,A86+1)","v":0},"","","","",{"$error":"#VALUE!"},{"$f":"F87*((1+Simulador!$C$10)^B87-1)","v":{"$error":"#VALUE!"}},{"$error":"#VALUE!"},{"$f":"F87*Simulador!$F$8","v":{"$error":"#VALUE!"}},964.67528601785307,{"$error":"#VALUE!"},null,{"$error":"#VALUE!"},null,null,-1.5770982485337173E-3,-1.1095190714627279E-5,"00:00:00"]
[{"$f":"IF(OR(A87>=Simulador!$C$24,A87=0),0,A87+1)","v":0},"","","","",{"$error":"#VALUE!"},{"$f":"F88*((1+Simulador!$C$10)^B88-1)","v":{"$error":"#VALUE!"}},{"$error":"#VALUE!"},{"$f":"F88*Simulador!$F$8","v":{"$error":"#VALUE!"}},964.67528601785307,{"$error":"#VALUE!"},null,{"$error":"#VALUE!"},null,null,-1.5770982485337173E-3,-1.1095190714627279E-5,"00:00:00"]
[{"$f":"IF(OR(A88>=Simulador!$C$24,A88=0),0,A88+1)","v":0},"","","","",{"$error":"#VALUE!"},{"$f":"F89*((1+Simulador!$C$10)^B89-1)","v":{"$error":"#VALUE!"}},{"$error":"#VALUE!"},{"$f":"F89*Simulador!$F$8","v":{"$error":"#VALUE!"}},964.67528601785307,{"$error":"#VALUE!"},null,{"$error":"#VALUE!"}]
[{"$f":"IF(OR(A89>=Simulador!$C$24,A89=0),0,A89+1)","v":0},"","","","",{"$error":"#VALUE!"},{"$f":"F90*((1+Simulador!$C$10)^B90-1)","v":{"$error":"#VALUE!"}},{"$error":"#VALUE!"},{"$f":"F90*Simulador!$F$8","v":{"$error":"#VALUE!"}},964.67528601785307,{"$error":"#VALUE!"},null,{"$error":"#VALUE!"}]
[{"$f":"IF(OR(A90>=Simulador!$C$24,A90=0),0,A90+1)","v":0},"","","","",{"$error":"#VALUE!"},{"$f":"F91*((1+Simulador!$C$10)^B91-1)","v":{"$error":"#VALUE!"}},{"$error":"#VALUE!"},{"$f":"F91*Simulador!$F$8","v":{"$error":"#VALUE!"}},964.67528601785307,{"$error":"#VALUE!"},null,{"$error":"#VALUE!"}]
[{"$f":"IF(OR(A91>=Simulador!$C$24,A91=0),0,A91+1)","v":0},"","","","",{"$error":"#VALUE!"},{"$f":"F92*((1+Simulador!$C$10)^B92-1)","v":{"$error":"#VALUE!"}},{"$error":"#VALUE!"},{"$f":"F92*Simulador!$F$8","v":{"$error":"#VALUE!"}},964.67528601785307,{"$error":"#VALUE!"},null,{"$error":"#VALUE!"}]
[{"$f":"IF(OR(A92>=Simulador!$C$24,A92=0),0,A92+1)","v":0},"","","","",{"$error":"#VALUE!"},{"$f":"F93*((1+Simulador!$C$10)^B93-1)","v":{"$error":"#VALUE!"}},{"$error":"#VALUE!"},{"$f":"F93*Simulador!$F$8","v":{"$error":"#VALUE!"}},964.67528601785307,{"$error":"#VALUE!"},null,{"$error":"#VALUE!"}]
[{"$f":"IF(OR(A93>=Simulador!$C$24,A93=0),0,A93+1)","v":0},"","","","",{"$error":"#VALUE!"},{"$f":"F94*((1+Simulador!$C$10)^B94-1)","v":{"$error":"#VALUE!"}},{"$error":"#VALUE!"},{"$f":"F94*Simulador!$F$8","v":{"$error":"#VALUE!"}},964.67528601785307,{"$error":"#VALUE!"},null,{"$error":"#VALUE!"}]
[{"$f":"IF(OR(A94>=Simulador!$C$24,A94=0),0,A94+1)","v":0},"","","","",{"$error":"#VALUE!"},{"$f":"F95*((1+Simulador!$C$10)^B95-1)","v":{"$error":"#VALUE!"}},{"$error":"#VALUE!"},{"$f":"F95*Simulador!$F$8","v":{"$error":"#VALUE!"}},964.67528601785307,{"$error":"#VALUE!"},null,{"$error":"#VALUE!"}]
[{"$f":"IF(OR(A95>=Simulador!$C$24,A95=0),0,A95+1)","v":0},"","","","",{"$error":"#VALUE!"},{"$f":"F96*((1+Simulador!$C$10)^B96-1)","v":{"$error":"#VALUE!"}},{"$error":"#VALUE!"},{"$f":"F96*Simulador!$F$8","v":{"$error":"#VALUE!"}},964.67528601785307,{"$error":"#VALUE!"},null,{"$error":"#VALUE!"}]
[{"$f":"IF(OR(A96>=Simulador!$C$24,A96=0),0,A96+1)","v":0},"","","","",{"$error":"#VALUE!"},{"$f":"F97*((1+Simulador!$C$10)^B97-1)","v":{"$error":"#VALUE!"}},{"$error":"#VALUE!"},{"$f":"F97*Simulador!$F$8","v":{"$error":"#VALUE!"}},964.67528601785307,{"$error":"#VALUE!"},null,{"$error":"#VALUE!"}]
[{"$f":"IF(OR(A97>=Simulador!$C$24,A97=0),0,A97+1)","v":0},"","","","",{"$error":"#VALUE!"},{"$f":"F98*((1+Simulador!$C$10)^B98-1)","v":{"$error":"#VALUE!"}},{"$error":"#VALUE!"},{"$f":"F98*Simulador!$F$8","v":{"$error":"#VALUE!"}},964.67528601785307,{"$error":"#VALUE!"},null,{"$error":"#VALUE!"}]
[{"$f":"IF(OR(A98>=Simulador!$C$24,A98=0),0,A98+1)","v":0},"","","","",{"$error":"#VALUE!"},{"$f":"F99*((1+Simulador!$C$10)^B99-1)","v":{"$error":"#VALUE!"}},{"$error":"#VALUE!"},{"$f":"F99*Simulador!$F$8","v":{"$error":"#VALUE!"}},964.67528601785307,{"$error":"#VALUE!"},null,{"$error":"#VALUE!"}]
[{"$f":"IF(OR(A99>=Simulador!$C$24,A99=0),0,A99+1)","v":0},"","","","",{"$error":"#VALUE!"},{"$f":"F100*((1+Simulador!$C$10)^B100-1)","v":{"$error":"#VALUE!"}},{"$error":"#VALUE!"},{"$f":"F100*Simulador!$F$8","v":{"$error":"#VALUE!"}},964.67528601785307,{"$error":"#VALUE!"},null,{"$error":"#VALUE!"}]
[{"$f":"IF(OR(A100>=Simulador!$C$24,A100=0),0,A100+1)","v":0},"","","","",{"$error":"#VALUE!"},{"$f":"F101*((1+Simulador!$C$10)^B101-1)","v":{"$error":"#VALUE!"}},{"$error":"#VALUE!"},{"$f":"F101*Simulador!$F$8","v":{"$error":"#VALUE!"}},964.67528601785307,{"$error":"#VALUE!"},null,{"$error":"#VALUE!"}]
[{"$f":"IF(OR(A101>=Simulador!$C$24,A101=0),0,A101+1)","v":0},"","","","",{"$error":"#VALUE!"},{"$f":"F102*((1+Simulador!$C$10)^B102-1)","v":{"$error":"#VALUE!"}},{"$error":"#VALUE!"},{"$f":"F102*Simulador!$F$8","v":{"$error":"#VALUE!"}},964.67528601785307,{"$error":"#VALUE!"},null,{"$error":"#VALUE!"}]
[{"$f":"IF(OR(A102>=Simulador!$C$24,A102=0),0,A102+1)","v":0},"","","","",{"$error":"#VALUE!"},{"$f":"F103*((1+Simulador!$C$10)^B103-1)","v":{"$error":"#VALUE!"}},{"$error":"#VALUE!"},{"$f":"F103*Simulador!$F$8","v":{"$error":"#VALUE!"}},964.67528601785307,{"$error":"#VALUE!"},null,{"$error":"#VALUE!"}]
[{"$f":"IF(OR(A103>=Simulador!$C$24,A103=0),0,A103+1)","v":0},"","","","",{"$error":"#VALUE!"},{"$f":"F104*((1+Simulador!$C$10)^B104-1)","v":{"$error":"#VALUE!"}},{"$error":"#VALUE!"},{"$f":"F104*Simulador!$F$8","v":{"$error":"#VALUE!"}},964.67528601785307,{"$error":"#VALUE!"},null,{"$error":"#VALUE!"}]
[{"$f":"IF(OR(A104>=Simulador!$C$24,A104=0),0,A104+1)","v":0},"","","","",{"$error":"#VALUE!"},{"$f":"F105*((1+Simulador!$C$10)^B105-1)","v":{"$error":"#VALUE!"}},{"$error":"#VALUE!"},{"$f":"F105*Simulador!$F$8","v":{"$error":"#VALUE!"}},964.67528601785307,{"$error":"#VALUE!"},null,{"$error":"#VALUE!"}]
[{"$f":"IF(OR(A105>=Simulador!$C$24,A105=0),0,A105+1)","v":0},"","","","",{"$error":"#VALUE!"},{"$f":"F106*((1+Simulador!$C$10)^B106-1)","v":{"$error":"#VALUE!"}},{"$error":"#VALUE!"},{"$f":"F106*Simulador!$F$8","v":{"$error":"#VALUE!"}},964.67528601785307,{"$error":"#VALUE!"},null,{"$error":"#VALUE!"}]
[{"$f":"IF(OR(A106>=Simulador!$C$24,A106=0),0,A106+1)","v":0},"","","","",{"$error":"#VALUE!"},{"$f":"F107*((1+Simulador!$C$10)^B107-1)","v":{"$error":"#VALUE!"}},{"$error":"#VALUE!"},{"$f":"F107*Simulador!$F$8","v":{"$error":"#VALUE!"}},964.67528601785307,{"$error":"#VALUE!"},null,{"$error":"#VALUE!"}]
[{"$f":"IF(OR(A107>=Simulador!$C$24,A107=0),0,A107+1)","v":0},"","","","",{"$error":"#VALUE!"},{"$f":"F108*((1+Simulador!$C$10)^B108-1)","v":{"$error":"#VALUE!"}},{"$error":"#VALUE!"},{"$f":"F108*Simulador!$F$8","v":{"$error":"#VALUE!"}},964.67528601785307,{"$error":"#VALUE!"},null,{"$error":"#VALUE!"}]
[{"$f":"IF(OR(A108>=Simulador!$C$24,A108=0),0,A108+1)","v":0},"","","","",{"$error":"#VALUE!"},{"$f":"F109*((1+Simulador!$C$10)^B109-1)","v":{"$error":"#VALUE!"}},{"$error":"#VALUE!"},{"$f":"F109*Simulador!$F$8","v":{"$error":"#VALUE!"}},964.67528601785307,{"$error":"#VALUE!"},null,{"$error":"#VALUE!"}]
[{"$f":"IF(OR(A109>=Simulador!$C$24,A109=0),0,A109+1)","v":0},"","","","",{"$error":"#VALUE!"},{"$f":"F110*((1+Simulador!$C$10)^B110-1)","v":{"$error":"#VALUE!"}},{"$error":"#VALUE!"},{"$f":"F110*Simulador!$F$8","v":{"$error":"#VALUE!"}},964.67528601785307,{"$error":"#VALUE!"},null,{"$error":"#VALUE!"}]
[{"$f":"IF(OR(A110>=Simulador!$C$24,A110=0),0,A110+1)","v":0},"","","","",{"$error":"#VALUE!"},{"$f":"F111*((1+Simulador!$C$10)^B111-1)","v":{"$error":"#VALUE!"}},{"$error":"#VALUE!"},{"$f":"F111*Simulador!$F$8","v":{"$error":"#VALUE!"}},964.67528601785307,{"$error":"#VALUE!"},null,{"$error":"#VALUE!"}]
[{"$f":"IF(OR(A111>=Simulador!$C$24,A111=0),0,A111+1)","v":0},"","","","",{"$error":"#VALUE!"},{"$f":"F112*((1+Simulador!$C$10)^B112-1)","v":{"$error":"#VALUE!"}},{"$error":"#VALUE!"},{"$f":"F112*Simulador!$F$8","v":{"$error":"#VALUE!"}},964.67528601785307,{"$error":"#VALUE!"},null,{"$error":"#VALUE!"}]
[{"$f":"IF(OR(A112>=Simulador!$C$24,A112=0),0,A112+1)","v":0},"","","","",{"$error":"#VALUE!"},{"$f":"F113*((1+Simulador!$C$10)^B113-1)","v":{"$error":"#VALUE!"}},{"$error":"#VALUE!"},{"$f":"F113*Simulador!$F$8","v":{"$error":"#VALUE!"}},964.67528601785307,{"$error":"#VALUE!"},null,{"$error":"#VALUE!"}]
[{"$f":"IF(OR(A113>=Simulador!$C$24,A113=0),0,A113+1)","v":0},"","","","",{"$error":"#VALUE!"},{"$f":"F114*((1+Simulador!$C$10)^B114-1)","v":{"$error":"#VALUE!"}},{"$error":"#VALUE!"},{"$f":"F114*Simulador!$F$8","v":{"$error":"#VALUE!"}},964.67528601785307,{"$error":"#VALUE!"},null,{"$error":"#VALUE!"}]
[{"$f":"IF(OR(A114>=Simulador!$C$24,A114=0),0,A114+1)","v":0},"","","","",{"$error":"#VALUE!"},{"$f":"F115*((1+Simulador!$C$10)^B115-1)","v":{"$error":"#VALUE!"}},{"$error":"#VALUE!"},{"$f":"F115*Simulador!$F$8","v":{"$error":"#VALUE!"}},964.67528601785307,{"$error":"#VALUE!"},null,{"$error":"#VALUE!"}]
[{"$f":"IF(OR(A115>=Simulador!$C$24,A115=0),0,A115+1)","v":0},"","","","",{"$error":"#VALUE!"},{"$f":"F116*((1+Simulador!$C$10)^B116-1)","v":{"$error":"#VALUE!"}},{"$error":"#VALUE!"},{"$f":"F116*Simulador!$F$8","v":{"$error":"#VALUE!"}},964.67528601785307,{"$error":"#VALUE!"},null,{"$error":"#VALUE!"}]
[{"$f":"IF(OR(A116>=Simulador!$C$24,A116=0),0,A116+1)","v":0},"","","","",{"$error":"#VALUE!"},{"$f":"F117*((1+Simulador!$C$10)^B117-1)","v":{"$error":"#VALUE!"}},{"$error":"#VALUE!"},{"$f":"F117*Simulador!$F$8","v":{"$error":"#VALUE!"}},964.67528601785307,{"$error":"#VALUE!"},null,{"$error":"#VALUE!"}]
[{"$f":"IF(OR(A117>=Simulador!$C$24,A117=0),0,A117+1)","v":0},"","","","",{"$error":"#VALUE!"},{"$f":"F118*((1+Simulador!$C$10)^B118-1)","v":{"$error":"#VALUE!"}},{"$error":"#VALUE!"},{"$f":"F118*Simulador!$F$8","v":{"$error":"#VALUE!"}},964.67528601785307,{"$error":"#VALUE!"},null,{"$error":"#VALUE!"}]
[{"$f":"IF(OR(A118>=Simulador!$C$24,A118=0),0,A118+1)","v":0},"","","","",{"$error":"#VALUE!"},{"$f":"F119*((1+Simulador!$C$10)^B119-1)","v":{"$error":"#VALUE!"}},{"$error":"#VALUE!"},{"$f":"F119*Simulador!$F$8","v":{"$error":"#VALUE!"}},964.67528601785307,{"$error":"#VALUE!"},null,{"$error":"#VALUE!"}]
[{"$f":"IF(OR(A119>=Simulador!$C$24,A119=0),0,A119+1)","v":0},"","","","",{"$error":"#VALUE!"},{"$f":"F120*((1+Simulador!$C$10)^B120-1)","v":{"$error":"#VALUE!"}},{"$error":"#VALUE!"},{"$f":"F120*Simulador!$F$8","v":{"$error":"#VALUE!"}},964.67528601785307,{"$error":"#VALUE!"},null,{"$error":"#VALUE!"}]
[{"$f":"IF(OR(A120>=Simulador!$C$24,A120=0),0,A120+1)","v":0},"","","","",{"$error":"#VALUE!"},{"$f":"F121*((1+Simulador!$C$10)^B121-1)","v":{"$error":"#VALUE!"}},{"$error":"#VALUE!"},{"$f":"F121*Simulador!$F$8","v":{"$error":"#VALUE!"}},964.67528601785307,{"$error":"#VALUE!"},null,{"$error":"#VALUE!"}]
[{"$f":"IF(OR(A121>=Simulador!$C$24,A121=0),0,A121+1)","v":0},"","","","",{"$error":"#VALUE!"},{"$f":"F122*((1+Simulador!$C$10)^B122-1)","v":{"$error":"#VALUE!"}},{"$error":"#VALUE!"},{"$f":"F122*Simulador!$F$8","v":{"$error":"#VALUE!"}},964.67528601785307,{"$error":"#VALUE!"},null,{"$error":"#VALUE!"}]
[{"$f":"IF(OR(A122>=Simulador!$C$24,A122=0),0,A122+1)","v":0},"","","","",{"$error":"#VALUE!"},{"$f":"F123*((1+Simulador!$C$10)^B123-1)","v":{"$error":"#VALUE!"}},{"$error":"#VALUE!"},{"$f":"F123*Simulador!$F$8","v":{"$error":"#VALUE!"}},964.67528601785307,{"$error":"#VALUE!"},null,{"$error":"#VALUE!"}]
[{"$f":"IF(OR(A123>=Simulador!$C$24,A123=0),0,A123+1)","v":0},"","","","",{"$error":"#VALUE!"},{"$f":"F124*((1+Simulador!$C$10)^B124-1)","v":{"$error":"#VALUE!"}},{"$error":"#VALUE!"},{"$f":"F124*Simulador!$F$8","v":{"$error":"#VALUE!"}},964.67528601785307,{"$error":"#VALUE!"},null,{"$error":"#VALUE!"}]
[{"$f":"IF(OR(A124>=Simulador!$C$24,A124=0),0,A124+1)","v":0},"","","","",{"$error":"#VALUE!"},{"$f":"F125*((1+Simulador!$C$10)^B125-1)","v":{"$error":"#VALUE!"}},{"$error":"#VALUE!"},{"$f":"F125*Simulador!$F$8","v":{"$error":"#VALUE!"}},964.67528601785307,{"$error":"#VALUE!"},null,{"$error":"#VALUE!"}]
[{"$f":"IF(OR(A125>=Simulador!$C$24,A125=0),0,A125+1)","v":0},"","","","",{"$error":"#VALUE!"},{"$f":"F126*((1+Simulador!$C$10)^B126-1)","v":{"$error":"#VALUE!"}},{"$error":"#VALUE!"},{"$f":"F126*Simulador!$F$8","v":{"$error":"#VALUE!"}},964.67528601785307,{"$error":"#VALUE!"},null,{"$error":"#VALUE!"}]
[{"$f":"IF(OR(A126>=Simulador!$C$24,A126=0),0,A126+1)","v":0},"","","","",{"$error":"#VALUE!"},{"$f":"F127*((1+Simulador!$C$10)^B127-1)","v":{"$error":"#VALUE!"}},{"$error":"#VALUE!"},{"$f":"F127*Simulador!$F$8","v":{"$error":"#VALUE!"}},964.67528601785307,{"$error":"#VALUE!"},null,{"$error":"#VALUE!"}]
[{"$f":"IF(OR(A127>=Simulador!$C$24,A127=0),0,A127+1)","v":0},"","","","",{"$error":"#VALUE!"},{"$f":"F128*((1+Simulador!$C$10)^B128-1)","v":{"$error":"#VALUE!"}},{"$error":"#VALUE!"},{"$f":"F128*Simulador!$F$8","v":{"$error":"#VALUE!"}},964.67528601785307,{"$error":"#VALUE!"},null,{"$error":"#VALUE!"}]
[{"$f":"IF(OR(A128>=Simulador!$C$24,A128=0),0,A128+1)","v":0},"","","","",{"$error":"#VALUE!"},{"$f":"F129*((1+Simulador!$C$10)^B129-1)","v":{"$error":"#VALUE!"}},{"$error":"#VALUE!"},{"$f":"F129*Simulador!$F$8","v":{"$error":"#VALUE!"}},964.67528601785307,{"$error":"#VALUE!"},null,{"$error":"#VALUE!"}]
[{"$f":"IF(OR(A129>=Simulador!$C$24,A129=0),0,A129+1)","v":0},"","","","",{"$error":"#VALUE!"},{"$f":"F130*((1+Simulador!$C$10)^B130-1)","v":{"$error":"#VALUE!"}},{"$error":"#VALUE!"},{"$f":"F130*Simulador!$F$8","v":{"$error":"#VALUE!"}},964.67528601785307,{"$error":"#VALUE!"},null,{"$error":"#VALUE!"}]
[{"$f":"IF(OR(A130>=Simulador!$C$24,A130=0),0,A130+1)","v":0},"","","","",{"$error":"#VALUE!"},{"$f":"F131*((1+Simulador!$C$10)^B131-1)","v":{"$error":"#VALUE!"}},{"$error":"#VALUE!"},{"$f":"F131*Simulador!$F$8","v":{"$error":"#VALUE!"}},964.67528601785307,{"$error":"#VALUE!"},null,{"$error":"#VALUE!"}]
[{"$f":"IF(OR(A131>=Simulador!$C$24,A131=0),0,A131+1)","v":0},"","","","",{"$error":"#VALUE!"},{"$f":"F132*((1+Simulador!$C$10)^B132-1)","v":{"$error":"#VALUE!"}},{"$error":"#VALUE!"},{"$f":"F132*Simulador!$F$8","v":{"$error":"#VALUE!"}},964.67528601785307,{"$error":"#VALUE!"},null,{"$error":"#VALUE!"}]
[{"$f":"IF(OR(A132>=Simulador!$C$24,A132=0),0,A132+1)","v":0},"","","","",{"$error":"#VALUE!"},{"$f":"F133*((1+Simulador!$C$10)^B133-1)","v":{"$error":"#VALUE!"}},{"$f":"J133-I133-G133","v":{"$error":"#VALUE!"}},{"$f":"F133*Simulador!$F$8","v":{"$error":"#VALUE!"}},964.67528601785307,{"$f":"F133-H133","v":{"$error":"#VALUE!"}},null,{"$error":"#VALUE!"}]
[{"$f":"IF(OR(A133>=Simulador!$C$24,A133=0),0,A133+1)","v":0},{"$f":"IFERROR(_xlfn.DAYS(E134,D134),\"\")","v":""},{"$f":"IFERROR(C133+B134,\"\")","v":""},"",{"$f":"IFERROR(EDATE(D134,1),\"\")","v":""},{"$f":"K133","v":{"$error":"#VALUE!"}},{"$f":"F134*((1+Simulador!$C$10)^B134-1)","v":{"$error":"#VALUE!"}},{"$error":"#VALUE!"},{"$f":"F134*Simulador!$F$8","v":{"$error":"#VALUE!"}},964.67528601785307,{"$error":"#VALUE!"},null,{"$f":"K134-L134","v":{"$error":"#VALUE!"}}]
[{"$f":"IF(OR(A134>=Simulador!$C$24,A134=0),0,A134+1)","v":0},"","",{"$f":"IF(A135<>0,E134,\"\")","v":""},"",{"$error":"#VALUE!"},{"$f":"F135*((1+Simulador!$C$10)^B135-1)","v":{"$error":"#VALUE!"}},{"$error":"#VALUE!"},{"$f":"F135*Simulador!$F$8","v":{"$error":"#VALUE!"}},{"$f":"$J$5","v":964.67528601785307},{"$error":"#VALUE!"},null,{"$error":"#VALUE!"}]
[{"$f":"IF(OR(A135>=Simulador!$C$24,A135=0),0,A135+1)","v":0},"","","","",{"$error":"#VALUE!"},{"$f":"F136*((1+Simulador!$C$10)^B136-1)","v":{"$error":"#VALUE!"}},{"$error":"#VALUE!"},{"$f":"F136*Simulador!$F$8","v":{"$error":"#VALUE!"}},964.67528601785307,{"$error":"#VALUE!"},null,{"$error":"#VALUE!"}]
[{"$f":"IF(OR(A136>=Simulador!$C$24,A136=0),0,A136+1)","v":0},"","","","",{"$error":"#VALUE!"},{"$f":"F137*((1+Simulador!$C$10)^B137-1)","v":{"$error":"#VALUE!"}},{"$error":"#VALUE!"},{"$f":"F137*Simulador!$F$8","v":{"$error":"#VALUE!"}},964.67528601785307,{"$error":"#VALUE!"},null,{"$error":"#VALUE!"}]
[{"$f":"IF(OR(A137>=Simulador!$C$24,A137=0),0,A137+1)","v":0},"","","","",{"$error":"#VALUE!"},{"$f":"F138*((1+Simulador!$C$10)^B138-1)","v":{"$error":"#VALUE!"}},{"$error":"#VALUE!"},{"$f":"F138*Simulador!$F$8","v":{"$error":"#VALUE!"}},964.67528601785307,{"$error":"#VALUE!"},null,{"$error":"#VALUE!"}]
[{"$f":"IF(OR(A138>=Simulador!$C$24,A138=0),0,A138+1)","v":0},"","","","",{"$error":"#VALUE!"},{"$f":"F139*((1+Simulador!$C$10)^B139-1)","v":{"$error":"#VALUE!"}},{"$error":"#VALUE!"},{"$f":"F139*Simulador!$F$8","v":{"$error":"#VALUE!"}},964.67528601785307,{"$error":"#VALUE!"},null,{"$error":"#VALUE!"}]
[{"$f":"IF(OR(A139>=Simulador!$C$24,A139=0),0,A139+1)","v":0},"","","","",{"$error":"#VALUE!"},{"$f":"F140*((1+Simulador!$C$10)^B140-1)","v":{"$error":"#VALUE!"}},{"$error":"#VALUE!"},{"$f":"F140*Simulador!$F$8","v":{"$error":"#VALUE!"}},964.67528601785307,{"$error":"#VALUE!"},null,{"$error":"#VALUE!"}]
[{"$f":"IF(OR(A140>=Simulador!$C$24,A140=0),0,A140+1)","v":0},"","","","",{"$error":"#VALUE!"},{"$f":"F141*((1+Simulador!$C$10)^B141-1)","v":{"$error":"#VALUE!"}},{"$error":"#VALUE!"},{"$f":"F141*Simulador!$F$8","v":{"$error":"#VALUE!"}},964.67528601785307,{"$error":"#VALUE!"},null,{"$error":"#VALUE!"}]
[{"$f":"IF(OR(A141>=Simulador!$C$24,A141=0),0,A141+1)","v":0},"","","","",{"$error":"#VALUE!"},{"$f":"F142*((1+Simulador!$C$10)^B142-1)","v":{"$error":"#VALUE!"}},{"$error":"#VALUE!"},{"$f":"F142*Simulador!$F$8","v":{"$error":"#VALUE!"}},964.67528601785307,{"$error":"#VALUE!"},null,{"$error":"#VALUE!"}]
[{"$f":"IF(OR(A142>=Simulador!$C$24,A142=0),0,A142+1)","v":0},"","","","",{"$error":"#VALUE!"},{"$f":"F143*((1+Simulador!$C$10)^B143-1)","v":{"$error":"#VALUE!"}},{"$error":"#VALUE!"},{"$f":"F143*Simulador!$F$8","v":{"$error":"#VALUE!"}},964.67528601785307,{"$error":"#VALUE!"},null,{"$error":"#VALUE!"}]
[{"$f":"IF(OR(A143>=Simulador!$C$24,A143=0),0,A143+1)","v":0},"","","","",{"$error":"#VALUE!"},{"$f":"F144*((1+Simulador!$C$10)^B144-1)","v":{"$error":"#VALUE!"}},{"$error":"#VALUE!"},{"$f":"F144*Simulador!$F$8","v":{"$error":"#VALUE!"}},964.67528601785307,{"$error":"#VALUE!"},null,{"$error":"#VALUE!"}]
[{"$f":"IF(OR(A144>=Simulador!$C$24,A144=0),0,A144+1)","v":0},"","","","",{"$error":"#VALUE!"},{"$f":"F145*((1+Simulador!$C$10)^B145-1)","v":{"$error":"#VALUE!"}},{"$error":"#VALUE!"},{"$f":"F145*Simulador!$F$8","v":{"$error":"#VALUE!"}},964.67528601785307,{"$error":"#VALUE!"},null,{"$error":"#VALUE!"}]
[{"$f":"IF(OR(A145>=Simulador!$C$24,A145=0),0,A145+1)","v":0},"","","","",{"$error":"#VALUE!"},{"$f":"F146*((1+Simulador!$C$10)^B146-1)","v":{"$error":"#VALUE!"}},{"$error":"#VALUE!"},{"$f":"F146*Simulador!$F$8","v":{"$error":"#VALUE!"}},964.67528601785307,{"$error":"#VALUE!"},null,{"$error":"#VALUE!"}]
[{"$f":"IF(OR(A146>=Simulador!$C$24,A146=0),0,A146+1)","v":0},"","","","",{"$error":"#VALUE!"},{"$f":"F147*((1+Simulador!$C$10)^B147-1)","v":{"$error":"#VALUE!"}},{"$error":"#VALUE!"},{"$f":"F147*Simulador!$F$8","v":{"$error":"#VALUE!"}},964.67528601785307,{"$error":"#VALUE!"},null,{"$error":"#VALUE!"}]
[{"$f":"IF(OR(A147>=Simulador!$C$24,A147=0),0,A147+1)","v":0},"","","","",{"$error":"#VALUE!"},{"$f":"F148*((1+Simulador!$C$10)^B148-1)","v":{"$error":"#VALUE!"}},{"$error":"#VALUE!"},{"$f":"F148*Simulador!$F$8","v":{"$error":"#VALUE!"}},964.67528601785307,{"$error":"#VALUE!"},null,{"$error":"#VALUE!"}]
[{"$f":"IF(OR(A148>=Simulador!$C$24,A148=0),0,A148+1)","v":0},"","","","",{"$error":"#VALUE!"},{"$f":"F149*((1+Simulador!$C$10)^B149-1)","v":{"$error":"#VALUE!"}},{"$error":"#VALUE!"},{"$f":"F149*Simulador!$F$8","v":{"$error":"#VALUE!"}},964.67528601785307,{"$error":"#VALUE!"},null,{"$error":"#VALUE!"}]
[{"$f":"IF(OR(A149>=Simulador!$C$24,A149=0),0,A149+1)","v":0},"","","","",{"$error":"#VALUE!"},{"$f":"F150*((1+Simulador!$C$10)^B150-1)","v":{"$error":"#VALUE!"}},{"$error":"#VALUE!"},{"$f":"F150*Simulador!$F$8","v":{"$error":"#VALUE!"}},964.67528601785307,{"$error":"#VALUE!"},null,{"$error":"#VALUE!"}]
[{"$f":"IF(OR(A150>=Simulador!$C$24,A150=0),0,A150+1)","v":0},"","","","",{"$error":"#VALUE!"},{"$f":"F151*((1+Simulador!$C$10)^B151-1)","v":{"$error":"#VALUE!"}},{"$error":"#VALUE!"},{"$f":"F151*Simulador!$F$8","v":{"$error":"#VALUE!"}},964.67528601785307,{"$error":"#VALUE!"},null,{"$error":"#VALUE!"}]
[{"$f":"IF(OR(A151>=Simulador!$C$24,A151=0),0,A151+1)","v":0},"","","","",{"$error":"#VALUE!"},{"$f":"F152*((1+Simulador!$C$10)^B152-1)","v":{"$error":"#VALUE!"}},{"$error":"#VALUE!"},{"$f":"F152*Simulador!$F$8","v":{"$error":"#VALUE!"}},964.67528601785307,{"$error":"#VALUE!"},null,{"$error":"#VALUE!"}]
[{"$f":"IF(OR(A152>=Simulador!$C$24,A152=0),0,A152+1)","v":0},"","","","",{"$error":"#VALUE!"},{"$f":"F153*((1+Simulador!$C$10)^B153-1)","v":{"$error":"#VALUE!"}},{"$error":"#VALUE!"},{"$f":"F153*Simulador!$F$8","v":{"$error":"#VALUE!"}},964.67528601785307,{"$error":"#VALUE!"},null,{"$error":"#VALUE!"}]
[{"$f":"IF(OR(A153>=Simulador!$C$24,A153=0),0,A153+1)","v":0},"","","","",{"$error":"#VALUE!"},{"$f":"F154*((1+Simulador!$C$10)^B154-1)","v":{"$error":"#VALUE!"}},{"$error":"#VALUE!"},{"$f":"F154*Simulador!$F$8","v":{"$error":"#VALUE!"}},964.67528601785307,{"$error":"#VALUE!"},null,{"$error":"#VALUE!"}]
[{"$f":"IF(OR(A154>=Simulador!$C$24,A154=0),0,A154+1)","v":0},"","","","",{"$error":"#VALUE!"},{"$f":"F155*((1+Simulador!$C$10)^B155-1)","v":{"$error":"#VALUE!"}},{"$error":"#VALUE!"},{"$f":"F155*Simulador!$F$8","v":{"$error":"#VALUE!"}},964.67528601785307,{"$error":"#VALUE!"},null,{"$error":"#VALUE!"}]
[{"$f":"IF(OR(A155>=Simulador!$C$24,A155=0),0,A155+1)","v":0},"","","","",{"$error":"#VALUE!"},{"$f":"F156*((1+Simulador!$C$10)^B156-1)","v":{"$error":"#VALUE!"}},{"$error":"#VALUE!"},{"$f":"F156*Simulador!$F$8","v":{"$error":"#VALUE!"}},964.67528601785307,{"$error":"#VALUE!"},null,{"$error":"#VALUE!"}]
[{"$f":"IF(OR(A156>=Simulador!$C$24,A156=0),0,A156+1)","v":0},"","","","",{"$error":"#VALUE!"},{"$f":"F157*((1+Simulador!$C$10)^B157-1)","v":{"$error":"#VALUE!"}},{"$error":"#VALUE!"},{"$f":"F157*Simulador!$F$8","v":{"$error":"#VALUE!"}},964.67528601785307,{"$error":"#VALUE!"},null,{"$error":"#VALUE!"}]
[{"$f":"IF(OR(A157>=Simulador!$C$24,A157=0),0,A157+1)","v":0},"","","","",{"$error":"#VALUE!"},{"$f":"F158*((1+Simulador!$C$10)^B158-1)","v":{"$error":"#VALUE!"}},{"$error":"#VALUE!"},{"$f":"F158*Simulador!$F$8","v":{"$error":"#VALUE!"}},964.67528601785307,{"$error":"#VALUE!"},null,{"$error":"#VALUE!"}]
[{"$f":"IF(OR(A158>=Simulador!$C$24,A158=0),0,A158+1)","v":0},"","","","",{"$error":"#VALUE!"},{"$f":"F159*((1+Simulador!$C$10)^B159-1)","v":{"$error":"#VALUE!"}},{"$error":"#VALUE!"},{"$f":"F159*Simulador!$F$8","v":{"$error":"#VALUE!"}},964.67528601785307,{"$error":"#VALUE!"},null,{"$error":"#VALUE!"}]
[{"$f":"IF(OR(A159>=Simulador!$C$24,A159=0),0,A159+1)","v":0},"","","","",{"$error":"#VALUE!"},{"$f":"F160*((1+Simulador!$C$10)^B160-1)","v":{"$error":"#VALUE!"}},{"$error":"#VALUE!"},{"$f":"F160*Simulador!$F$8","v":{"$error":"#VALUE!"}},964.67528601785307,{"$error":"#VALUE!"},null,{"$error":"#VALUE!"}]
[{"$f":"IF(OR(A160>=Simulador!$C$24,A160=0),0,A160+1)","v":0},"","","","",{"$error":"#VALUE!"},{"$f":"F161*((1+Simulador!$C$10)^B161-1)","v":{"$error":"#VALUE!"}},{"$error":"#VALUE!"},{"$f":"F161*Simulador!$F$8","v":{"$error":"#VALUE!"}},964.67528601785307,{"$error":"#VALUE!"},null,{"$error":"#VALUE!"}]
[{"$f":"IF(OR(A161>=Simulador!$C$24,A161=0),0,A161+1)","v":0},"","","","",{"$error":"#VALUE!"},{"$f":"F162*((1+Simulador!$C$10)^B162-1)","v":{"$error":"#VALUE!"}},{"$error":"#VALUE!"},{"$f":"F162*Simulador!$F$8","v":{"$error":"#VALUE!"}},964.67528601785307,{"$error":"#VALUE!"},null,{"$error":"#VALUE!"}]
[{"$f":"IF(OR(A162>=Simulador!$C$24,A162=0),0,A162+1)","v":0},"","","","",{"$error":"#VALUE!"},{"$f":"F163*((1+Simulador!$C$10)^B163-1)","v":{"$error":"#VALUE!"}},{"$error":"#VALUE!"},{"$f":"F163*Simulador!$F$8","v":{"$error":"#VALUE!"}},964.67528601785307,{"$error":"#VALUE!"},null,{"$error":"#VALUE!"}]
[{"$f":"IF(OR(A163>=Simulador!$C$24,A163=0),0,A163+1)","v":0},"","","","",{"$error":"#VALUE!"},{"$f":"F164*((1+Simulador!$C$10)^B164-1)","v":{"$error":"#VALUE!"}},{"$error":"#VALUE!"},{"$f":"F164*Simulador!$F$8","v":{"$error":"#VALUE!"}},964.67528601785307,{"$error":"#VALUE!"},null,{"$error":"#VALUE!"}]
[null,"","","","",{"$error":"#VALUE!"},{"$f":"F165*((1+Simulador!$C$10)^B165-1)","v":{"$error":"#VALUE!"}},{"$error":"#VALUE!"},{"$f":"F165*Simulador!$F$8","v":{"$error":"#VALUE!"}},964.67528601785307,{"$error":"#VALUE!"},null,{"$error":"#VALUE!"}]
[null,"","","","",{"$error":"#VALUE!"},{"$f":"F166*((1+Simulador!$C$10)^B166-1)","v":{"$error":"#VALUE!"}},{"$error":"#VALUE!"},{"$f":"F166*Simulador!$F$8","v":{"$error":"#VALUE!"}},964.67528601785307,{"$error":"#VALUE!"},null,{"$error":"#VALUE!"}]
[null,"","","","",{"$error":"#VALUE!"},{"$f":"F167*((1+Simulador!$C$10)^B167-1)","v":{"$error":"#VALUE!"}},{"$error":"#VALUE!"},{"$f":"F167*Simulador!$F$8","v":{"$error":"#VALUE!"}},964.67528601785307,{"$error":"#VALUE!"},null,{"$error":"#VALUE!"}]
[null,"","","","",{"$error":"#VALUE!"},{"$f":"F168*((1+Simulador!$C$10)^B168-1)","v":{"$error":"#VALUE!"}},{"$error":"#VALUE!"},{"$f":"F168*Simulador!$F$8","v":{"$error":"#VALUE!"}},964.67528601785307,{"$error":"#VALUE!"},null,{"$error":"#VALUE!"}]
[null,"","","","",{"$error":"#VALUE!"},{"$f":"F169*((1+Simulador!$C$10)^B169-1)","v":{"$error":"#VALUE!"}},{"$error":"#VALUE!"},{"$f":"F169*Simulador!$F$8","v":{"$error":"#VALUE!"}},964.67528601785307,{"$error":"#VALUE!"},null,{"$error":"#VALUE!"}]
[null,"","","","",{"$error":"#VALUE!"},{"$f":"F170*((1+Simulador!$C$10)^B170-1)","v":{"$error":"#VALUE!"}},{"$error":"#VALUE!"},{"$f":"F170*Simulador!$F$8","v":{"$error":"#VALUE!"}},964.67528601785307,{"$error":"#VALUE!"},null,{"$error":"#VALUE!"}]
[null,"","","","",{"$error":"#VALUE!"},{"$f":"F171*((1+Simulador!$C$10)^B171-1)","v":{"$error":"#VALUE!"}},{"$error":"#VALUE!"},{"$f":"F171*Simulador!$F$8","v":{"$error":"#VALUE!"}},964.67528601785307,{"$error":"#VALUE!"},null,{"$error":"#VALUE!"}]
[null,"","","","",{"$error":"#VALUE!"},{"$f":"F172*((1+Simulador!$C$10)^B172-1)","v":{"$error":"#VALUE!"}},{"$error":"#VALUE!"},{"$f":"F172*Simulador!$F$8","v":{"$error":"#VALUE!"}},964.67528601785307,{"$error":"#VALUE!"},null,{"$error":"#VALUE!"}]
[null,"","","","",{"$error":"#VALUE!"},{"$f":"F173*((1+Simulador!$C$10)^B173-1)","v":{"$error":"#VALUE!"}},{"$error":"#VALUE!"},{"$f":"F173*Simulador!$F$8","v":{"$error":"#VALUE!"}},964.67528601785307,{"$error":"#VALUE!"},null,{"$error":"#VALUE!"}]
[null,"","","","",{"$error":"#VALUE!"},{"$f":"F174*((1+Simulador!$C$10)^B174-1)","v":{"$error":"#VALUE!"}},{"$error":"#VALUE!"},{"$f":"F174*Simulador!$F$8","v":{"$error":"#VALUE!"}},964.67528601785307,{"$error":"#VALUE!"},null,{"$error":"#VALUE!"}]
[null,"","","","",{"$error":"#VALUE!"},{"$f":"F175*((1+Simulador!$C$10)^B175-1)","v":{"$error":"#VALUE!"}},{"$error":"#VALUE!"},{"$f":"F175*Simulador!$F$8","v":{"$error":"#VALUE!"}},964.67528601785307,{"$error":"#VALUE!"},null,{"$error":"#VALUE!"}]
[null,"","","","",{"$error":"#VALUE!"},{"$f":"F176*((1+Simulador!$C$10)^B176-1)","v":{"$error":"#VALUE!"}},{"$error":"#VALUE!"},{"$f":"F176*Simulador!$F$8","v":{"$error":"#VALUE!"}},964.67528601785307,{"$error":"#VALUE!"},null,{"$error":"#VALUE!"}]
[null,"","","","",{"$error":"#VALUE!"},{"$f":"F177*((1+Simulador!$C$10)^B177-1)","v":{"$error":"#VALUE!"}},{"$error":"#VALUE!"},{"$f":"F177*Simulador!$F$8","v":{"$error":"#VALUE!"}},964.67528601785307,{"$error":"#VALUE!"},null,{"$error":"#VALUE!"}]
[null,"","","","",{"$error":"#VALUE!"},{"$f":"F178*((1+Simulador!$C$10)^B178-1)","v":{"$error":"#VALUE!"}},{"$error":"#VALUE!"},{"$f":"F178*Simulador!$F$8","v":{"$error":"#VALUE!"}},964.67528601785307,{"$error":"#VALUE!"},null,{"$error":"#VALUE!"}]
[null,"","","","",{"$error":"#VALUE!"},{"$f":"F179*((1+Simulador!$C$10)^B179-1)","v":{"$error":"#VALUE!"}},{"$error":"#VALUE!"},{"$f":"F179*Simulador!$F$8","v":{"$error":"#VALUE!"}},964.67528601785307,{"$error":"#VALUE!"},null,{"$error":"#VALUE!"}]
[null,"","","","",{"$error":"#VALUE!"},{"$f":"F180*((1+Simulador!$C$10)^B180-1)","v":{"$error":"#VALUE!"}},{"$error":"#VALUE!"},{"$f":"F180*Simulador!$F$8","v":{"$error":"#VALUE!"}},964.67528601785307,{"$error":"#VALUE!"},null,{"$error":"#VALUE!"}]
[null,"","","","",{"$error":"#VALUE!"},{"$f":"F181*((1+Simulador!$C$10)^B181-1)","v":{"$error":"#VALUE!"}},{"$error":"#VALUE!"},{"$f":"F181*Simulador!$F$8","v":{"$error":"#VALUE!"}},964.67528601785307,{"$error":"#VALUE!"},null,{"$error":"#VALUE!"}]
[null,"","","","",{"$error":"#VALUE!"},{"$f":"F182*((1+Simulador!$C$10)^B182-1)","v":{"$error":"#VALUE!"}},{"$error":"#VALUE!"},{"$f":"F182*Simulador!$F$8","v":{"$error":"#VALUE!"}},964.67528601785307,{"$error":"#VALUE!"},null,{"$error":"#VALUE!"}]
[null,"","","","",{"$error":"#VALUE!"},{"$f":"F183*((1+Simulador!$C$10)^B183-1)","v":{"$error":"#VALUE!"}},{"$error":"#VALUE!"},{"$f":"F183*Simulador!$F$8","v":{"$error":"#VALUE!"}},964.67528601785307,{"$error":"#VALUE!"},null,{"$error":"#VALUE!"}]
[null,"","","","",{"$error":"#VALUE!"},{"$f":"F184*((1+Simulador!$C$10)^B184-1)","v":{"$error":"#VALUE!"}},{"$error":"#VALUE!"},{"$f":"F184*Simulador!$F$8","v":{"$error":"#VALUE!"}},964.67528601785307,{"$error":"#VALUE!"},null,{"$error":"#VALUE!"}]
[null,"","","","",{"$error":"#VALUE!"},{"$f":"F185*((1+Simulador!$C$10)^B185-1)","v":{"$error":"#VALUE!"}},{"$error":"#VALUE!"},{"$f":"F185*Simulador!$F$8","v":{"$error":"#VALUE!"}},964.67528601785307,{"$error":"#VALUE!"},null,{"$error":"#VALUE!"}]

{"sheet":"Procesamiento T24","index":6,"n_rows":185,"n_cols":13,"rows_kept":185,"cut":false,"hidden":true,"merged":[]}
["Cronograma"]
[]
["n° Periodo","n° Días","n° días acum","Fecha inicial","Fecha Final","Saldo inicial","i","k","Seguro","Cuota","Saldo Aant","Anticipo","Saldo Final"]
[1,{"$f":"_xlfn.DAYS(E4,D4)","v":60},{"$f":"B4","v":60},{"$f":"Simulador!C12","v":"2025-11-07"},{"$f":"+Simulador!C22","v":"2026-01-06"},{"$f":"Simulador!C6","v":14993.27},{"$f":"F4*((1+Simulador!$C$10)^B4-1)","v":1574.5532067329339},{"$f":"IF((J4-I4-G4)<0,0,J4-I4-G4)","v":0},{"$f":"F4*Simulador!$F$8","v":44.979810000000001},{"$f":"Simulador!F34","v":961.78992733105099},{"$f":"F4-H4","v":14993.27},null,{"$f":"K4-L4","v":14993.27}]
[{"$f":"IF(OR(A4>Simulador!$C$24,A4=0),0,A4+1)","v":2},{"$f":"IFERROR(_xlfn.DAYS(E5,D5),\"\")","v":31},{"$f":"IFERROR(C4+B5,\"\")","v":91},{"$f":"E4","v":"2026-01-06"},{"$f":"IFERROR(EDATE(D5,1),\"\")","v":"2026-02-06"},{"$f":"K4","v":14993.27},{"$f":"F5*((1+Simulador!$C$10)^B5-1)","v":793.87961864864485},{"$f":"J5-I5-G5","v":122.9304986824061},{"$f":"F5*Simulador!$F$8","v":44.979810000000001},{"$f":"$J$4","v":961.78992733105099},{"$f":"F5-H5","v":14870.339501317594},null,{"$f":"K5-L5","v":14870.339501317594}]
[{"$f":"IF(OR(A5>Simulador!$C$24,A5=0),0,A5+1)","v":3},{"$f":"IFERROR(_xlfn.DAYS(E6,D6),\"\")","v":28},{"$f":"IFERROR(C5+B6,\"\")","v":119},{"$f":"IF(A6<>0,E5,\"\")","v":"2026-02-06"},{"$f":"IFERROR(EDATE(D6,1),\"\")","v":"2026-03-06"},{"$f":"K5","v":14870.339501317594},{"$f":"F6*((1+Simulador!$C$10)^B6-1)","v":709.38567252587802},207.79323630122019,{"$f":"F6*Simulador!$F$8","v":44.611018503952785},{"$f":"$J$4","v":961.78992733105099},14662.546265016374,null,{"$f":"K6-L6","v":14662.546265016374}]
[{"$f":"IF(OR(A6>=Simulador!$C$24,A6=0),0,A6+1)","v":4},31,150,{"$f":"IF(A7<>0,E6,\"\")","v":"2026-03-06"},"2026-04-06",14662.546265016374,{"$f":"F7*((1+Simulador!$C$10)^B7-1)","v":776.36810630965158},141.43418222635034,{"$f":"F7*Simulador!$F$8","v":43.987638795049122},961.78992733105099,14521.112082790023,null,14521.112082790023]
[{"$f":"IF(OR(A7>=Simulador!$C$24,A7=0),0,A7+1)","v":5},30,180,"2026-04-06","2026-05-06",14521.112082790023,{"$f":"F8*((1+Simulador!$C$10)^B8-1)","v":743.45256192745671},174.77402915522418,{"$f":"F8*Simulador!$F$8","v":43.563336248370071},961.78992733105099,14346.3380536348,null,14346.3380536348]
[{"$f":"IF(OR(A8>=Simulador!$C$24,A8=0),0,A8+1)","v":6},31,211,"2026-05-06","2026-06-06",14346.3380536348,{"$f":"F9*((1+Simulador!$C$10)^B9-1)","v":759.62517736451991},159.12573580562662,{"$f":"F9*Simulador!$F$8","v":43.039014160904401},961.78992733105099,14187.212317829173,null,14187.212317829173]
[{"$f":"IF(OR(A9>=Simulador!$C$24,A9=0),0,A9+1)","v":7},30,241,"2026-06-06","2026-07-06",14187.212317829173,{"$f":"F10*((1+Simulador!$C$10)^B10-1)","v":726.35754645813017},192.87074391943327,{"$f":"F10*Simulador!$F$8","v":42.561636953487522},961.78992733105099,13994.34157390974,null,13994.34157390974]
[{"$f":"IF(OR(A10>=Simulador!$C$24,A10=0),0,A10+1)","v":8},31,272,"2026-07-06","2026-08-06",13994.34157390974,{"$f":"F11*((1+Simulador!$C$10)^B11-1)","v":740.98729309445775},178.81960951486406,{"$f":"F11*Simulador!$F$8","v":41.983024721729223},961.78992733105099,13815.521964394877,null,13815.521964394877]
[{"$f":"IF(OR(A11>=Simulador!$C$24,A11=0),0,A11+1)","v":9},31,303,"2026-08-06","2026-09-06",13815.521964394877,{"$f":"F12*((1+Simulador!$C$10)^B12-1)","v":731.51896207603681},188.82439936182959,{"$f":"F12*Simulador!$F$8","v":41.446565893184633},961.78992733105099,13626.697565033048,null,13626.697565033048]
[{"$f":"IF(OR(A12>=Simulador!$C$24,A12=0),0,A12+1)","v":10},30,333,"2026-09-06","2026-10-06",13626.697565033048,{"$f":"F13*((1+Simulador!$C$10)^B13-1)","v":697.66028645568917},223.24954818026265,{"$f":"F13*Simulador!$F$8","v":40.880092695099144},961.78992733105099,13403.448016852784,null,13403.448016852784]
[{"$f":"IF(OR(A13>=Simulador!$C$24,A13=0),0,A13+1)","v":11},31,364,"2026-10-06","2026-11-06",13403.448016852784,{"$f":"F14*((1+Simulador!$C$10)^B14-1)","v":709.70003209413449},211.87955118635819,{"$f":"F14*Simulador!$F$8","v":40.210344050558355},961.78992733105099,13191.568465666427,null,13191.568465666427]
[{"$f":"IF(OR(A14>=Simulador!$C$24,A14=0),0,A14+1)","v":12},30,394,"2026-11-06","2026-12-06",13191.568465666427,{"$f":"F15*((1+Simulador!$C$10)^B15-1)","v":675.38252688404441},246.83269505000726,{"$f":"F15*Simulador!$F$8","v":39.574705396999285},961.78992733105099,12944.73577061642,null,12944.73577061642]
[{"$f":"IF(OR(A15>=Simulador!$C$24,A15=0),0,A15+1)","v":13},31,425,"2026-12-06","2027-01-06",12944.73577061642,{"$f":"F16*((1+Simulador!$C$10)^B16-1)","v":685.41164783162276},237.54407218757899,{"$f":"F16*Simulador!$F$8","v":38.834207311849262},961.78992733105099,12707.191698428842,null,12707.191698428842]
[{"$f":"IF(OR(A16>=Simulador!$C$24,A16=0),0,A16+1)","v":14},31,456,"2027-01-06","2027-02-06",12707.191698428842,{"$f":"F17*((1+Simulador!$C$10)^B17-1)","v":672.83391145786834},250.83444077789613,{"$f":"F17*Simulador!$F$8","v":38.121575095286524},961.78992733105099,12456.357257650945,null,12456.357257650945]
[{"$f":"IF(OR(A17>=Simulador!$C$24,A17=0),0,A17+1)","v":15},28,484,"2027-02-06","2027-03-06",12456.357257650945,{"$f":"F18*((1+Simulador!$C$10)^B18-1)","v":594.22727837910952},330.19357717898868,{"$f":"F18*Simulador!$F$8","v":37.369071772952836},961.78992733105099,12126.163680471956,null,12126.163680471956]
[{"$f":"IF(OR(A18>=Simulador!$C$24,A18=0),0,A18+1)","v":16},31,515,"2027-03-06","2027-04-06",12126.163680471956,{"$f":"F19*((1+Simulador!$C$10)^B19-1)","v":642.06902152259806},283.3424147670371,{"$f":"F19*Simulador!$F$8","v":36.37849104141587},961.78992733105099,11842.821265704919,null,11842.821265704919]
[{"$f":"IF(OR(A19>=Simulador!$C$24,A19=0),0,A19+1)","v":17},30,545,"2027-04-06","2027-05-06",11842.821265704919,{"$f":"F20*((1+Simulador!$C$10)^B20-1)","v":606.32930592638297},319.93215760755322,{"$f":"F20*Simulador!$F$8","v":35.52846379711476},961.78992733105099,11522.889108097366,null,11522.889108097366]
[{"$f":"IF(OR(A20>=Simulador!$C$24,A20=0),0,A20+1)","v":18},31,576,"2027-05-06","2027-06-06",11522.889108097366,{"$f":"F21*((1+Simulador!$C$10)^B21-1)","v":610.12619734500618},317.09506266175276,{"$f":"F21*Simulador!$F$8","v":34.5686673242921},961.78992733105099,11205.794045435614,null,11205.794045435614]
[{"$f":"IF(OR(A21>=Simulador!$C$24,A21=0),0,A21+1)","v":19},30,606,"2027-06-06","2027-07-06",11205.794045435614,{"$f":"F22*((1+Simulador!$C$10)^B22-1)","v":573.71475710762979},354.4577880871143,{"$f":"F22*Simulador!$F$8","v":33.617382136306844},961.78992733105099,10851.336257348499,null,10851.336257348499]
[{"$f":"IF(OR(A22>=Simulador!$C$24,A22=0),0,A22+1)","v":20},31,637,"2027-07-06","2027-08-06",10851.336257348499,{"$f":"F23*((1+Simulador!$C$10)^B23-1)","v":574.56810220932721},354.66781634967833,{"$f":"F23*Simulador!$F$8","v":32.554008772045499},961.78992733105099,10496.668440998821,null,10496.668440998821]
[{"$f":"IF(OR(A23>=Simulador!$C$24,A23=0),0,A23+1)","v":21},31,668,"2027-08-06","2027-09-06",10496.668440998821,{"$f":"F24*((1+Simulador!$C$10)^B24-1)","v":555.78877316432033},374.51114884373419,{"$f":"F24*Simulador!$F$8","v":31.490005322996463},961.78992733105099,10122.157292155087,null,10122.157292155087]
[{"$f":"IF(OR(A24>=Simulador!$C$24,A24=0),0,A24+1)","v":22},30,698,"2027-09-06","2027-10-06",10122.157292155087,{"$f":"F25*((1+Simulador!$C$10)^B25-1)","v":518.23467294933937},413.18878250524631,{"$f":"F25*Simulador!$F$8","v":30.366471876465262},961.78992733105099,9708.9685096498397,null,9708.9685096498397]
[{"$f":"IF(OR(A25>=Simulador!$C$24,A25=0),0,A25+1)","v":23},31,729,"2027-10-06","2027-11-06",9708.9685096498397,{"$f":"F26*((1+Simulador!$C$10)^B26-1)","v":514.08079877922},418.58222302288141,{"$f":"F26*Simulador!$F$8","v":29.126905528949521},961.78992733105099,9290.3862866269592,null,9290.3862866269592]
[{"$f":"IF(OR(A26>=Simulador!$C$24,A26=0),0,A26+1)","v":24},30,759,"2027-11-06","2027-12-06",9290.3862866269592,{"$f":"F27*((1+Simulador!$C$10)^B27-1)","v":475.64962288766048},458.26914558350961,{"$f":"F27*Simulador!$F$8","v":27.871158859880879},961.78992733105099,8832.117141043449,null,8832.117141043449]
[{"$f":"IF(OR(A27>=Simulador!$C$24,A27=0),0,A27+1)","v":25},31,790,"2027-12-06","2028-01-06",8832.117141043449,{"$f":"F28*((1+Simulador!$C$10)^B28-1)","v":467.65233920230429},467.64123670561634,{"$f":"F28*Simulador!$F$8","v":26.496351423130349},961.78992733105099,8364.4759043378326,null,8364.4759043378326]
[{"$f":"IF(OR(A28>=Simulador!$C$24,A28=0),0,A28+1)","v":26},31,821,"2028-01-06","2028-02-06",8364.4759043378326,{"$f":"F29*((1+Simulador!$C$10)^B29-1)","v":442.8911732484973},493.80532636954018,{"$f":"F29*Simulador!$F$8","v":25.093427713013497},961.78992733105099,7870.6705779682925,null,7870.6705779682925]
[{"$f":"IF(OR(A29>=Simulador!$C$24,A29=0),0,A29+1)","v":27},29,850,"2028-02-06","2028-03-06",7870.6705779682925,{"$f":"F30*((1+Simulador!$C$10)^B30-1)","v":389.20418119518422},548.97373440196191,{"$f":"F30*Simulador!$F$8","v":23.612011733904879},961.78992733105099,7321.6968435663302,null,7321.6968435663302]
[{"$f":"IF(OR(A30>=Simulador!$C$24,A30=0),0,A30+1)","v":28},31,881,"2028-03-06","2028-04-06",7321.6968435663302,{"$f":"F31*((1+Simulador!$C$10)^B31-1)","v":387.6769976150249},552.14783918532714,{"$f":"F31*Simulador!$F$8","v":21.965090530698991},961.78992733105099,6769.5490043810032,null,6769.5490043810032]
[{"$f":"IF(OR(A31>=Simulador!$C$24,A31=0),0,A31+1)","v":29},30,911,"2028-04-06","2028-05-06",6769.5490043810032,{"$f":"F32*((1+Simulador!$C$10)^B32-1)","v":346.58768017948756},594.89360013842042,{"$f":"F32*Simulador!$F$8","v":20.308647013143009},961.78992733105099,6174.6554042425832,null,6174.6554042425832]
[{"$f":"IF(OR(A32>=Simulador!$C$24,A32=0),0,A32+1)","v":30},31,942,"2028-05-06","2028-06-06",6174.6554042425832,{"$f":"F33*((1+Simulador!$C$10)^B33-1)","v":326.94222658612136},616.32373453220191,{"$f":"F33*Simulador!$F$8","v":18.52396621272775},961.78992733105099,5558.331669710381,null,5558.331669710381]
[{"$f":"IF(OR(A33>=Simulador!$C$24,A33=0),0,A33+1)","v":31},30,972,"2028-06-06","2028-07-06",5558.331669710381,{"$f":"F34*((1+Simulador!$C$10)^B34-1)","v":284.57571956807925},660.5392127538405,{"$f":"F34*Simulador!$F$8","v":16.674995009131145},961.78992733105099,4897.7924569565403,null,4897.7924569565403]
[{"$f":"IF(OR(A34>=Simulador!$C$24,A34=0),0,A34+1)","v":32},31,1003,"2028-07-06","2028-08-06",4897.7924569565403,{"$f":"F35*((1+Simulador!$C$10)^B35-1)","v":259.33352817289807},687.76302178728338,{"$f":"F35*Simulador!$F$8","v":14.693377370869621},961.78992733105099,4210.0294351692573,null,4210.0294351692573]
[{"$f":"IF(OR(A35>=Simulador!$C$24,A35=0),0,A35+1)","v":33},31,1034,"2028-08-06","2028-09-06",4210.0294351692573,{"$f":"F36*((1+Simulador!$C$10)^B36-1)","v":222.91711964713099},726.24271937841218,{"$f":"F36*Simulador!$F$8","v":12.630088305507773},961.78992733105099,3483.7867157908449,null,3483.7867157908449]
[{"$f":"IF(OR(A36>=Simulador!$C$24,A36=0),0,A36+1)","v":34},30,1064,"2028-09-06","2028-10-06",3483.7867157908449,{"$f":"F37*((1+Simulador!$C$10)^B37-1)","v":178.3630719394535},772.97549524422493,{"$f":"F37*Simulador!$F$8","v":10.451360147372535},961.78992733105099,2710.81122054662,null,2710.81122054662]
[{"$f":"IF(OR(A37>=Simulador!$C$24,A37=0),0,A37+1)","v":35},31,1095,"2028-10-06","2028-11-06",2710.81122054662,{"$f":"F38*((1+Simulador!$C$10)^B38-1)","v":143.53491786621717},810.12257580319397,{"$f":"F38*Simulador!$F$8","v":8.13243366163986},961.78992733105099,1900.688644743426,null,1900.688644743426]
[{"$f":"IF(OR(A38>=Simulador!$C$24,A38=0),0,A38+1)","v":36},30,1125,"2028-11-06","2028-12-06",1900.688644743426,{"$f":"F39*((1+Simulador!$C$10)^B39-1)","v":97.311544343470445},858.77631705335023,{"$f":"F39*Simulador!$F$8","v":5.7020659342302782},961.78992733105099,1041.9123276900759,null,1041.9123276900759]
[{"$f":"IF(OR(A39>=Simulador!$C$24,A39=0),0,A39+1)","v":0},"","","","",1041.9123276900759,{"$f":"F40*((1+Simulador!$C$10)^B40-1)","v":{"$error":"#VALUE!"}},{"$error":"#VALUE!"},{"$f":"F40*Simulador!$F$8","v":3.1257369830702277},961.78992733105099,{"$error":"#VALUE!"},null,{"$error":"#VALUE!"}]
[{"$f":"IF(OR(A40>=Simulador!$C$24,A40=0),0,A40+1)","v":0},"","","","",{"$error":"#VALUE!"},{"$f":"F41*((1+Simulador!$C$10)^B41-1)","v":{"$error":"#VALUE!"}},{"$error":"#VALUE!"},{"$f":"F41*Simulador!$F$8","v":{"$error":"#VALUE!"}},961.78992733105099,{"$error":"#VALUE!"},null,{"$error":"#VALUE!"}]
[{"$f":"IF(OR(A41>=Simulador!$C$24,A41=0),0,A41+1)","v":0},"","","","",{"$error":"#VALUE!"},{"$f":"F42*((1+Simulador!$C$10)^B42-1)","v":{"$error":"#VALUE!"}},{"$error":"#VALUE!"},{"$f":"F42*Simulador!$F$8","v":{"$error":"#VALUE!"}},961.78992733105099,{"$error":"#VALUE!"},null,{"$error":"#VALUE!"}]
[{"$f":"IF(OR(A42>=Simulador!$C$24,A42=0),0,A42+1)","v":0},"","","","",{"$error":"#VALUE!"},{"$f":"F43*((1+Simulador!$C$10)^B43-1)","v":{"$error":"#VALUE!"}},{"$error":"#VALUE!"},{"$f":"F43*Simulador!$F$8","v":{"$error":"#VALUE!"}},961.78992733105099,{"$error":"#VALUE!"},null,{"$error":"#VALUE!"}]
[{"$f":"IF(OR(A43>=Simulador!$C$24,A43=0),0,A43+1)","v":0},"","","","",{"$error":"#VALUE!"},{"$f":"F44*((1+Simulador!$C$10)^B44-1)","v":{"$error":"#VALUE!"}},{"$error":"#VALUE!"},{"$f":"F44*Simulador!$F$8","v":{"$error":"#VALUE!"}},961.78992733105099,{"$error":"#VALUE!"},null,{"$error":"#VALUE!"}]
[{"$f":"IF(OR(A44>=Simulador!$C$24,A44=0),0,A44+1)","v":0},"","","","",{"$error":"#VALUE!"},{"$f":"F45*((1+Simulador!$C$10)^B45-1)","v":{"$error":"#VALUE!"}},{"$error":"#VALUE!"},{"$f":"F45*Simulador!$F$8","v":{"$error":"#VALUE!"}},961.78992733105099,{"$error":"#VALUE!"},null,{"$error":"#VALUE!"}]
[{"$f":"IF(OR(A45>=Simulador!$C$24,A45=0),0,A45+1)","v":0},"","","","",{"$error":"#VALUE!"},{"$f":"F46*((1+Simulador!$C$10)^B46-1)","v":{"$error":"#VALUE!"}},{"$error":"#VALUE!"},{"$f":"F46*Simulador!$F$8","v":{"$error":"#VALUE!"}},961.78992733105099,{"$error":"#VALUE!"},null,{"$error":"#VALUE!"}]
[{"$f":"IF(OR(A46>=Simulador!$C$24,A46=0),0,A46+1)","v":0},"","","","",{"$error":"#VALUE!"},{"$f":"F47*((1+Simulador!$C$10)^B47-1)","v":{"$error":"#VALUE!"}},{"$error":"#VALUE!"},{"$f":"F47*Simulador!$F$8","v":{"$error":"#VALUE!"}},961.78992733105099,{"$error":"#VALUE!"},null,{"$error":"#VALUE!"}]
[{"$f":"IF(OR(A47>=Simulador!$C$24,A47=0),0,A47+1)","v":0},"","","","",{"$error":"#VALUE!"},{"$f":"F48*((1+Simulador!$C$10)^B48-1)","v":{"$error":"#VALUE!"}},{"$error":"#VALUE!"},{"$f":"F48*Simulador!$F$8","v":{"$error":"#VALUE!"}},961.78992733105099,{"$error":"#VALUE!"},null,{"$error":"#VALUE!"}]
[{"$f":"IF(OR(A48>=Simulador!$C$24,A48=0),0,A48+1)","v":0},"","","","",{"$error":"#VALUE!"},{"$f":"F49*((1+Simulador!$C$10)^B49-1)","v":{"$error":"#VALUE!"}},{"$error":"#VALUE!"},{"$f":"F49*Simulador!$F$8","v":{"$error":"#VALUE!"}},961.78992733105099,{"$error":"#VALUE!"},null,{"$error":"#VALUE!"}]
[{"$f":"IF(OR(A49>=Simulador!$C$24,A49=0),0,A49+1)","v":0},"","","","",{"$error":"#VALUE!"},{"$f":"F50*((1+Simulador!$C$10)^B50-1)","v":{"$error":"#VALUE!"}},{"$error":"#VALUE!"},{"$f":"F50*Simulador!$F$8","v":{"$error":"#VALUE!"}},961.78992733105099,{"$error":"#VALUE!"},null,{"$error":"#VALUE!"}]
[{"$f":"IF(OR(A50>=Simulador!$C$24,A50=0),0,A50+1)","v":0},"","","","",{"$error":"#VALUE!"},{"$f":"F51*((1+Simulador!$C$10)^B51-1)","v":{"$error":"#VALUE!"}},{"$error":"#VALUE!"},{"$f":"F51*Simulador!$F$8","v":{"$error":"#VALUE!"}},961.78992733105099,{"$error":"#VALUE!"},null,{"$error":"#VALUE!"}]
[{"$f":"IF(OR(A51>=Simulador!$C$24,A51=0),0,A51+1)","v":0},"","","","",{"$error":"#VALUE!"},{"$f":"F52*((1+Simulador!$C$10)^B52-1)","v":{"$error":"#VALUE!"}},{"$error":"#VALUE!"},{"$f":"F52*Simulador!$F$8","v":{"$error":"#VALUE!"}},961.78992733105099,{"$error":"#VALUE!"},null,{"$error":"#VALUE!"}]
[{"$f":"IF(OR(A52>=Simulador!$C$24,A52=0),0,A52+1)","v":0},"","","","",{"$error":"#VALUE!"},{"$f":"F53*((1+Simulador!$C$10)^B53-1)","v":{"$error":"#VALUE!"}},{"$error":"#VALUE!"},{"$f":"F53*Simulador!$F$8","v":{"$error":"#VALUE!"}},961.78992733105099,{"$error":"#VALUE!"},null,{"$error":"#VALUE!"}]
[{"$f":"IF(OR(A53>=Simulador!$C$24,A53=0),0,A53+1)","v":0},"","","","",{"$error":"#VALUE!"},{"$f":"F54*((1+Simulador!$C$10)^B54-1)","v":{"$error":"#VALUE!"}},{"$error":"#VALUE!"},{"$f":"F54*Simulador!$F$8","v":{"$error":"#VALUE!"}},961.78992733105099,{"$error":"#VALUE!"},null,{"$error":"#VALUE!"}]
[{"$f":"IF(OR(A54>=Simulador!$C$24,A54=0),0,A54+1)","v":0},"","","","",{"$error":"#VALUE!"},{"$f":"F55*((1+Simulador!$C$10)^B55-1)","v":{"$error":"#VALUE!"}},{"$error":"#VALUE!"},{"$f":"F55*Simulador!$F$8","v":{"$error":"#VALUE!"}},961.78992733105099,{"$error":"#VALUE!"},null,{"$error":"#VALUE!"}]
[{"$f":"IF(OR(A55>=Simulador!$C$24,A55=0),0,A55+1)","v":0},"","","","",{"$error":"#VALUE!"},{"$f":"F56*((1+Simulador!$C$10)^B56-1)","v":{"$error":"#VALUE!"}},{"$error":"#VALUE!"},{"$f":"F56*Simulador!$F$8","v":{"$error":"#VALUE!"}},961.78992733105099,{"$error":"#VALUE!"},null,{"$error":"#VALUE!"}]
[{"$f":"IF(OR(A56>=Simulador!$C$24,A56=0),0,A56+1)","v":0},"","","","",{"$error":"#VALUE!"},{"$f":"F57*((1+Simulador!$C$10)^B57-1)","v":{"$error":"#VALUE!"}},{"$error":"#VALUE!"},{"$f":"F57*Simulador!$F$8","v":{"$error":"#VALUE!"}},961.78992733105099,{"$error":"#VALUE!"},null,{"$error":"#VALUE!"}]
[{"$f":"IF(OR(A57>=Simulador!$C$24,A57=0),0,A57+1)","v":0},"","","","",{"$error":"#VALUE!"},{"$f":"F58*((1+Simulador!$C$10)^B58-1)","v":{"$error":"#VALUE!"}},{"$error":"#VALUE!"},{"$f":"F58*Simulador!$F$8","v":{"$error":"#VALUE!"}},961.78992733105099,{"$error":"#VALUE!"},null,{"$error":"#VALUE!"}]
[{"$f":"IF(OR(A58>=Simulador!$C$24,A58=0),0,A58+1)","v":0},"","","","",{"$error":"#VALUE!"},{"$f":"F59*((1+Simulador!$C$10)^B59-1)","v":{"$error":"#VALUE!"}},{"$error":"#VALUE!"},{"$f":"F59*Simulador!$F$8","v":{"$error":"#VALUE!"}},961.78992733105099,{"$error":"#VALUE!"},null,{"$error":"#VALUE!"}]
[{"$f":"IF(OR(A59>=Simulador!$C$24,A59=0),0,A59+1)","v":0},"","","","",{"$error":"#VALUE!"},{"$f":"F60*((1+Simulador!$C$10)^B60-1)","v":{"$error":"#VALUE!"}},{"$error":"#VALUE!"},{"$f":"F60*Simulador!$F$8","v":{"$error":"#VALUE!"}},961.78992733105099,{"$error":"#VALUE!"},null,{"$error":"#VALUE!"}]
[{"$f":"IF(OR(A60>=Simulador!$C$24,A60=0),0,A60+1)","v":0},"","","","",{"$error":"#VALUE!"},{"$f":"F61*((1+Simulador!$C$10)^B61-1)","v":{"$error":"#VALUE!"}},{"$error":"#VALUE!"},{"$f":"F61*Simulador!$F$8","v":{"$error":"#VALUE!"}},961.78992733105099,{"$error":"#VALUE!"},null,{"$error":"#VALUE!"}]
[{"$f":"IF(OR(A61>=Simulador!$C$24,A61=0),0,A61+1)","v":0},"","","","",{"$error":"#VALUE!"},{"$f":"F62*((1+Simulador!$C$10)^B62-1)","v":{"$error":"#VALUE!"}},{"$error":"#VALUE!"},{"$f":"F62*Simulador!$F$8","v":{"$error":"#VALUE!"}},961.78992733105099,{"$error":"#VALUE!"},null,{"$error":"#VALUE!"}]
[{"$f":"IF(OR(A62>=Simulador!$C$24,A62=0),0,A62+1)","v":0},"","","","",{"$error":"#VALUE!"},{"$f":"F63*((1+Simulador!$C$10)^B63-1)","v":{"$error":"#VALUE!"}},{"$error":"#VALUE!"},{"$f":"F63*Simulador!$F$8","v":{"$error":"#VALUE!"}},961.78992733105099,{"$error":"#VALUE!"},null,{"$error":"#VALUE!"}]
[{"$f":"IF(OR(A63>=Simulador!$C$24,A63=0),0,A63+1)","v":0},"","","","",{"$error":"#VALUE!"},{"$f":"F64*((1+Simulador!$C$10)^B64-1)","v":{"$error":"#VALUE!"}},{"$error":"#VALUE!"},{"$f":"F64*Simulador!$F$8","v":{"$error":"#VALUE!"}},961.78992733105099,{"$error":"#VALUE!"},null,{"$error":"#VALUE!"}]
[{"$f":"IF(OR(A64>=Simulador!$C$24,A64=0),0,A64+1)","v":0},"","","","",{"$error":"#VALUE!"},{"$f":"F65*((1+Simulador!$C$10)^B65-1)","v":{"$error":"#VALUE!"}},{"$error":"#VALUE!"},{"$f":"F65*Simulador!$F$8","v":{"$error":"#VALUE!"}},961.78992733105099,{"$error":"#VALUE!"},null,{"$error":"#VALUE!"}]
[{"$f":"IF(OR(A65>=Simulador!$C$24,A65=0),0,A65+1)","v":0},"","","","",{"$error":"#VALUE!"},{"$f":"F66*((1+Simulador!$C$10)^B66-1)","v":{"$error":"#VALUE!"}},{"$error":"#VALUE!"},{"$f":"F66*Simulador!$F$8","v":{"$error":"#VALUE!"}},961.78992733105099,{"$error":"#VALUE!"},null,{"$error":"#VALUE!"}]
[{"$f":"IF(OR(A66>=Simulador!$C$24,A66=0),0,A66+1)","v":0},"","","","",{"$error":"#VALUE!"},{"$f":"F67*((1+Simulador!$C$10)^B67-1)","v":{"$error":"#VALUE!"}},{"$error":"#VALUE!"},{"$f":"F67*Simulador!$F$8","v":{"$error":"#VALUE!"}},961.78992733105099,{"$error":"#VALUE!"},null,{"$error":"#VALUE!"}]
[{"$f":"IF(OR(A67>=Simulador!$C$24,A67=0),0,A67+1)","v":0},"","","","",{"$error":"#VALUE!"},{"$f":"F68*((1+Simulador!$C$10)^B68-1)","v":{"$error":"#VALUE!"}},{"$error":"#VALUE!"},{"$f":"F68*Simulador!$F$8","v":{"$error":"#VALUE!"}},961.78992733105099,{"$error":"#VALUE!"},null,{"$error":"#VALUE!"}]
[{"$f":"IF(OR(A68>=Simulador!$C$24,A68=0),0,A68+1)","v":0},"","","","",{"$error":"#VALUE!"},{"$f":"F69*((1+Simulador!$C$10)^B69-1)","v":{"$error":"#VALUE!"}},{"$f":"J69-I69-G69","v":{"$error":"#VALUE!"}},{"$f":"F69*Simulador!$F$8","v":{"$error":"#VALUE!"}},961.78992733105099,{"$f":"F69-H69","v":{"$error":"#VALUE!"}},null,{"$error":"#VALUE!"}]
[{"$f":"IF(OR(A69>=Simulador!$C$24,A69=0),0,A69+1)","v":0},{"$f":"IFERROR(_xlfn.DAYS(E70,D70),\"\")","v":""},{"$f":"IFERROR(C69+B70,\"\")","v":""},"",{"$f":"IFERROR(EDATE(D70,1),\"\")","v":""},{"$f":"K69","v":{"$error":"#VALUE!"}},{"$f":"F70*((1+Simulador!$C$10)^B70-1)","v":{"$error":"#VALUE!"}},{"$error":"#VALUE!"},{"$f":"F70*Simulador!$F$8","v":{"$error":"#VALUE!"}},{"$f":"$J$4","v":961.78992733105099},{"$error":"#VALUE!"},null,{"$f":"K70-L70","v":{"$error":"#VALUE!"}}]
[{"$f":"IF(OR(A70>=Simulador!$C$24,A70=0),0,A70+1)","v":0},"","",{"$f":"IF(A71<>0,E70,\"\")","v":""},"",{"$error":"#VALUE!"},{"$f":"F71*((1+Simulador!$C$10)^B71-1)","v":{"$error":"#VALUE!"}},{"$error":"#VALUE!"},{"$f":"F71*Simulador!$F$8","v":{"$error":"#VALUE!"}},961.78992733105099,{"$error":"#VALUE!"},null,{"$error":"#VALUE!"}]
[{"$f":"IF(OR(A71>=Simulador!$C$24,A71=0),0,A71+1)","v":0},"","","","",{"$error":"#VALUE!"},{"$f":"F72*((1+Simulador!$C$10)^B72-1)","v":{"$error":"#VALUE!"}},{"$error":"#VALUE!"},{"$f":"F72*Simulador!$F$8","v":{"$error":"#VALUE!"}},961.78992733105099,{"$error":"#VALUE!"},null,{"$error":"#VALUE!"}]
[{"$f":"IF(OR(A72>=Simulador!$C$24,A72=0),0,A72+1)","v":0},"","","","",{"$error":"#VALUE!"},{"$f":"F73*((1+Simulador!$C$10)^B73-1)","v":{"$error":"#VALUE!"}},{"$error":"#VALUE!"},{"$f":"F73*Simulador!$F$8","v":{"$error":"#VALUE!"}},961.78992733105099,{"$error":"#VALUE!"},null,{"$error":"#VALUE!"}]
[{"$f":"IF(OR(A73>=Simulador!$C$24,A73=0),0,A73+1)","v":0},"","","","",{"$error":"#VALUE!"},{"$f":"F74*((1+Simulador!$C$10)^B74-1)","v":{"$error":"#VALUE!"}},{"$error":"#VALUE!"},{"$f":"F74*Simulador!$F$8","v":{"$error":"#VALUE!"}},961.78992733105099,{"$error":"#VALUE!"},null,{"$error":"#VALUE!"}]
[{"$f":"IF(OR(A74>=Simulador!$C$24,A74=0),0,A74+1)","v":0},"","","","",{"$error":"#VALUE!"},{"$f":"F75*((1+Simulador!$C$10)^B75-1)","v":{"$error":"#VALUE!"}},{"$error":"#VALUE!"},{"$f":"F75*Simulador!$F$8","v":{"$error":"#VALUE!"}},961.78992733105099,{"$error":"#VALUE!"},null,{"$error":"#VALUE!"}]
[{"$f":"IF(OR(A75>=Simulador!$C$24,A75=0),0,A75+1)","v":0},"","","","",{"$error":"#VALUE!"},{"$f":"F76*((1+Simulador!$C$10)^B76-1)","v":{"$error":"#VALUE!"}},{"$error":"#VALUE!"},{"$f":"F76*Simulador!$F$8","v":{"$error":"#VALUE!"}},961.78992733105099,{"$error":"#VALUE!"},null,{"$error":"#VALUE!"}]
[{"$f":"IF(OR(A76>=Simulador!$C$24,A76=0),0,A76+1)","v":0},"","","","",{"$error":"#VALUE!"},{"$f":"F77*((1+Simulador!$C$10)^B77-1)","v":{"$error":"#VALUE!"}},{"$error":"#VALUE!"},{"$f":"F77*Simulador!$F$8","v":{"$error":"#VALUE!"}},961.78992733105099,{"$error":"#VALUE!"},null,{"$error":"#VALUE!"}]
[{"$f":"IF(OR(A77>=Simulador!$C$24,A77=0),0,A77+1)","v":0},"","","","",{"$error":"#VALUE!"},{"$f":"F78*((1+Simulador!$C$10)^B78-1)","v":{"$error":"#VALUE!"}},{"$error":"#VALUE!"},{"$f":"F78*Simulador!$F$8","v":{"$error":"#VALUE!"}},961.78992733105099,{"$error":"#VALUE!"},null,{"$error":"#VALUE!"}]
[{"$f":"IF(OR(A78>=Simulador!$C$24,A78=0),0,A78+1)","v":0},"","","","",{"$error":"#VALUE!"},{"$f":"F79*((1+Simulador!$C$10)^B79-1)","v":{"$error":"#VALUE!"}},{"$error":"#VALUE!"},{"$f":"F79*Simulador!$F$8","v":{"$error":"#VALUE!"}},961.78992733105099,{"$error":"#VALUE!"},null,{"$error":"#VALUE!"}]
[{"$f":"IF(OR(A79>=Simulador!$C$24,A79=0),0,A79+1)","v":0},"","","","",{"$error":"#VALUE!"},{"$f":"F80*((1+Simulador!$C$10)^B80-1)","v":{"$error":"#VALUE!"}},{"$error":"#VALUE!"},{"$f":"F80*Simulador!$F$8","v":{"$error":"#VALUE!"}},961.78992733105099,{"$error":"#VALUE!"},null,{"$error":"#VALUE!"}]
[{"$f":"IF(OR(A80>=Simulador!$C$24,A80=0),0,A80+1)","v":0},"","","","",{"$error":"#VALUE!"},{"$f":"F81*((1+Simulador!$C$10)^B81-1)","v":{"$error":"#VALUE!"}},{"$error":"#VALUE!"},{"$f":"F81*Simulador!$F$8","v":{"$error":"#VALUE!"}},961.78992733105099,{"$error":"#VALUE!"},null,{"$error":"#VALUE!"}]
[{"$f":"IF(OR(A81>=Simulador!$C$24,A81=0),0,A81+1)","v":0},"","","","",{"$error":"#VALUE!"},{"$f":"F82*((1+Simulador!$C$10)^B82-1)","v":{"$error":"#VALUE!"}},{"$error":"#VALUE!"},{"$f":"F82*Simulador!$F$8","v":{"$error":"#VALUE!"}},961.78992733105099,{"$error":"#VALUE!"},null,{"$error":"#VALUE!"}]
[{"$f":"IF(OR(A82>=Simulador!$C$24,A82=0),0,A82+1)","v":0},"","","","",{"$error":"#VALUE!"},{"$f":"F83*((1+Simulador!$C$10)^B83-1)","v":{"$error":"#VALUE!"}},{"$error":"#VALUE!"},{"$f":"F83*Simulador!$F$8","v":{"$error":"#VALUE!"}},961.78992733105099,{"$error":"#VALUE!"},null,{"$error":"#VALUE!"}]
[{"$f":"IF(OR(A83>=Simulador!$C$24,A83=0),0,A83+1)","v":0},"","","","",{"$error":"#VALUE!"},{"$f":"F84*((1+Simulador!$C$10)^B84-1)","v":{"$error":"#VALUE!"}},{"$error":"#VALUE!"},{"$f":"F84*Simulador!$F$8","v":{"$error":"#VALUE!"}},961.78992733105099,{"$error":"#VALUE!"},null,{"$error":"#VALUE!"}]
[{"$f":"IF(OR(A84>=Simulador!$C$24,A84=0),0,A84+1)","v":0},"","","","",{"$error":"#VALUE!"},{"$f":"F85*((1+Simulador!$C$10)^B85-1)","v":{"$error":"#VALUE!"}},{"$error":"#VALUE!"},{"$f":"F85*Simulador!$F$8","v":{"$error":"#VALUE!"}},961.78992733105099,{"$error":"#VALUE!"},null,{"$error":"#VALUE!"}]
[{"$f":"IF(OR(A85>=Simulador!$C$24,A85=0),0,A85+1)","v":0},"","","","",{"$error":"#VALUE!"},{"$f":"F86*((1+Simulador!$C$10)^B86-1)","v":{"$error":"#VALUE!"}},{"$error":"#VALUE!"},{"$f":"F86*Simulador!$F$8","v":{"$error":"#VALUE!"}},961.78992733105099,{"$error":"#VALUE!"},null,{"$error":"#VALUE!"}]
[{"$f":"IF(OR(A86>=Simulador!$C$24,A86=0),0,A86+1)","v":0},"","","","",{"$error":"#VALUE!"},{"$f":"F87*((1+Simulador!$C$10)^B87-1)","v":{"$error":"#VALUE!"}},{"$error":"#VALUE!"},{"$f":"F87*Simulador!$F$8","v":{"$error":"#VALUE!"}},961.78992733105099,{"$error":"#VALUE!"},null,{"$error":"#VALUE!"}]
[{"$f":"IF(OR(A87>=Simulador!$C$24,A87=0),0,A87+1)","v":0},"","","","",{"$error":"#VALUE!"},{"$f":"F88*((1+Simulador!$C$10)^B88-1)","v":{"$error":"#VALUE!"}},{"$error":"#VALUE!"},{"$f":"F88*Simulador!$F$8","v":{"$error":"#VALUE!"}},961.78992733105099,{"$error":"#VALUE!"},null,{"$error":"#VALUE!"}]
[{"$f":"IF(OR(A88>=Simulador!$C$24,A88=0),0,A88+1)","v":0},"","","","",{"$error":"#VALUE!"},{"$f":"F89*((1+Simulador!$C$10)^B89-1)","v":{"$error":"#VALUE!"}},{"$error":"#VALUE!"},{"$f":"F89*Simulador!$F$8","v":{"$error":"#VALUE!"}},961.78992733105099,{"$error":"#VALUE!"},null,{"$error":"#VALUE!"}]
[{"$f":"IF(OR(A89>=Simulador!$C$24,A89=0),0,A89+1)","v":0},"","","","",{"$error":"#VALUE!"},{"$f":"F90*((1+Simulador!$C$10)^B90-1)","v":{"$error":"#VALUE!"}},{"$error":"#VALUE!"},{"$f":"F90*Simulador!$F$8","v":{"$error":"#VALUE!"}},961.78992733105099,{"$error":"#VALUE!"},null,{"$error":"#VALUE!"}]
[{"$f":"IF(OR(A90>=Simulador!$C$24,A90=0),0,A90+1)","v":0},"","","","",{"$error":"#VALUE!"},{"$f":"F91*((1+Simulador!$C$10)^B91-1)","v":{"$error":"#VALUE!"}},{"$error":"#VALUE!"},{"$f":"F91*Simulador!$F$8","v":{"$error":"#VALUE!"}},961.78992733105099,{"$error":"#VALUE!"},null,{"$error":"#VALUE!"}]
[{"$f":"IF(OR(A91>=Simulador!$C$24,A91=0),0,A91+1)","v":0},"","","","",{"$error":"#VALUE!"},{"$f":"F92*((1+Simulador!$C$10)^B92-1)","v":{"$error":"#VALUE!"}},{"$error":"#VALUE!"},{"$f":"F92*Simulador!$F$8","v":{"$error":"#VALUE!"}},961.78992733105099,{"$error":"#VALUE!"},null,{"$error":"#VALUE!"}]
[{"$f":"IF(OR(A92>=Simulador!$C$24,A92=0),0,A92+1)","v":0},"","","","",{"$error":"#VALUE!"},{"$f":"F93*((1+Simulador!$C$10)^B93-1)","v":{"$error":"#VALUE!"}},{"$error":"#VALUE!"},{"$f":"F93*Simulador!$F$8","v":{"$error":"#VALUE!"}},961.78992733105099,{"$error":"#VALUE!"},null,{"$error":"#VALUE!"}]
[{"$f":"IF(OR(A93>=Simulador!$C$24,A93=0),0,A93+1)","v":0},"","","","",{"$error":"#VALUE!"},{"$f":"F94*((1+Simulador!$C$10)^B94-1)","v":{"$error":"#VALUE!"}},{"$error":"#VALUE!"},{"$f":"F94*Simulador!$F$8","v":{"$error":"#VALUE!"}},961.78992733105099,{"$error":"#VALUE!"},null,{"$error":"#VALUE!"}]
[{"$f":"IF(OR(A94>=Simulador!$C$24,A94=0),0,A94+1)","v":0},"","","","",{"$error":"#VALUE!"},{"$f":"F95*((1+Simulador!$C$10)^B95-1)","v":{"$error":"#VALUE!"}},{"$error":"#VALUE!"},{"$f":"F95*Simulador!$F$8","v":{"$error":"#VALUE!"}},961.78992733105099,{"$error":"#VALUE!"},null,{"$error":"#VALUE!"}]
[{"$f":"IF(OR(A95>=Simulador!$C$24,A95=0),0,A95+1)","v":0},"","","","",{"$error":"#VALUE!"},{"$f":"F96*((1+Simulador!$C$10)^B96-1)","v":{"$error":"#VALUE!"}},{"$error":"#VALUE!"},{"$f":"F96*Simulador!$F$8","v":{"$error":"#VALUE!"}},961.78992733105099,{"$error":"#VALUE!"},null,{"$error":"#VALUE!"}]
[{"$f":"IF(OR(A96>=Simulador!$C$24,A96=0),0,A96+1)","v":0},"","","","",{"$error":"#VALUE!"},{"$f":"F97*((1+Simulador!$C$10)^B97-1)","v":{"$error":"#VALUE!"}},{"$error":"#VALUE!"},{"$f":"F97*Simulador!$F$8","v":{"$error":"#VALUE!"}},961.78992733105099,{"$error":"#VALUE!"},null,{"$error":"#VALUE!"}]
[{"$f":"IF(OR(A97>=Simulador!$C$24,A97=0),0,A97+1)","v":0},"","","","",{"$error":"#VALUE!"},{"$f":"F98*((1+Simulador!$C$10)^B98-1)","v":{"$error":"#VALUE!"}},{"$error":"#VALUE!"},{"$f":"F98*Simulador!$F$8","v":{"$error":"#VALUE!"}},961.78992733105099,{"$error":"#VALUE!"},null,{"$error":"#VALUE!"}]
[{"$f":"IF(OR(A98>=Simulador!$C$24,A98=0),0,A98+1)","v":0},"","","","",{"$error":"#VALUE!"},{"$f":"F99*((1+Simulador!$C$10)^B99-1)","v":{"$error":"#VALUE!"}},{"$error":"#VALUE!"},{"$f":"F99*Simulador!$F$8","v":{"$error":"#VALUE!"}},961.78992733105099,{"$error":"#VALUE!"},null,{"$error":"#VALUE!"}]
[{"$f":"IF(OR(A99>=Simulador!$C$24,A99=0),0,A99+1)","v":0},"","","","",{"$error":"#VALUE!"},{"$f":"F100*((1+Simulador!$C$10)^B100-1)","v":{"$error":"#VALUE!"}},{"$error":"#VALUE!"},{"$f":"F100*Simulador!$F$8","v":{"$error":"#VALUE!"}},961.78992733105099,{"$error":"#VALUE!"},null,{"$error":"#VALUE!"}]
[{"$f":"IF(OR(A100>=Simulador!$C$24,A100=0),0,A100+1)","v":0},"","","","",{"$error":"#VALUE!"},{"$f":"F101*((1+Simulador!$C$10)^B101-1)","v":{"$error":"#VALUE!"}},{"$error":"#VALUE!"},{"$f":"F101*Simulador!$F$8","v":{"$error":"#VALUE!"}},961.78992733105099,{"$error":"#VALUE!"},null,{"$error":"#VALUE!"}]
[{"$f":"IF(OR(A101>=Simulador!$C$24,A101=0),0,A101+1)","v":0},"","","","",{"$error":"#VALUE!"},{"$f":"F102*((1+Simulador!$C$10)^B102-1)","v":{"$error":"#VALUE!"}},{"$error":"#VALUE!"},{"$f":"F102*Simulador!$F$8","v":{"$error":"#VALUE!"}},961.78992733105099,{"$error":"#VALUE!"},null,{"$error":"#VALUE!"}]
[{"$f":"IF(OR(A102>=Simulador!$C$24,A102=0),0,A102+1)","v":0},"","","","",{"$error":"#VALUE!"},{"$f":"F103*((1+Simulador!$C$10)^B103-1)","v":{"$error":"#VALUE!"}},{"$error":"#VALUE!"},{"$f":"F103*Simulador!$F$8","v":{"$error":"#VALUE!"}},961.78992733105099,{"$error":"#VALUE!"},null,{"$error":"#VALUE!"}]
[{"$f":"IF(OR(A103>=Simulador!$C$24,A103=0),0,A103+1)","v":0},"","","","",{"$error":"#VALUE!"},{"$f":"F104*((1+Simulador!$C$10)^B104-1)","v":{"$error":"#VALUE!"}},{"$error":"#VALUE!"},{"$f":"F104*Simulador!$F$8","v":{"$error":"#VALUE!"}},961.78992733105099,{"$error":"#VALUE!"},null,{"$error":"#VALUE!"}]
[{"$f":"IF(OR(A104>=Simulador!$C$24,A104=0),0,A104+1)","v":0},"","","","",{"$error":"#VALUE!"},{"$f":"F105*((1+Simulador!$C$10)^B105-1)","v":{"$error":"#VALUE!"}},{"$error":"#VALUE!"},{"$f":"F105*Simulador!$F$8","v":{"$error":"#VALUE!"}},961.78992733105099,{"$error":"#VALUE!"},null,{"$error":"#VALUE!"}]
[{"$f":"IF(OR(A105>=Simulador!$C$24,A105=0),0,A105+1)","v":0},"","","","",{"$error":"#VALUE!"},{"$f":"F106*((1+Simulador!$C$10)^B106-1)","v":{"$error":"#VALUE!"}},{"$error":"#VALUE!"},{"$f":"F106*Simulador!$F$8","v":{"$error":"#VALUE!"}},961.78992733105099,{"$error":"#VALUE!"},null,{"$error":"#VALUE!"}]
[{"$f":"IF(OR(A106>=Simulador!$C$24,A106=0),0,A106+1)","v":0},"","","","",{"$error":"#VALUE!"},{"$f":"F107*((1+Simulador!$C$10)^B107-1)","v":{"$error":"#VALUE!"}},{"$error":"#VALUE!"},{"$f":"F107*Simulador!$F$8","v":{"$error":"#VALUE!"}},961.78992733105099,{"$error":"#VALUE!"},null,{"$error":"#VALUE!"}]
[{"$f":"IF(OR(A107>=Simulador!$C$24,A107=0),0,A107+1)","v":0},"","","","",{"$error":"#VALUE!"},{"$f":"F108*((1+Simulador!$C$10)^B108-1)","v":{"$error":"#VALUE!"}},{"$error":"#VALUE!"},{"$f":"F108*Simulador!$F$8","v":{"$error":"#VALUE!"}},961.78992733105099,{"$error":"#VALUE!"},null,{"$error":"#VALUE!"}]
[{"$f":"IF(OR(A108>=Simulador!$C$24,A108=0),0,A108+1)","v":0},"","","","",{"$error":"#VALUE!"},{"$f":"F109*((1+Simulador!$C$10)^B109-1)","v":{"$error":"#VALUE!"}},{"$error":"#VALUE!"},{"$f":"F109*Simulador!$F$8","v":{"$error":"#VALUE!"}},961.78992733105099,{"$error":"#VALUE!"},null,{"$error":"#VALUE!"}]
[{"$f":"IF(OR(A109>=Simulador!$C$24,A109=0),0,A109+1)","v":0},"","","","",{"$error":"#VALUE!"},{"$f":"F110*((1+Simulador!$C$10)^B110-1)","v":{"$error":"#VALUE!"}},{"$error":"#VALUE!"},{"$f":"F110*Simulador!$F$8","v":{"$error":"#VALUE!"}},961.78992733105099,{"$error":"#VALUE!"},null,{"$error":"#VALUE!"}]
[{"$f":"IF(OR(A110>=Simulador!$C$24,A110=0),0,A110+1)","v":0},"","","","",{"$error":"#VALUE!"},{"$f":"F111*((1+Simulador!$C$10)^B111-1)","v":{"$error":"#VALUE!"}},{"$error":"#VALUE!"},{"$f":"F111*Simulador!$F$8","v":{"$error":"#VALUE!"}},961.78992733105099,{"$error":"#VALUE!"},null,{"$error":"#VALUE!"}]
[{"$f":"IF(OR(A111>=Simulador!$C$24,A111=0),0,A111+1)","v":0},"","","","",{"$error":"#VALUE!"},{"$f":"F112*((1+Simulador!$C$10)^B112-1)","v":{"$error":"#VALUE!"}},{"$error":"#VALUE!"},{"$f":"F112*Simulador!$F$8","v":{"$error":"#VALUE!"}},961.78992733105099,{"$error":"#VALUE!"},null,{"$error":"#VALUE!"}]
[{"$f":"IF(OR(A112>=Simulador!$C$24,A112=0),0,A112+1)","v":0},"","","","",{"$error":"#VALUE!"},{"$f":"F113*((1+Simulador!$C$10)^B113-1)","v":{"$error":"#VALUE!"}},{"$error":"#VALUE!"},{"$f":"F113*Simulador!$F$8","v":{"$error":"#VALUE!"}},961.78992733105099,{"$error":"#VALUE!"},null,{"$error":"#VALUE!"}]
[{"$f":"IF(OR(A113>=Simulador!$C$24,A113=0),0,A113+1)","v":0},"","","","",{"$error":"#VALUE!"},{"$f":"F114*((1+Simulador!$C$10)^B114-1)","v":{"$error":"#VALUE!"}},{"$error":"#VALUE!"},{"$f":"F114*Simulador!$F$8","v":{"$error":"#VALUE!"}},961.78992733105099,{"$error":"#VALUE!"},null,{"$error":"#VALUE!"}]
[{"$f":"IF(OR(A114>=Simulador!$C$24,A114=0),0,A114+1)","v":0},"","","","",{"$error":"#VALUE!"},{"$f":"F115*((1+Simulador!$C$10)^B115-1)","v":{"$error":"#VALUE!"}},{"$error":"#VALUE!"},{"$f":"F115*Simulador!$F$8","v":{"$error":"#VALUE!"}},961.78992733105099,{"$error":"#VALUE!"},null,{"$error":"#VALUE!"}]
[{"$f":"IF(OR(A115>=Simulador!$C$24,A115=0),0,A115+1)","v":0},"","","","",{"$error":"#VALUE!"},{"$f":"F116*((1+Simulador!$C$10)^B116-1)","v":{"$error":"#VALUE!"}},{"$error":"#VALUE!"},{"$f":"F116*Simulador!$F$8","v":{"$error":"#VALUE!"}},961.78992733105099,{"$error":"#VALUE!"},null,{"$error":"#VALUE!"}]
[{"$f":"IF(OR(A116>=Simulador!$C$24,A116=0),0,A116+1)","v":0},"","","","",{"$error":"#VALUE!"},{"$f":"F117*((1+Simulador!$C$10)^B117-1)","v":{"$error":"#VALUE!"}},{"$error":"#VALUE!"},{"$f":"F117*Simulador!$F$8","v":{"$error":"#VALUE!"}},961.78992733105099,{"$error":"#VALUE!"},null,{"$error":"#VALUE!"}]
[{"$f":"IF(OR(A117>=Simulador!$C$24,A117=0),0,A117+1)","v":0},"","","","",{"$error":"#VALUE!"},{"$f":"F118*((1+Simulador!$C$10)^B118-1)","v":{"$error":"#VALUE!"}},{"$error":"#VALUE!"},{"$f":"F118*Simulador!$F$8","v":{"$error":"#VALUE!"}},961.78992733105099,{"$error":"#VALUE!"},null,{"$error":"#VALUE!"}]
[{"$f":"IF(OR(A118>=Simulador!$C$24,A118=0),0,A118+1)","v":0},"","","","",{"$error":"#VALUE!"},{"$f":"F119*((1+Simulador!$C$10)^B119-1)","v":{"$error":"#VALUE!"}},{"$error":"#VALUE!"},{"$f":"F119*Simulador!$F$8","v":{"$error":"#VALUE!"}},961.78992733105099,{"$error":"#VALUE!"},null,{"$error":"#VALUE!"}]
[{"$f":"IF(OR(A119>=Simulador!$C$24,A119=0),0,A119+1)","v":0},"","","","",{"$error":"#VALUE!"},{"$f":"F120*((1+Simulador!$C$10)^B120-1)","v":{"$error":"#VALUE!"}},{"$error":"#VALUE!"},{"$f":"F120*Simulador!$F$8","v":{"$error":"#VALUE!"}},961.78992733105099,{"$error":"#VALUE!"},null,{"$error":"#VALUE!"}]
[{"$f":"IF(OR(A120>=Simulador!$C$24,A120=0),0,A120+1)","v":0},"","","","",{"$error":"#VALUE!"},{"$f":"F121*((1+Simulador!$C$10)^B121-1)","v":{"$error":"#VALUE!"}},{"$error":"#VALUE!"},{"$f":"F121*Simulador!$F$8","v":{"$error":"#VALUE!"}},961.78992733105099,{"$error":"#VALUE!"},null,{"$error":"#VALUE!"}]
[{"$f":"IF(OR(A121>=Simulador!$C$24,A121=0),0,A121+1)","v":0},"","","","",{"$error":"#VALUE!"},{"$f":"F122*((1+Simulador!$C$10)^B122-1)","v":{"$error":"#VALUE!"}},{"$error":"#VALUE!"},{"$f":"F122*Simulador!$F$8","v":{"$error":"#VALUE!"}},961.78992733105099,{"$error":"#VALUE!"},null,{"$error":"#VALUE!"}]
[{"$f":"IF(OR(A122>=Simulador!$C$24,A122=0),0,A122+1)","v":0},"","","","",{"$error":"#VALUE!"},{"$f":"F123*((1+Simulador!$C$10)^B123-1)","v":{"$error":"#VALUE!"}},{"$error":"#VALUE!"},{"$f":"F123*Simulador!$F$8","v":{"$error":"#VALUE!"}},961.78992733105099,{"$error":"#VALUE!"},null,{"$error":"#VALUE!"}]
[{"$f":"IF(OR(A123>=Simulador!$C$24,A123=0),0,A123+1)","v":0},"","","","",{"$error":"#VALUE!"},{"$f":"F124*((1+Simulador!$C$10)^B124-1)","v":{"$error":"#VALUE!"}},{"$error":"#VALUE!"},{"$f":"F124*Simulador!$F$8","v":{"$error":"#VALUE!"}},961.78992733105099,{"$error":"#VALUE!"},null,{"$error":"#VALUE!"}]
[{"$f":"IF(OR(A124>=Simulador!$C$24,A124=0),0,A124+1)","v":0},"","","","",{"$error":"#VALUE!"},{"$f":"F125*((1+Simulador!$C$10)^B125-1)","v":{"$error":"#VALUE!"}},{"$error":"#VALUE!"},{"$f":"F125*Simulador!$F$8","v":{"$error":"#VALUE!"}},961.78992733105099,{"$error":"#VALUE!"},null,{"$error":"#VALUE!"}]
[{"$f":"IF(OR(A125>=Simulador!$C$24,A125=0),0,A125+1)","v":0},"","","","",{"$error":"#VALUE!"},{"$f":"F126*((1+Simulador!$C$10)^B126-1)","v":{"$error":"#VALUE!"}},{"$error":"#VALUE!"},{"$f":"F126*Simulador!$F$8","v":{"$error":"#VALUE!"}},961.78992733105099,{"$error":"#VALUE!"},null,{"$error":"#VALUE!"}]
[{"$f":"IF(OR(A126>=Simulador!$C$24,A126=0),0,A126+1)","v":0},"","","","",{"$error":"#VALUE!"},{"$f":"F127*((1+Simulador!$C$10)^B127-1)","v":{"$error":"#VALUE!"}},{"$error":"#VALUE!"},{"$f":"F127*Simulador!$F$8","v":{"$error":"#VALUE!"}},961.78992733105099,{"$error":"#VALUE!"},null,{"$error":"#VALUE!"}]
[{"$f":"IF(OR(A127>=Simulador!$C$24,A127=0),0,A127+1)","v":0},"","","","",{"$error":"#VALUE!"},{"$f":"F128*((1+Simulador!$C$10)^B128-1)","v":{"$error":"#VALUE!"}},{"$error":"#VALUE!"},{"$f":"F128*Simulador!$F$8","v":{"$error":"#VALUE!"}},961.78992733105099,{"$error":"#VALUE!"},null,{"$error":"#VALUE!"}]
[{"$f":"IF(OR(A128>=Simulador!$C$24,A128=0),0,A128+1)","v":0},"","","","",{"$error":"#VALUE!"},{"$f":"F129*((1+Simulador!$C$10)^B129-1)","v":{"$error":"#VALUE!"}},{"$error":"#VALUE!"},{"$f":"F129*Simulador!$F$8","v":{"$error":"#VALUE!"}},961.78992733105099,{"$error":"#VALUE!"},null,{"$error":"#VALUE!"}]
[{"$f":"IF(OR(A129>=Simulador!$C$24,A129=0),0,A129+1)","v":0},"","","","",{"$error":"#VALUE!"},{"$f":"F130*((1+Simulador!$C$10)^B130-1)","v":{"$error":"#VALUE!"}},{"$error":"#VALUE!"},{"$f":"F130*Simulador!$F$8","v":{"$error":"#VALUE!"}},961.78992733105099,{"$error":"#VALUE!"},null,{"$error":"#VALUE!"}]
[{"$f":"IF(OR(A130>=Simulador!$C$24,A130=0),0,A130+1)","v":0},"","","","",{"$error":"#VALUE!"},{"$f":"F131*((1+Simulador!$C$10)^B131-1)","v":{"$error":"#VALUE!"}},{"$error":"#VALUE!"},{"$f":"F131*Simulador!$F$8","v":{"$error":"#VALUE!"}},961.78992733105099,{"$error":"#VALUE!"},null,{"$error":"#VALUE!"}]
[{"$f":"IF(OR(A131>=Simulador!$C$24,A131=0),0,A131+1)","v":0},"","","","",{"$error":"#VALUE!"},{"$f":"F132*((1+Simulador!$C$10)^B132-1)","v":{"$error":"#VALUE!"}},{"$error":"#VALUE!"},{"$f":"F132*Simulador!$F$8","v":{"$error":"#VALUE!"}},961.78992733105099,{"$error":"#VALUE!"},null,{"$error":"#VALUE!"}]
[{"$f":"IF(OR(A132>=Simulador!$C$24,A132=0),0,A132+1)","v":0},"","","","",{"$error":"#VALUE!"},{"$f":"F133*((1+Simulador!$C$10)^B133-1)","v":{"$error":"#VALUE!"}},{"$f":"J133-I133-G133","v":{"$error":"#VALUE!"}},{"$f":"F133*Simulador!$F$8","v":{"$error":"#VALUE!"}},961.78992733105099,{"$f":"F133-H133","v":{"$error":"#VALUE!"}},null,{"$error":"#VALUE!"}]
[{"$f":"IF(OR(A133>=Simulador!$C$24,A133=0),0,A133+1)","v":0},{"$f":"IFERROR(_xlfn.DAYS(E134,D134),\"\")","v":""},{"$f":"IFERROR(C133+B134,\"\")","v":""},"",{"$f":"IFERROR(EDATE(D134,1),\"\")","v":""},{"$f":"K133","v":{"$error":"#VALUE!"}},{"$f":"F134*((1+Simulador!$C$10)^B134-1)","v":{"$error":"#VALUE!"}},{"$error":"#VALUE!"},{"$f":"F134*Simulador!$F$8","v":{"$error":"#VALUE!"}},{"$f":"$J$4","v":961.78992733105099},{"$error":"#VALUE!"},null,{"$f":"K134-L134","v":{"$error":"#VALUE!"}}]
[{"$f":"IF(OR(A134>=Simulador!$C$24,A134=0),0,A134+1)","v":0},"","",{"$f":"IF(A135<>0,E134,\"\")","v":""},"",{"$error":"#VALUE!"},{"$f":"F135*((1+Simulador!$C$10)^B135-1)","v":{"$error":"#VALUE!"}},{"$error":"#VALUE!"},{"$f":"F135*Simulador!$F$8","v":{"$error":"#VALUE!"}},961.78992733105099,{"$error":"#VALUE!"},null,{"$error":"#VALUE!"}]
[{"$f":"IF(OR(A135>=Simulador!$C$24,A135=0),0,A135+1)","v":0},"","","","",{"$error":"#VALUE!"},{"$f":"F136*((1+Simulador!$C$10)^B136-1)","v":{"$error":"#VALUE!"}},{"$error":"#VALUE!"},{"$f":"F136*Simulador!$F$8","v":{"$error":"#VALUE!"}},961.78992733105099,{"$error":"#VALUE!"},null,{"$error":"#VALUE!"}]
[{"$f":"IF(OR(A136>=Simulador!$C$24,A136=0),0,A136+1)","v":0},"","","","",{"$error":"#VALUE!"},{"$f":"F137*((1+Simulador!$C$10)^B137-1)","v":{"$error":"#VALUE!"}},{"$error":"#VALUE!"},{"$f":"F137*Simulador!$F$8","v":{"$error":"#VALUE!"}},961.78992733105099,{"$error":"#VALUE!"},null,{"$error":"#VALUE!"}]
[{"$f":"IF(OR(A137>=Simulador!$C$24,A137=0),0,A137+1)","v":0},"","","","",{"$error":"#VALUE!"},{"$f":"F138*((1+Simulador!$C$10)^B138-1)","v":{"$error":"#VALUE!"}},{"$error":"#VALUE!"},{"$f":"F138*Simulador!$F$8","v":{"$error":"#VALUE!"}},961.78992733105099,{"$error":"#VALUE!"},null,{"$error":"#VALUE!"}]
[{"$f":"IF(OR(A138>=Simulador!$C$24,A138=0),0,A138+1)","v":0},"","","","",{"$error":"#VALUE!"},{"$f":"F139*((1+Simulador!$C$10)^B139-1)","v":{"$error":"#VALUE!"}},{"$error":"#VALUE!"},{"$f":"F139*Simulador!$F$8","v":{"$error":"#VALUE!"}},961.78992733105099,{"$error":"#VALUE!"},null,{"$error":"#VALUE!"}]
[{"$f":"IF(OR(A139>=Simulador!$C$24,A139=0),0,A139+1)","v":0},"","","","",{"$error":"#VALUE!"},{"$f":"F140*((1+Simulador!$C$10)^B140-1)","v":{"$error":"#VALUE!"}},{"$error":"#VALUE!"},{"$f":"F140*Simulador!$F$8","v":{"$error":"#VALUE!"}},961.78992733105099,{"$error":"#VALUE!"},null,{"$error":"#VALUE!"}]
[{"$f":"IF(OR(A140>=Simulador!$C$24,A140=0),0,A140+1)","v":0},"","","","",{"$error":"#VALUE!"},{"$f":"F141*((1+Simulador!$C$10)^B141-1)","v":{"$error":"#VALUE!"}},{"$error":"#VALUE!"},{"$f":"F141*Simulador!$F$8","v":{"$error":"#VALUE!"}},961.78992733105099,{"$error":"#VALUE!"},null,{"$error":"#VALUE!"}]
[{"$f":"IF(OR(A141>=Simulador!$C$24,A141=0),0,A141+1)","v":0},"","","","",{"$error":"#VALUE!"},{"$f":"F142*((1+Simulador!$C$10)^B142-1)","v":{"$error":"#VALUE!"}},{"$error":"#VALUE!"},{"$f":"F142*Simulador!$F$8","v":{"$error":"#VALUE!"}},961.78992733105099,{"$error":"#VALUE!"},null,{"$error":"#VALUE!"}]
[{"$f":"IF(OR(A142>=Simulador!$C$24,A142=0),0,A142+1)","v":0},"","","","",{"$error":"#VALUE!"},{"$f":"F143*((1+Simulador!$C$10)^B143-1)","v":{"$error":"#VALUE!"}},{"$error":"#VALUE!"},{"$f":"F143*Simulador!$F$8","v":{"$error":"#VALUE!"}},961.78992733105099,{"$error":"#VALUE!"},null,{"$error":"#VALUE!"}]
[{"$f":"IF(OR(A143>=Simulador!$C$24,A143=0),0,A143+1)","v":0},"","","","",{"$error":"#VALUE!"},{"$f":"F144*((1+Simulador!$C$10)^B144-1)","v":{"$error":"#VALUE!"}},{"$error":"#VALUE!"},{"$f":"F144*Simulador!$F$8","v":{"$error":"#VALUE!"}},961.78992733105099,{"$error":"#VALUE!"},null,{"$error":"#VALUE!"}]
[{"$f":"IF(OR(A144>=Simulador!$C$24,A144=0),0,A144+1)","v":0},"","","","",{"$error":"#VALUE!"},{"$f":"F145*((1+Simulador!$C$10)^B145-1)","v":{"$error":"#VALUE!"}},{"$error":"#VALUE!"},{"$f":"F145*Simulador!$F$8","v":{"$error":"#VALUE!"}},961.78992733105099,{"$error":"#VALUE!"},null,{"$error":"#VALUE!"}]
[{"$f":"IF(OR(A145>=Simulador!$C$24,A145=0),0,A145+1)","v":0},"","","","",{"$error":"#VALUE!"},{"$f":"F146*((1+Simulador!$C$10)^B146-1)","v":{"$error":"#VALUE!"}},{"$error":"#VALUE!"},{"$f":"F146*Simulador!$F$8","v":{"$error":"#VALUE!"}},961.78992733105099,{"$error":"#VALUE!"},null,{"$error":"#VALUE!"}]
[{"$f":"IF(OR(A146>=Simulador!$C$24,A146=0),0,A146+1)","v":0},"","","","",{"$error":"#VALUE!"},{"$f":"F147*((1+Simulador!$C$10)^B147-1)","v":{"$error":"#VALUE!"}},{"$error":"#VALUE!"},{"$f":"F147*Simulador!$F$8","v":{"$error":"#VALUE!"}},961.78992733105099,{"$error":"#VALUE!"},null,{"$error":"#VALUE!"}]
[{"$f":"IF(OR(A147>=Simulador!$C$24,A147=0),0,A147+1)","v":0},"","","","",{"$error":"#VALUE!"},{"$f":"F148*((1+Simulador!$C$10)^B148-1)","v":{"$error":"#VALUE!"}},{"$error":"#VALUE!"},{"$f":"F148*Simulador!$F$8","v":{"$error":"#VALUE!"}},961.78992733105099,{"$error":"#VALUE!"},null,{"$error":"#VALUE!"}]
[{"$f":"IF(OR(A148>=Simulador!$C$24,A148=0),0,A148+1)","v":0},"","","","",{"$error":"#VALUE!"},{"$f":"F149*((1+Simulador!$C$10)^B149-1)","v":{"$error":"#VALUE!"}},{"$error":"#VALUE!"},{"$f":"F149*Simulador!$F$8","v":{"$error":"#VALUE!"}},961.78992733105099,{"$error":"#VALUE!"},null,{"$error":"#VALUE!"}]
[{"$f":"IF(OR(A149>=Simulador!$C$24,A149=0),0,A149+1)","v":0},"","","","",{"$error":"#VALUE!"},{"$f":"F150*((1+Simulador!$C$10)^B150-1)","v":{"$error":"#VALUE!"}},{"$error":"#VALUE!"},{"$f":"F150*Simulador!$F$8","v":{"$error":"#VALUE!"}},961.78992733105099,{"$error":"#VALUE!"},null,{"$error":"#VALUE!"}]
[{"$f":"IF(OR(A150>=Simulador!$C$24,A150=0),0,A150+1)","v":0},"","","","",{"$error":"#VALUE!"},{"$f":"F151*((1+Simulador!$C$10)^B151-1)","v":{"$error":"#VALUE!"}},{"$error":"#VALUE!"},{"$f":"F151*Simulador!$F$8","v":{"$error":"#VALUE!"}},961.78992733105099,{"$error":"#VALUE!"},null,{"$error":"#VALUE!"}]
[{"$f":"IF(OR(A151>=Simulador!$C$24,A151=0),0,A151+1)","v":0},"","","","",{"$error":"#VALUE!"},{"$f":"F152*((1+Simulador!$C$10)^B152-1)","v":{"$error":"#VALUE!"}},{"$error":"#VALUE!"},{"$f":"F152*Simulador!$F$8","v":{"$error":"#VALUE!"}},961.78992733105099,{"$error":"#VALUE!"},null,{"$error":"#VALUE!"}]
[{"$f":"IF(OR(A152>=Simulador!$C$24,A152=0),0,A152+1)","v":0},"","","","",{"$error":"#VALUE!"},{"$f":"F153*((1+Simulador!$C$10)^B153-1)","v":{"$error":"#VALUE!"}},{"$error":"#VALUE!"},{"$f":"F153*Simulador!$F$8","v":{"$error":"#VALUE!"}},961.78992733105099,{"$error":"#VALUE!"},null,{"$error":"#VALUE!"}]
[{"$f":"IF(OR(A153>=Simulador!$C$24,A153=0),0,A153+1)","v":0},"","","","",{"$error":"#VALUE!"},{"$f":"F154*((1+Simulador!$C$10)^B154-1)","v":{"$error":"#VALUE!"}},{"$error":"#VALUE!"},{"$f":"F154*Simulador!$F$8","v":{"$error":"#VALUE!"}},961.78992733105099,{"$error":"#VALUE!"},null,{"$error":"#VALUE!"}]
[{"$f":"IF(OR(A154>=Simulador!$C$24,A154=0),0,A154+1)","v":0},"","","","",{"$error":"#VALUE!"},{"$f":"F155*((1+Simulador!$C$10)^B155-1)","v":{"$error":"#VALUE!"}},{"$error":"#VALUE!"},{"$f":"F155*Simulador!$F$8","v":{"$error":"#VALUE!"}},961.78992733105099,{"$error":"#VALUE!"},null,{"$error":"#VALUE!"}]
[{"$f":"IF(OR(A155>=Simulador!$C$24,A155=0),0,A155+1)","v":0},"","","","",{"$error":"#VALUE!"},{"$f":"F156*((1+Simulador!$C$10)^B156-1)","v":{"$error":"#VALUE!"}},{"$error":"#VALUE!"},{"$f":"F156*Simulador!$F$8","v":{"$error":"#VALUE!"}},961.78992733105099,{"$error":"#VALUE!"},null,{"$error":"#VALUE!"}]
[{"$f":"IF(OR(A156>=Simulador!$C$24,A156=0),0,A156+1)","v":0},"","","","",{"$error":"#VALUE!"},{"$f":"F157*((1+Simulador!$C$10)^B157-1)","v":{"$error":"#VALUE!"}},{"$error":"#VALUE!"},{"$f":"F157*Simulador!$F$8","v":{"$error":"#VALUE!"}},961.78992733105099,{"$error":"#VALUE!"},null,{"$error":"#VALUE!"}]
[{"$f":"IF(OR(A157>=Simulador!$C$24,A157=0),0,A157+1)","v":0},"","","","",{"$error":"#VALUE!"},{"$f":"F158*((1+Simulador!$C$10)^B158-1)","v":{"$error":"#VALUE!"}},{"$error":"#VALUE!"},{"$f":"F158*Simulador!$F$8","v":{"$error":"#VALUE!"}},961.78992733105099,{"$error":"#VALUE!"},null,{"$error":"#VALUE!"}]
[{"$f":"IF(OR(A158>=Simulador!$C$24,A158=0),0,A158+1)","v":0},"","","","",{"$error":"#VALUE!"},{"$f":"F159*((1+Simulador!$C$10)^B159-1)","v":{"$error":"#VALUE!"}},{"$error":"#VALUE!"},{"$f":"F159*Simulador!$F$8","v":{"$error":"#VALUE!"}},961.78992733105099,{"$error":"#VALUE!"},null,{"$error":"#VALUE!"}]
[{"$f":"IF(OR(A159>=Simulador!$C$24,A159=0),0,A159+1)","v":0},"","","","",{"$error":"#VALUE!"},{"$f":"F160*((1+Simulador!$C$10)^B160-1)","v":{"$error":"#VALUE!"}},{"$error":"#VALUE!"},{"$f":"F160*Simulador!$F$8","v":{"$error":"#VALUE!"}},961.78992733105099,{"$error":"#VALUE!"},null,{"$error":"#VALUE!"}]
[{"$f":"IF(OR(A160>=Simulador!$C$24,A160=0),0,A160+1)","v":0},"","","","",{"$error":"#VALUE!"},{"$f":"F161*((1+Simulador!$C$10)^B161-1)","v":{"$error":"#VALUE!"}},{"$error":"#VALUE!"},{"$f":"F161*Simulador!$F$8","v":{"$error":"#VALUE!"}},961.78992733105099,{"$error":"#VALUE!"},null,{"$error":"#VALUE!"}]
[{"$f":"IF(OR(A161>=Simulador!$C$24,A161=0),0,A161+1)","v":0},"","","","",{"$error":"#VALUE!"},{"$f":"F162*((1+Simulador!$C$10)^B162-1)","v":{"$error":"#VALUE!"}},{"$error":"#VALUE!"},{"$f":"F162*Simulador!$F$8","v":{"$error":"#VALUE!"}},961.78992733105099,{"$error":"#VALUE!"},null,{"$error":"#VALUE!"}]
[{"$f":"IF(OR(A162>=Simulador!$C$24,A162=0),0,A162+1)","v":0},"","","","",{"$error":"#VALUE!"},{"$f":"F163*((1+Simulador!$C$10)^B163-1)","v":{"$error":"#VALUE!"}},{"$error":"#VALUE!"},{"$f":"F163*Simulador!$F$8","v":{"$error":"#VALUE!"}},961.78992733105099,{"$error":"#VALUE!"},null,{"$error":"#VALUE!"}]
[{"$f":"IF(OR(A163>=Simulador!$C$24,A163=0),0,A163+1)","v":0},"","","","",{"$error":"#VALUE!"},{"$f":"F164*((1+Simulador!$C$10)^B164-1)","v":{"$error":"#VALUE!"}},{"$error":"#VALUE!"},{"$f":"F164*Simulador!$F$8","v":{"$error":"#VALUE!"}},961.78992733105099,{"$error":"#VALUE!"},null,{"$error":"#VALUE!"}]
[null,"","","","",{"$error":"#VALUE!"},{"$f":"F165*((1+Simulador!$C$10)^B165-1)","v":{"$error":"#VALUE!"}},{"$error":"#VALUE!"},{"$f":"F165*Simulador!$F$8","v":{"$error":"#VALUE!"}},961.78992733105099,{"$error":"#VALUE!"},null,{"$error":"#VALUE!"}]
[null,"","","","",{"$error":"#VALUE!"},{"$f":"F166*((1+Simulador!$C$10)^B166-1)","v":{"$error":"#VALUE!"}},{"$error":"#VALUE!"},{"$f":"F166*Simulador!$F$8","v":{"$error":"#VALUE!"}},961.78992733105099,{"$error":"#VALUE!"},null,{"$error":"#VALUE!"}]
[null,"","","","",{"$error":"#VALUE!"},{"$f":"F167*((1+Simulador!$C$10)^B167-1)","v":{"$error":"#VALUE!"}},{"$error":"#VALUE!"},{"$f":"F167*Simulador!$F$8","v":{"$error":"#VALUE!"}},961.78992733105099,{"$error":"#VALUE!"},null,{"$error":"#VALUE!"}]
[null,"","","","",{"$error":"#VALUE!"},{"$f":"F168*((1+Simulador!$C$10)^B168-1)","v":{"$error":"#VALUE!"}},{"$error":"#VALUE!"},{"$f":"F168*Simulador!$F$8","v":{"$error":"#VALUE!"}},961.78992733105099,{"$error":"#VALUE!"},null,{"$error":"#VALUE!"}]
[null,"","","","",{"$error":"#VALUE!"},{"$f":"F169*((1+Simulador!$C$10)^B169-1)","v":{"$error":"#VALUE!"}},{"$error":"#VALUE!"},{"$f":"F169*Simulador!$F$8","v":{"$error":"#VALUE!"}},961.78992733105099,{"$error":"#VALUE!"},null,{"$error":"#VALUE!"}]
[null,"","","","",{"$error":"#VALUE!"},{"$f":"F170*((1+Simulador!$C$10)^B170-1)","v":{"$error":"#VALUE!"}},{"$error":"#VALUE!"},{"$f":"F170*Simulador!$F$8","v":{"$error":"#VALUE!"}},961.78992733105099,{"$error":"#VALUE!"},null,{"$error":"#VALUE!"}]
[null,"","","","",{"$error":"#VALUE!"},{"$f":"F171*((1+Simulador!$C$10)^B171-1)","v":{"$error":"#VALUE!"}},{"$error":"#VALUE!"},{"$f":"F171*Simulador!$F$8","v":{"$error":"#VALUE!"}},961.78992733105099,{"$error":"#VALUE!"},null,{"$error":"#VALUE!"}]
[null,"","","","",{"$error":"#VALUE!"},{"$f":"F172*((1+Simulador!$C$10)^B172-1)","v":{"$error":"#VALUE!"}},{"$error":"#VALUE!"},{"$f":"F172*Simulador!$F$8","v":{"$error":"#VALUE!"}},961.78992733105099,{"$error":"#VALUE!"},null,{"$error":"#VALUE!"}]
[null,"","","","",{"$error":"#VALUE!"},{"$f":"F173*((1+Simulador!$C$10)^B173-1)","v":{"$error":"#VALUE!"}},{"$error":"#VALUE!"},{"$f":"F173*Simulador!$F$8","v":{"$error":"#VALUE!"}},961.78992733105099,{"$error":"#VALUE!"},null,{"$error":"#VALUE!"}]
[null,"","","","",{"$error":"#VALUE!"},{"$f":"F174*((1+Simulador!$C$10)^B174-1)","v":{"$error":"#VALUE!"}},{"$error":"#VALUE!"},{"$f":"F174*Simulador!$F$8","v":{"$error":"#VALUE!"}},961.78992733105099,{"$error":"#VALUE!"},null,{"$error":"#VALUE!"}]
[null,"","","","",{"$error":"#VALUE!"},{"$f":"F175*((1+Simulador!$C$10)^B175-1)","v":{"$error":"#VALUE!"}},{"$error":"#VALUE!"},{"$f":"F175*Simulador!$F$8","v":{"$error":"#VALUE!"}},961.78992733105099,{"$error":"#VALUE!"},null,{"$error":"#VALUE!"}]
[null,"","","","",{"$error":"#VALUE!"},{"$f":"F176*((1+Simulador!$C$10)^B176-1)","v":{"$error":"#VALUE!"}},{"$error":"#VALUE!"},{"$f":"F176*Simulador!$F$8","v":{"$error":"#VALUE!"}},961.78992733105099,{"$error":"#VALUE!"},null,{"$error":"#VALUE!"}]
[null,"","","","",{"$error":"#VALUE!"},{"$f":"F177*((1+Simulador!$C$10)^B177-1)","v":{"$error":"#VALUE!"}},{"$error":"#VALUE!"},{"$f":"F177*Simulador!$F$8","v":{"$error":"#VALUE!"}},961.78992733105099,{"$error":"#VALUE!"},null,{"$error":"#VALUE!"}]
[null,"","","","",{"$error":"#VALUE!"},{"$f":"F178*((1+Simulador!$C$10)^B178-1)","v":{"$error":"#VALUE!"}},{"$error":"#VALUE!"},{"$f":"F178*Simulador!$F$8","v":{"$error":"#VALUE!"}},961.78992733105099,{"$error":"#VALUE!"},null,{"$error":"#VALUE!"}]
[null,"","","","",{"$error":"#VALUE!"},{"$f":"F179*((1+Simulador!$C$10)^B179-1)","v":{"$error":"#VALUE!"}},{"$error":"#VALUE!"},{"$f":"F179*Simulador!$F$8","v":{"$error":"#VALUE!"}},961.78992733105099,{"$error":"#VALUE!"},null,{"$error":"#VALUE!"}]
[null,"","","","",{"$error":"#VALUE!"},{"$f":"F180*((1+Simulador!$C$10)^B180-1)","v":{"$error":"#VALUE!"}},{"$error":"#VALUE!"},{"$f":"F180*Simulador!$F$8","v":{"$error":"#VALUE!"}},961.78992733105099,{"$error":"#VALUE!"},null,{"$error":"#VALUE!"}]
[null,"","","","",{"$error":"#VALUE!"},{"$f":"F181*((1+Simulador!$C$10)^B181-1)","v":{"$error":"#VALUE!"}},{"$error":"#VALUE!"},{"$f":"F181*Simulador!$F$8","v":{"$error":"#VALUE!"}},961.78992733105099,{"$error":"#VALUE!"},null,{"$error":"#VALUE!"}]
[null,"","","","",{"$error":"#VALUE!"},{"$f":"F182*((1+Simulador!$C$10)^B182-1)","v":{"$error":"#VALUE!"}},{"$error":"#VALUE!"},{"$f":"F182*Simulador!$F$8","v":{"$error":"#VALUE!"}},961.78992733105099,{"$error":"#VALUE!"},null,{"$error":"#VALUE!"}]
[null,"","","","",{"$error":"#VALUE!"},{"$f":"F183*((1+Simulador!$C$10)^B183-1)","v":{"$error":"#VALUE!"}},{"$error":"#VALUE!"},{"$f":"F183*Simulador!$F$8","v":{"$error":"#VALUE!"}},961.78992733105099,{"$error":"#VALUE!"},null,{"$error":"#VALUE!"}]
[null,"","","","",{"$error":"#VALUE!"},{"$f":"F184*((1+Simulador!$C$10)^B184-1)","v":{"$error":"#VALUE!"}},{"$error":"#VALUE!"},{"$f":"F184*Simulador!$F$8","v":{"$error":"#VALUE!"}},961.78992733105099,{"$error":"#VALUE!"},null,{"$error":"#VALUE!"}]
[null,"","","","",{"$error":"#VALUE!"},{"$f":"F185*((1+Simulador!$C$10)^B185-1)","v":{"$error":"#VALUE!"}},{"$error":"#VALUE!"},{"$f":"F185*Simulador!$F$8","v":{"$error":"#VALUE!"}},961.78992733105099,{"$error":"#VALUE!"},null,{"$error":"#VALUE!"}]

{"sheet":"Procesamiento T24 (2)","index":7,"n_rows":187,"n_cols":13,"rows_kept":187,"cut":false,"hidden":true,"merged":[]}
["Cronograma"]
[]
["n° Periodo","n° Días","n° días acum","Fecha inicial","Fecha Final","Saldo inicial","i","k","Seguro","Cuota","Saldo Aant","Anticipo","Saldo Final"]
[0,{"$f":"_xlfn.DAYS(E4,D4)","v":23},{"$f":"B4","v":23},{"$f":"Simulador!C12","v":"2025-11-07"},{"$f":"EOMONTH(D4,0)","v":"2025-11-30"},{"$f":"Simulador!C6","v":14993.27},{"$f":"F4*((1+Simulador!$C$10)^B4-1)","v":585.07005178379814},{"$f":"IF((J4-I4-G4)<0,0,J4-I4-G4)","v":0},{"$f":"F4*Simulador!$F$8","v":44.979810000000001},{"$f":"Simulador!F32","v":0},{"$f":"F4-H4+G4+I4","v":15623.319861783799},null,{"$f":"K4-L4","v":15623.319861783799}]
[0,{"$f":"_xlfn.DAYS(E5,D5)","v":30},{"$f":"B5","v":30},{"$f":"E4+1","v":"2025-12-01"},{"$f":"EOMONTH(D5,0)","v":"2025-12-31"},{"$f":"K4","v":15623.319861783799},{"$f":"F5*((1+Simulador!$C$10)^B5-1)","v":799.88344631133725},{"$f":"IF((J5-I5-G5)<0,0,J5-I5-G5)","v":0},null,{"$f":"Simulador!F33","v":0},{"$f":"F5-H5+G5+I5","v":16423.203308095137},null,{"$f":"K5-L5","v":16423.203308095137}]
[1,{"$f":"_xlfn.DAYS(E6,D6)","v":6},{"$f":"B6","v":6},{"$f":"E5","v":"2025-12-31"},{"$f":"+Simulador!C22","v":"2026-01-06"},{"$f":"K5","v":16423.203308095137},{"$f":"F6*((1+Simulador!$C$10)^B6-1)","v":164.82539447389328},{"$f":"IF((J6-I6-G6)<0,0,J6-I6-G6)","v":747.69492293287226},{"$f":"F6*Simulador!$F$8","v":49.269609924285412},{"$f":"Simulador!F34","v":961.78992733105099},{"$f":"F6-H6","v":15675.508385162264},null,{"$f":"K6-L6","v":15675.508385162264}]
[{"$f":"IF(OR(A6>Simulador!$C$24,A6=0),0,A6+1)","v":2},{"$f":"IFERROR(_xlfn.DAYS(E7,D7),\"\")","v":31},{"$f":"IFERROR(C6+B7,\"\")","v":37},{"$f":"E6","v":"2026-01-06"},{"$f":"IFERROR(EDATE(D7,1),\"\")","v":"2026-02-06"},{"$f":"K6","v":15675.508385162264},{"$f":"F7*((1+Simulador!$C$10)^B7-1)","v":830.00350283402167},{"$f":"J7-I7-G7","v":84.759899341542564},{"$f":"F7*Simulador!$F$8","v":47.026525155486794},{"$f":"$J$6","v":961.78992733105099},{"$f":"F7-H7","v":15590.748485820721},null,{"$f":"K7-L7","v":15590.748485820721}]
[{"$f":"IF(OR(A7>Simulador!$C$24,A7=0),0,A7+1)","v":3},{"$f":"IFERROR(_xlfn.DAYS(E8,D8),\"\")","v":28},{"$f":"IFERROR(C7+B8,\"\")","v":65},{"$f":"IF(A8<>0,E7,\"\")","v":"2026-02-06"},{"$f":"IFERROR(EDATE(D8,1),\"\")","v":"2026-03-06"},{"$f":"K7","v":15590.748485820721},{"$f":"F8*((1+Simulador!$C$10)^B8-1)","v":743.75259548148063},171.26508639210817,{"$f":"F8*Simulador!$F$8","v":46.772245457462162},{"$f":"$J$6","v":961.78992733105099},15419.483399428613,null,{"$f":"K8-L8","v":15419.483399428613}]
[{"$f":"IF(OR(A8>=Simulador!$C$24,A8=0),0,A8+1)","v":4},31,96,{"$f":"IF(A9<>0,E8,\"\")","v":"2026-03-06"},"2026-04-06",15419.483399428613,{"$f":"F9*((1+Simulador!$C$10)^B9-1)","v":816.4472193789278},99.084257753837392,{"$f":"F9*Simulador!$F$8","v":46.258450198285843},961.78992733105099,15320.399141674776,null,15320.399141674776]
[{"$f":"IF(OR(A9>=Simulador!$C$24,A9=0),0,A9+1)","v":5},30,126,"2026-04-06","2026-05-06",15320.399141674776,{"$f":"F10*((1+Simulador!$C$10)^B10-1)","v":784.37449740012596},131.45423250590068,{"$f":"F10*Simulador!$F$8","v":45.961197425024331},961.78992733105099,15188.944909168875,null,15188.944909168875]
[{"$f":"IF(OR(A10>=Simulador!$C$24,A10=0),0,A10+1)","v":6},31,157,"2026-05-06","2026-06-06",15188.944909168875,{"$f":"F11*((1+Simulador!$C$10)^B11-1)","v":804.24042201376096},111.98267058978342,{"$f":"F11*Simulador!$F$8","v":45.566834727506624},961.78992733105099,15076.962238579092,null,15076.962238579092]
[{"$f":"IF(OR(A11>=Simulador!$C$24,A11=0),0,A11+1)","v":7},30,187,"2026-06-06","2026-07-06",15076.962238579092,{"$f":"F12*((1+Simulador!$C$10)^B12-1)","v":771.91100367854881},144.64803693676492,{"$f":"F12*Simulador!$F$8","v":45.230886715737277},961.78992733105099,14932.314201642326,null,14932.314201642326]
[{"$f":"IF(OR(A12>=Simulador!$C$24,A12=0),0,A12+1)","v":8},31,218,"2026-07-06","2026-08-06",14932.314201642326,{"$f":"F13*((1+Simulador!$C$10)^B13-1)","v":790.65206615645241},126.34091856967154,{"$f":"F13*Simulador!$F$8","v":44.796942604926983},961.78992733105099,14805.973283072655,null,14805.973283072655]
[{"$f":"IF(OR(A13>=Simulador!$C$24,A13=0),0,A13+1)","v":9},31,249,"2026-08-06","2026-09-06",14805.973283072655,{"$f":"F14*((1+Simulador!$C$10)^B14-1)","v":783.9624327239984},133.40957475783466,{"$f":"F14*Simulador!$F$8","v":44.417919849217967},961.78992733105099,14672.563708314821,null,14672.563708314821]
[{"$f":"IF(OR(A14>=Simulador!$C$24,A14=0),0,A14+1)","v":10},30,279,"2026-09-06","2026-10-06",14672.563708314821,{"$f":"F15*((1+Simulador!$C$10)^B15-1)","v":751.20658919220978},166.56564701389675,{"$f":"F15*Simulador!$F$8","v":44.017691124944463},961.78992733105099,14505.998061300925,null,14505.998061300925]
[{"$f":"IF(OR(A15>=Simulador!$C$24,A15=0),0,A15+1)","v":11},31,310,"2026-10-06","2026-11-06",14505.998061300925,{"$f":"F16*((1+Simulador!$C$10)^B16-1)","v":768.07902539096267},150.1929077561856,{"$f":"F16*Simulador!$F$8","v":43.517994183902772},961.78992733105099,14355.805153544739,null,14355.805153544739]
[{"$f":"IF(OR(A16>=Simulador!$C$24,A16=0),0,A16+1)","v":12},30,340,"2026-11-06","2026-12-06",14355.805153544739,{"$f":"F17*((1+Simulador!$C$10)^B17-1)","v":734.9891701878239},183.73334168259282,{"$f":"F17*Simulador!$F$8","v":43.067415460634216},961.78992733105099,14172.071811862146,null,14172.071811862146]
[{"$f":"IF(OR(A17>=Simulador!$C$24,A17=0),0,A17+1)","v":13},31,371,"2026-12-06","2027-01-06",14172.071811862146,{"$f":"F18*((1+Simulador!$C$10)^B18-1)","v":750.39794290787324},168.8757689875913,{"$f":"F18*Simulador!$F$8","v":42.516215435586439},961.78992733105099,14003.196042874555,null,14003.196042874555]
[{"$f":"IF(OR(A18>=Simulador!$C$24,A18=0),0,A18+1)","v":14},31,402,"2027-01-06","2027-02-06",14003.196042874555,{"$f":"F19*((1+Simulador!$C$10)^B19-1)","v":741.45612894181613},178.32421026061115,{"$f":"F19*Simulador!$F$8","v":42.009588128623669},961.78992733105099,13824.871832613944,null,13824.871832613944]
[{"$f":"IF(OR(A19>=Simulador!$C$24,A19=0),0,A19+1)","v":15},28,430,"2027-02-06","2027-03-06",13824.871832613944,{"$f":"F20*((1+Simulador!$C$10)^B20-1)","v":659.51190971086726},260.80340212234194,{"$f":"F20*Simulador!$F$8","v":41.474615497841832},961.78992733105099,13564.068430491603,null,13564.068430491603]
[{"$f":"IF(OR(A20>=Simulador!$C$24,A20=0),0,A20+1)","v":16},31,461,"2027-03-06","2027-04-06",13564.068430491603,{"$f":"F21*((1+Simulador!$C$10)^B21-1)","v":718.20473271826597},202.89298932131021,{"$f":"F21*Simulador!$F$8","v":40.692205291474814},961.78992733105099,13361.175441170293,null,13361.175441170293]
[{"$f":"IF(OR(A21>=Simulador!$C$24,A21=0),0,A21+1)","v":17},30,491,"2027-04-06","2027-05-06",13361.175441170293,{"$f":"F22*((1+Simulador!$C$10)^B22-1)","v":684.06607258909821},237.64032841844187,{"$f":"F22*Simulador!$F$8","v":40.083526323510881},961.78992733105099,13123.535112751852,null,13123.535112751852]
[{"$f":"IF(OR(A22>=Simulador!$C$24,A22=0),0,A22+1)","v":18},31,522,"2027-05-06","2027-06-06",13123.535112751852,{"$f":"F23*((1+Simulador!$C$10)^B23-1)","v":694.87890571126513},227.54041628153027,{"$f":"F23*Simulador!$F$8","v":39.370605338255558},961.78992733105099,12895.994696470321,null,12895.994696470321]
[{"$f":"IF(OR(A23>=Simulador!$C$24,A23=0),0,A23+1)","v":19},30,552,"2027-06-06","2027-07-06",12895.994696470321,{"$f":"F24*((1+Simulador!$C$10)^B24-1)","v":660.24972750238862},262.85221573925139,{"$f":"F24*Simulador!$F$8","v":38.687984089410968},961.78992733105099,12633.14248073107,null,12633.14248073107]
[{"$f":"IF(OR(A24>=Simulador!$C$24,A24=0),0,A24+1)","v":20},31,583,"2027-07-06","2027-08-06",12633.14248073107,{"$f":"F25*((1+Simulador!$C$10)^B25-1)","v":668.91307466195008},254.97742522690771,{"$f":"F25*Simulador!$F$8","v":37.899427442193215},961.78992733105099,12378.165055504163,null,12378.165055504163]
[{"$f":"IF(OR(A25>=Simulador!$C$24,A25=0),0,A25+1)","v":21},31,614,"2027-08-06","2027-09-06",12378.165055504163,{"$f":"F26*((1+Simulador!$C$10)^B26-1)","v":655.41225855558037},269.24317360895816,{"$f":"F26*Simulador!$F$8","v":37.134495166512494},961.78992733105099,12108.921881895205,null,12108.921881895205]
[{"$f":"IF(OR(A26>=Simulador!$C$24,A26=0),0,A26+1)","v":22},30,644,"2027-09-06","2027-10-06",12108.921881895205,{"$f":"F27*((1+Simulador!$C$10)^B27-1)","v":619.95313746967145},305.51002421569387,{"$f":"F27*Simulador!$F$8","v":36.326765645685619},961.78992733105099,11803.411857679512,null,11803.411857679512]
[{"$f":"IF(OR(A27>=Simulador!$C$24,A27=0),0,A27+1)","v":23},31,675,"2027-10-06","2027-11-06",11803.411857679512,{"$f":"F28*((1+Simulador!$C$10)^B28-1)","v":624.97961447552825},301.40007728248418,{"$f":"F28*Simulador!$F$8","v":35.410235573038534},961.78992733105099,11502.011780397028,null,11502.011780397028]
[{"$f":"IF(OR(A28>=Simulador!$C$24,A28=0),0,A28+1)","v":24},30,705,"2027-11-06","2027-12-06",11502.011780397028,{"$f":"F29*((1+Simulador!$C$10)^B29-1)","v":588.88052627805132},338.40336571180853,{"$f":"F29*Simulador!$F$8","v":34.506035341191087},961.78992733105099,11163.608414685219,null,11163.608414685219]
[{"$f":"IF(OR(A29>=Simulador!$C$24,A29=0),0,A29+1)","v":25},31,736,"2027-12-06","2028-01-06",11163.608414685219,{"$f":"F30*((1+Simulador!$C$10)^B30-1)","v":591.10262077539483},337.19648131160056,{"$f":"F30*Simulador!$F$8","v":33.490825244055657},961.78992733105099,10826.411933373618,null,10826.411933373618]
[{"$f":"IF(OR(A30>=Simulador!$C$24,A30=0),0,A30+1)","v":26},31,767,"2028-01-06","2028-02-06",10826.411933373618,{"$f":"F31*((1+Simulador!$C$10)^B31-1)","v":573.24838257430065},356.06230895662952,{"$f":"F31*Simulador!$F$8","v":32.479235800120854},961.78992733105099,10470.349624416989,null,10470.349624416989]
[{"$f":"IF(OR(A31>=Simulador!$C$24,A31=0),0,A31+1)","v":27},29,796,"2028-02-06","2028-03-06",10470.349624416989,{"$f":"F32*((1+Simulador!$C$10)^B32-1)","v":517.7581518664515},412.62072659134856,{"$f":"F32*Simulador!$F$8","v":31.411048873250969},961.78992733105099,10057.72889782564,null,10057.72889782564]
[{"$f":"IF(OR(A32>=Simulador!$C$24,A32=0),0,A32+1)","v":28},31,827,"2028-03-06","2028-04-06",10057.72889782564,{"$f":"F33*((1+Simulador!$C$10)^B33-1)","v":532.54733502946817},399.06940560810585,{"$f":"F33*Simulador!$F$8","v":30.173186693476922},961.78992733105099,9658.6594922175336,null,9658.6594922175336]
[{"$f":"IF(OR(A33>=Simulador!$C$24,A33=0),0,A33+1)","v":29},30,857,"2028-04-06","2028-05-06",9658.6594922175336,{"$f":"F34*((1+Simulador!$C$10)^B34-1)","v":494.50449134570653},438.30945750869188,{"$f":"F34*Simulador!$F$8","v":28.975978476652603},961.78992733105099,9220.3500347088411,null,9220.3500347088411]
[{"$f":"IF(OR(A34>=Simulador!$C$24,A34=0),0,A34+1)","v":30},31,888,"2028-05-06","2028-06-06",9220.3500347088411,{"$f":"F35*((1+Simulador!$C$10)^B35-1)","v":488.20890768736064},445.91996953956385,{"$f":"F35*Simulador!$F$8","v":27.661050104126524},961.78992733105099,8774.4300651692774,null,8774.4300651692774]
[{"$f":"IF(OR(A35>=Simulador!$C$24,A35=0),0,A35+1)","v":31},30,918,"2028-06-06","2028-07-06",8774.4300651692774,{"$f":"F36*((1+Simulador!$C$10)^B36-1)","v":449.23367261483378},486.23296452070934,{"$f":"F36*Simulador!$F$8","v":26.323290195507834},961.78992733105099,8288.1971006485674,null,8288.1971006485674]
[{"$f":"IF(OR(A36>=Simulador!$C$24,A36=0),0,A36+1)","v":32},31,949,"2028-07-06","2028-08-06",8288.1971006485674,{"$f":"F37*((1+Simulador!$C$10)^B37-1)","v":438.85228196035212},498.07305406875321,{"$f":"F37*Simulador!$F$8","v":24.864591301945701},961.78992733105099,7790.1240465798146,null,7790.1240465798146]
[{"$f":"IF(OR(A37>=Simulador!$C$24,A37=0),0,A37+1)","v":33},31,980,"2028-08-06","2028-09-06",7790.1240465798146,{"$f":"F38*((1+Simulador!$C$10)^B38-1)","v":412.47977974947565},525.93977544183599,{"$f":"F38*Simulador!$F$8","v":23.370372139739445},961.78992733105099,7264.1842711379786,null,7264.1842711379786]
[{"$f":"IF(OR(A38>=Simulador!$C$24,A38=0),0,A38+1)","v":34},30,1010,"2028-09-06","2028-10-06",7264.1842711379786,{"$f":"F39*((1+Simulador!$C$10)^B39-1)","v":371.91203923639313},568.08533528124394,{"$f":"F39*Simulador!$F$8","v":21.792552813413938},961.78992733105099,6696.0989358567349,null,6696.0989358567349]
[{"$f":"IF(OR(A39>=Simulador!$C$24,A39=0),0,A39+1)","v":35},31,1041,"2028-10-06","2028-11-06",6696.0989358567349,{"$f":"F40*((1+Simulador!$C$10)^B40-1)","v":354.55217371737729},587.14945680610344,{"$f":"F40*Simulador!$F$8","v":20.088296807570206},961.78992733105099,6108.9494790506315,null,6108.9494790506315]
[{"$f":"IF(OR(A40>=Simulador!$C$24,A40=0),0,A40+1)","v":36},30,1071,"2028-11-06","2028-12-06",6108.9494790506315,{"$f":"F41*((1+Simulador!$C$10)^B41-1)","v":312.7662754058826},630.69680348801649,{"$f":"F41*Simulador!$F$8","v":18.326848437151895},961.78992733105099,5478.252675562615,null,5478.252675562615]
[{"$f":"IF(OR(A41>=Simulador!$C$24,A41=0),0,A41+1)","v":0},"","","","",5478.252675562615,{"$f":"F42*((1+Simulador!$C$10)^B42-1)","v":{"$error":"#VALUE!"}},{"$error":"#VALUE!"},{"$f":"F42*Simulador!$F$8","v":16.434758026687845},961.78992733105099,{"$error":"#VALUE!"},null,{"$error":"#VALUE!"}]
[{"$f":"IF(OR(A42>=Simulador!$C$24,A42=0),0,A42+1)","v":0},"","","","",{"$error":"#VALUE!"},{"$f":"F43*((1+Simulador!$C$10)^B43-1)","v":{"$error":"#VALUE!"}},{"$error":"#VALUE!"},{"$f":"F43*Simulador!$F$8","v":{"$error":"#VALUE!"}},961.78992733105099,{"$error":"#VALUE!"},null,{"$error":"#VALUE!"}]
[{"$f":"IF(OR(A43>=Simulador!$C$24,A43=0),0,A43+1)","v":0},"","","","",{"$error":"#VALUE!"},{"$f":"F44*((1+Simulador!$C$10)^B44-1)","v":{"$error":"#VALUE!"}},{"$error":"#VALUE!"},{"$f":"F44*Simulador!$F$8","v":{"$error":"#VALUE!"}},961.78992733105099,{"$error":"#VALUE!"},null,{"$error":"#VALUE!"}]
[{"$f":"IF(OR(A44>=Simulador!$C$24,A44=0),0,A44+1)","v":0},"","","","",{"$error":"#VALUE!"},{"$f":"F45*((1+Simulador!$C$10)^B45-1)","v":{"$error":"#VALUE!"}},{"$error":"#VALUE!"},{"$f":"F45*Simulador!$F$8","v":{"$error":"#VALUE!"}},961.78992733105099,{"$error":"#VALUE!"},null,{"$error":"#VALUE!"}]
[{"$f":"IF(OR(A45>=Simulador!$C$24,A45=0),0,A45+1)","v":0},"","","","",{"$error":"#VALUE!"},{"$f":"F46*((1+Simulador!$C$10)^B46-1)","v":{"$error":"#VALUE!"}},{"$error":"#VALUE!"},{"$f":"F46*Simulador!$F$8","v":{"$error":"#VALUE!"}},961.78992733105099,{"$error":"#VALUE!"},null,{"$error":"#VALUE!"}]
[{"$f":"IF(OR(A46>=Simulador!$C$24,A46=0),0,A46+1)","v":0},"","","","",{"$error":"#VALUE!"},{"$f":"F47*((1+Simulador!$C$10)^B47-1)","v":{"$error":"#VALUE!"}},{"$error":"#VALUE!"},{"$f":"F47*Simulador!$F$8","v":{"$error":"#VALUE!"}},961.78992733105099,{"$error":"#VALUE!"},null,{"$error":"#VALUE!"}]
[{"$f":"IF(OR(A47>=Simulador!$C$24,A47=0),0,A47+1)","v":0},"","","","",{"$error":"#VALUE!"},{"$f":"F48*((1+Simulador!$C$10)^B48-1)","v":{"$error":"#VALUE!"}},{"$error":"#VALUE!"},{"$f":"F48*Simulador!$F$8","v":{"$error":"#VALUE!"}},961.78992733105099,{"$error":"#VALUE!"},null,{"$error":"#VALUE!"}]
[{"$f":"IF(OR(A48>=Simulador!$C$24,A48=0),0,A48+1)","v":0},"","","","",{"$error":"#VALUE!"},{"$f":"F49*((1+Simulador!$C$10)^B49-1)","v":{"$error":"#VALUE!"}},{"$error":"#VALUE!"},{"$f":"F49*Simulador!$F$8","v":{"$error":"#VALUE!"}},961.78992733105099,{"$error":"#VALUE!"},null,{"$error":"#VALUE!"}]
[{"$f":"IF(OR(A49>=Simulador!$C$24,A49=0),0,A49+1)","v":0},"","","","",{"$error":"#VALUE!"},{"$f":"F50*((1+Simulador!$C$10)^B50-1)","v":{"$error":"#VALUE!"}},{"$error":"#VALUE!"},{"$f":"F50*Simulador!$F$8","v":{"$error":"#VALUE!"}},961.78992733105099,{"$error":"#VALUE!"},null,{"$error":"#VALUE!"}]
[{"$f":"IF(OR(A50>=Simulador!$C$24,A50=0),0,A50+1)","v":0},"","","","",{"$error":"#VALUE!"},{"$f":"F51*((1+Simulador!$C$10)^B51-1)","v":{"$error":"#VALUE!"}},{"$error":"#VALUE!"},{"$f":"F51*Simulador!$F$8","v":{"$error":"#VALUE!"}},961.78992733105099,{"$error":"#VALUE!"},null,{"$error":"#VALUE!"}]
[{"$f":"IF(OR(A51>=Simulador!$C$24,A51=0),0,A51+1)","v":0},"","","","",{"$error":"#VALUE!"},{"$f":"F52*((1+Simulador!$C$10)^B52-1)","v":{"$error":"#VALUE!"}},{"$error":"#VALUE!"},{"$f":"F52*Simulador!$F$8","v":{"$error":"#VALUE!"}},961.78992733105099,{"$error":"#VALUE!"},null,{"$error":"#VALUE!"}]
[{"$f":"IF(OR(A52>=Simulador!$C$24,A52=0),0,A52+1)","v":0},"","","","",{"$error":"#VALUE!"},{"$f":"F53*((1+Simulador!$C$10)^B53-1)","v":{"$error":"#VALUE!"}},{"$error":"#VALUE!"},{"$f":"F53*Simulador!$F$8","v":{"$error":"#VALUE!"}},961.78992733105099,{"$error":"#VALUE!"},null,{"$error":"#VALUE!"}]
[{"$f":"IF(OR(A53>=Simulador!$C$24,A53=0),0,A53+1)","v":0},"","","","",{"$error":"#VALUE!"},{"$f":"F54*((1+Simulador!$C$10)^B54-1)","v":{"$error":"#VALUE!"}},{"$error":"#VALUE!"},{"$f":"F54*Simulador!$F$8","v":{"$error":"#VALUE!"}},961.78992733105099,{"$error":"#VALUE!"},null,{"$error":"#VALUE!"}]
[{"$f":"IF(OR(A54>=Simulador!$C$24,A54=0),0,A54+1)","v":0},"","","","",{"$error":"#VALUE!"},{"$f":"F55*((1+Simulador!$C$10)^B55-1)","v":{"$error":"#VALUE!"}},{"$error":"#VALUE!"},{"$f":"F55*Simulador!$F$8","v":{"$error":"#VALUE!"}},961.78992733105099,{"$error":"#VALUE!"},null,{"$error":"#VALUE!"}]
[{"$f":"IF(OR(A55>=Simulador!$C$24,A55=0),0,A55+1)","v":0},"","","","",{"$error":"#VALUE!"},{"$f":"F56*((1+Simulador!$C$10)^B56-1)","v":{"$error":"#VALUE!"}},{"$error":"#VALUE!"},{"$f":"F56*Simulador!$F$8","v":{"$error":"#VALUE!"}},961.78992733105099,{"$error":"#VALUE!"},null,{"$error":"#VALUE!"}]
[{"$f":"IF(OR(A56>=Simulador!$C$24,A56=0),0,A56+1)","v":0},"","","","",{"$error":"#VALUE!"},{"$f":"F57*((1+Simulador!$C$10)^B57-1)","v":{"$error":"#VALUE!"}},{"$error":"#VALUE!"},{"$f":"F57*Simulador!$F$8","v":{"$error":"#VALUE!"}},961.78992733105099,{"$error":"#VALUE!"},null,{"$error":"#VALUE!"}]
[{"$f":"IF(OR(A57>=Simulador!$C$24,A57=0),0,A57+1)","v":0},"","","","",{"$error":"#VALUE!"},{"$f":"F58*((1+Simulador!$C$10)^B58-1)","v":{"$error":"#VALUE!"}},{"$error":"#VALUE!"},{"$f":"F58*Simulador!$F$8","v":{"$error":"#VALUE!"}},961.78992733105099,{"$error":"#VALUE!"},null,{"$error":"#VALUE!"}]
[{"$f":"IF(OR(A58>=Simulador!$C$24,A58=0),0,A58+1)","v":0},"","","","",{"$error":"#VALUE!"},{"$f":"F59*((1+Simulador!$C$10)^B59-1)","v":{"$error":"#VALUE!"}},{"$error":"#VALUE!"},{"$f":"F59*Simulador!$F$8","v":{"$error":"#VALUE!"}},961.78992733105099,{"$error":"#VALUE!"},null,{"$error":"#VALUE!"}]
[{"$f":"IF(OR(A59>=Simulador!$C$24,A59=0),0,A59+1)","v":0},"","","","",{"$error":"#VALUE!"},{"$f":"F60*((1+Simulador!$C$10)^B60-1)","v":{"$error":"#VALUE!"}},{"$error":"#VALUE!"},{"$f":"F60*Simulador!$F$8","v":{"$error":"#VALUE!"}},961.78992733105099,{"$error":"#VALUE!"},null,{"$error":"#VALUE!"}]
[{"$f":"IF(OR(A60>=Simulador!$C$24,A60=0),0,A60+1)","v":0},"","","","",{"$error":"#VALUE!"},{"$f":"F61*((1+Simulador!$C$10)^B61-1)","v":{"$error":"#VALUE!"}},{"$error":"#VALUE!"},{"$f":"F61*Simulador!$F$8","v":{"$error":"#VALUE!"}},961.78992733105099,{"$error":"#VALUE!"},null,{"$error":"#VALUE!"}]
[{"$f":"IF(OR(A61>=Simulador!$C$24,A61=0),0,A61+1)","v":0},"","","","",{"$error":"#VALUE!"},{"$f":"F62*((1+Simulador!$C$10)^B62-1)","v":{"$error":"#VALUE!"}},{"$error":"#VALUE!"},{"$f":"F62*Simulador!$F$8","v":{"$error":"#VALUE!"}},961.78992733105099,{"$error":"#VALUE!"},null,{"$error":"#VALUE!"}]
[{"$f":"IF(OR(A62>=Simulador!$C$24,A62=0),0,A62+1)","v":0},"","","","",{"$error":"#VALUE!"},{"$f":"F63*((1+Simulador!$C$10)^B63-1)","v":{"$error":"#VALUE!"}},{"$error":"#VALUE!"},{"$f":"F63*Simulador!$F$8","v":{"$error":"#VALUE!"}},961.78992733105099,{"$error":"#VALUE!"},null,{"$error":"#VALUE!"}]
[{"$f":"IF(OR(A63>=Simulador!$C$24,A63=0),0,A63+1)","v":0},"","","","",{"$error":"#VALUE!"},{"$f":"F64*((1+Simulador!$C$10)^B64-1)","v":{"$error":"#VALUE!"}},{"$error":"#VALUE!"},{"$f":"F64*Simulador!$F$8","v":{"$error":"#VALUE!"}},961.78992733105099,{"$error":"#VALUE!"},null,{"$error":"#VALUE!"}]
[{"$f":"IF(OR(A64>=Simulador!$C$24,A64=0),0,A64+1)","v":0},"","","","",{"$error":"#VALUE!"},{"$f":"F65*((1+Simulador!$C$10)^B65-1)","v":{"$error":"#VALUE!"}},{"$error":"#VALUE!"},{"$f":"F65*Simulador!$F$8","v":{"$error":"#VALUE!"}},961.78992733105099,{"$error":"#VALUE!"},null,{"$error":"#VALUE!"}]
[{"$f":"IF(OR(A65>=Simulador!$C$24,A65=0),0,A65+1)","v":0},"","","","",{"$error":"#VALUE!"},{"$f":"F66*((1+Simulador!$C$10)^B66-1)","v":{"$error":"#VALUE!"}},{"$error":"#VALUE!"},{"$f":"F66*Simulador!$F$8","v":{"$error":"#VALUE!"}},961.78992733105099,{"$error":"#VALUE!"},null,{"$error":"#VALUE!"}]
[{"$f":"IF(OR(A66>=Simulador!$C$24,A66=0),0,A66+1)","v":0},"","","","",{"$error":"#VALUE!"},{"$f":"F67*((1+Simulador!$C$10)^B67-1)","v":{"$error":"#VALUE!"}},{"$error":"#VALUE!"},{"$f":"F67*Simulador!$F$8","v":{"$error":"#VALUE!"}},961.78992733105099,{"$error":"#VALUE!"},null,{"$error":"#VALUE!"}]
[{"$f":"IF(OR(A67>=Simulador!$C$24,A67=0),0,A67+1)","v":0},"","","","",{"$error":"#VALUE!"},{"$f":"F68*((1+Simulador!$C$10)^B68-1)","v":{"$error":"#VALUE!"}},{"$error":"#VALUE!"},{"$f":"F68*Simulador!$F$8","v":{"$error":"#VALUE!"}},961.78992733105099,{"$error":"#VALUE!"},null,{"$error":"#VALUE!"}]
[{"$f":"IF(OR(A68>=Simulador!$C$24,A68=0),0,A68+1)","v":0},"","","","",{"$error":"#VALUE!"},{"$f":"F69*((1+Simulador!$C$10)^B69-1)","v":{"$error":"#VALUE!"}},{"$error":"#VALUE!"},{"$f":"F69*Simulador!$F$8","v":{"$error":"#VALUE!"}},961.78992733105099,{"$error":"#VALUE!"},null,{"$error":"#VALUE!"}]
[{"$f":"IF(OR(A69>=Simulador!$C$24,A69=0),0,A69+1)","v":0},"","","","",{"$error":"#VALUE!"},{"$f":"F70*((1+Simulador!$C$10)^B70-1)","v":{"$error":"#VALUE!"}},{"$error":"#VALUE!"},{"$f":"F70*Simulador!$F$8","v":{"$error":"#VALUE!"}},961.78992733105099,{"$error":"#VALUE!"},null,{"$error":"#VALUE!"}]
[{"$f":"IF(OR(A70>=Simulador!$C$24,A70=0),0,A70+1)","v":0},"","","","",{"$error":"#VALUE!"},{"$f":"F71*((1+Simulador!$C$10)^B71-1)","v":{"$error":"#VALUE!"}},{"$f":"J71-I71-G71","v":{"$error":"#VALUE!"}},{"$f":"F71*Simulador!$F$8","v":{"$error":"#VALUE!"}},961.78992733105099,{"$f":"F71-H71","v":{"$error":"#VALUE!"}},null,{"$error":"#VALUE!"}]
[{"$f":"IF(OR(A71>=Simulador!$C$24,A71=0),0,A71+1)","v":0},{"$f":"IFERROR(_xlfn.DAYS(E72,D72),\"\")","v":""},{"$f":"IFERROR(C71+B72,\"\")","v":""},"",{"$f":"IFERROR(EDATE(D72,1),\"\")","v":""},{"$f":"K71","v":{"$error":"#VALUE!"}},{"$f":"F72*((1+Simulador!$C$10)^B72-1)","v":{"$error":"#VALUE!"}},{"$error":"#VALUE!"},{"$f":"F72*Simulador!$F$8","v":{"$error":"#VALUE!"}},{"$f":"$J$6","v":961.78992733105099},{"$error":"#VALUE!"},null,{"$f":"K72-L72","v":{"$error":"#VALUE!"}}]
[{"$f":"IF(OR(A72>=Simulador!$C$24,A72=0),0,A72+1)","v":0},"","",{"$f":"IF(A73<>0,E72,\"\")","v":""},"",{"$error":"#VALUE!"},{"$f":"F73*((1+Simulador!$C$10)^B73-1)","v":{"$error":"#VALUE!"}},{"$error":"#VALUE!"},{"$f":"F73*Simulador!$F$8","v":{"$error":"#VALUE!"}},961.78992733105099,{"$error":"#VALUE!"},null,{"$error":"#VALUE!"}]
[{"$f":"IF(OR(A73>=Simulador!$C$24,A73=0),0,A73+1)","v":0},"","","","",{"$error":"#VALUE!"},{"$f":"F74*((1+Simulador!$C$10)^B74-1)","v":{"$error":"#VALUE!"}},{"$error":"#VALUE!"},{"$f":"F74*Simulador!$F$8","v":{"$error":"#VALUE!"}},961.78992733105099,{"$error":"#VALUE!"},null,{"$error":"#VALUE!"}]
[{"$f":"IF(OR(A74>=Simulador!$C$24,A74=0),0,A74+1)","v":0},"","","","",{"$error":"#VALUE!"},{"$f":"F75*((1+Simulador!$C$10)^B75-1)","v":{"$error":"#VALUE!"}},{"$error":"#VALUE!"},{"$f":"F75*Simulador!$F$8","v":{"$error":"#VALUE!"}},961.78992733105099,{"$error":"#VALUE!"},null,{"$error":"#VALUE!"}]
[{"$f":"IF(OR(A75>=Simulador!$C$24,A75=0),0,A75+1)","v":0},"","","","",{"$error":"#VALUE!"},{"$f":"F76*((1+Simulador!$C$10)^B76-1)","v":{"$error":"#VALUE!"}},{"$error":"#VALUE!"},{"$f":"F76*Simulador!$F$8","v":{"$error":"#VALUE!"}},961.78992733105099,{"$error":"#VALUE!"},null,{"$error":"#VALUE!"}]
[{"$f":"IF(OR(A76>=Simulador!$C$24,A76=0),0,A76+1)","v":0},"","","","",{"$error":"#VALUE!"},{"$f":"F77*((1+Simulador!$C$10)^B77-1)","v":{"$error":"#VALUE!"}},{"$error":"#VALUE!"},{"$f":"F77*Simulador!$F$8","v":{"$error":"#VALUE!"}},961.78992733105099,{"$error":"#VALUE!"},null,{"$error":"#VALUE!"}]
[{"$f":"IF(OR(A77>=Simulador!$C$24,A77=0),0,A77+1)","v":0},"","","","",{"$error":"#VALUE!"},{"$f":"F78*((1+Simulador!$C$10)^B78-1)","v":{"$error":"#VALUE!"}},{"$error":"#VALUE!"},{"$f":"F78*Simulador!$F$8","v":{"$error":"#VALUE!"}},961.78992733105099,{"$error":"#VALUE!"},null,{"$error":"#VALUE!"}]
[{"$f":"IF(OR(A78>=Simulador!$C$24,A78=0),0,A78+1)","v":0},"","","","",{"$error":"#VALUE!"},{"$f":"F79*((1+Simulador!$C$10)^B79-1)","v":{"$error":"#VALUE!"}},{"$error":"#VALUE!"},{"$f":"F79*Simulador!$F$8","v":{"$error":"#VALUE!"}},961.78992733105099,{"$error":"#VALUE!"},null,{"$error":"#VALUE!"}]
[{"$f":"IF(OR(A79>=Simulador!$C$24,A79=0),0,A79+1)","v":0},"","","","",{"$error":"#VALUE!"},{"$f":"F80*((1+Simulador!$C$10)^B80-1)","v":{"$error":"#VALUE!"}},{"$error":"#VALUE!"},{"$f":"F80*Simulador!$F$8","v":{"$error":"#VALUE!"}},961.78992733105099,{"$error":"#VALUE!"},null,{"$error":"#VALUE!"}]
[{"$f":"IF(OR(A80>=Simulador!$C$24,A80=0),0,A80+1)","v":0},"","","","",{"$error":"#VALUE!"},{"$f":"F81*((1+Simulador!$C$10)^B81-1)","v":{"$error":"#VALUE!"}},{"$error":"#VALUE!"},{"$f":"F81*Simulador!$F$8","v":{"$error":"#VALUE!"}},961.78992733105099,{"$error":"#VALUE!"},null,{"$error":"#VALUE!"}]
[{"$f":"IF(OR(A81>=Simulador!$C$24,A81=0),0,A81+1)","v":0},"","","","",{"$error":"#VALUE!"},{"$f":"F82*((1+Simulador!$C$10)^B82-1)","v":{"$error":"#VALUE!"}},{"$error":"#VALUE!"},{"$f":"F82*Simulador!$F$8","v":{"$error":"#VALUE!"}},961.78992733105099,{"$error":"#VALUE!"},null,{"$error":"#VALUE!"}]
[{"$f":"IF(OR(A82>=Simulador!$C$24,A82=0),0,A82+1)","v":0},"","","","",{"$error":"#VALUE!"},{"$f":"F83*((1+Simulador!$C$10)^B83-1)","v":{"$error":"#VALUE!"}},{"$error":"#VALUE!"},{"$f":"F83*Simulador!$F$8","v":{"$error":"#VALUE!"}},961.78992733105099,{"$error":"#VALUE!"},null,{"$error":"#VALUE!"}]
[{"$f":"IF(OR(A83>=Simulador!$C$24,A83=0),0,A83+1)","v":0},"","","","",{"$error":"#VALUE!"},{"$f":"F84*((1+Simulador!$C$10)^B84-1)","v":{"$error":"#VALUE!"}},{"$error":"#VALUE!"},{"$f":"F84*Simulador!$F$8","v":{"$error":"#VALUE!"}},961.78992733105099,{"$error":"#VALUE!"},null,{"$error":"#VALUE!"}]
[{"$f":"IF(OR(A84>=Simulador!$C$24,A84=0),0,A84+1)","v":0},"","","","",{"$error":"#VALUE!"},{"$f":"F85*((1+Simulador!$C$10)^B85-1)","v":{"$error":"#VALUE!"}},{"$error":"#VALUE!"},{"$f":"F85*Simulador!$F$8","v":{"$error":"#VALUE!"}},961.78992733105099,{"$error":"#VALUE!"},null,{"$error":"#VALUE!"}]
[{"$f":"IF(OR(A85>=Simulador!$C$24,A85=0),0,A85+1)","v":0},"","","","",{"$error":"#VALUE!"},{"$f":"F86*((1+Simulador!$C$10)^B86-1)","v":{"$error":"#VALUE!"}},{"$error":"#VALUE!"},{"$f":"F86*Simulador!$F$8","v":{"$error":"#VALUE!"}},961.78992733105099,{"$error":"#VALUE!"},null,{"$error":"#VALUE!"}]
[{"$f":"IF(OR(A86>=Simulador!$C$24,A86=0),0,A86+1)","v":0},"","","","",{"$error":"#VALUE!"},{"$f":"F87*((1+Simulador!$C$10)^B87-1)","v":{"$error":"#VALUE!"}},{"$error":"#VALUE!"},{"$f":"F87*Simulador!$F$8","v":{"$error":"#VALUE!"}},961.78992733105099,{"$error":"#VALUE!"},null,{"$error":"#VALUE!"}]
[{"$f":"IF(OR(A87>=Simulador!$C$24,A87=0),0,A87+1)","v":0},"","","","",{"$error":"#VALUE!"},{"$f":"F88*((1+Simulador!$C$10)^B88-1)","v":{"$error":"#VALUE!"}},{"$error":"#VALUE!"},{"$f":"F88*Simulador!$F$8","v":{"$error":"#VALUE!"}},961.78992733105099,{"$error":"#VALUE!"},null,{"$error":"#VALUE!"}]
[{"$f":"IF(OR(A88>=Simulador!$C$24,A88=0),0,A88+1)","v":0},"","","","",{"$error":"#VALUE!"},{"$f":"F89*((1+Simulador!$C$10)^B89-1)","v":{"$error":"#VALUE!"}},{"$error":"#VALUE!"},{"$f":"F89*Simulador!$F$8","v":{"$error":"#VALUE!"}},961.78992733105099,{"$error":"#VALUE!"},null,{"$error":"#VALUE!"}]
[{"$f":"IF(OR(A89>=Simulador!$C$24,A89=0),0,A89+1)","v":0},"","","","",{"$error":"#VALUE!"},{"$f":"F90*((1+Simulador!$C$10)^B90-1)","v":{"$error":"#VALUE!"}},{"$error":"#VALUE!"},{"$f":"F90*Simulador!$F$8","v":{"$error":"#VALUE!"}},961.78992733105099,{"$error":"#VALUE!"},null,{"$error":"#VALUE!"}]
[{"$f":"IF(OR(A90>=Simulador!$C$24,A90=0),0,A90+1)","v":0},"","","","",{"$error":"#VALUE!"},{"$f":"F91*((1+Simulador!$C$10)^B91-1)","v":{"$error":"#VALUE!"}},{"$error":"#VALUE!"},{"$f":"F91*Simulador!$F$8","v":{"$error":"#VALUE!"}},961.78992733105099,{"$error":"#VALUE!"},null,{"$error":"#VALUE!"}]
[{"$f":"IF(OR(A91>=Simulador!$C$24,A91=0),0,A91+1)","v":0},"","","","",{"$error":"#VALUE!"},{"$f":"F92*((1+Simulador!$C$10)^B92-1)","v":{"$error":"#VALUE!"}},{"$error":"#VALUE!"},{"$f":"F92*Simulador!$F$8","v":{"$error":"#VALUE!"}},961.78992733105099,{"$error":"#VALUE!"},null,{"$error":"#VALUE!"}]
[{"$f":"IF(OR(A92>=Simulador!$C$24,A92=0),0,A92+1)","v":0},"","","","",{"$error":"#VALUE!"},{"$f":"F93*((1+Simulador!$C$10)^B93-1)","v":{"$error":"#VALUE!"}},{"$error":"#VALUE!"},{"$f":"F93*Simulador!$F$8","v":{"$error":"#VALUE!"}},961.78992733105099,{"$error":"#VALUE!"},null,{"$error":"#VALUE!"}]
[{"$f":"IF(OR(A93>=Simulador!$C$24,A93=0),0,A93+1)","v":0},"","","","",{"$error":"#VALUE!"},{"$f":"F94*((1+Simulador!$C$10)^B94-1)","v":{"$error":"#VALUE!"}},{"$error":"#VALUE!"},{"$f":"F94*Simulador!$F$8","v":{"$error":"#VALUE!"}},961.78992733105099,{"$error":"#VALUE!"},null,{"$error":"#VALUE!"}]
[{"$f":"IF(OR(A94>=Simulador!$C$24,A94=0),0,A94+1)","v":0},"","","","",{"$error":"#VALUE!"},{"$f":"F95*((1+Simulador!$C$10)^B95-1)","v":{"$error":"#VALUE!"}},{"$error":"#VALUE!"},{"$f":"F95*Simulador!$F$8","v":{"$error":"#VALUE!"}},961.78992733105099,{"$error":"#VALUE!"},null,{"$error":"#VALUE!"}]
[{"$f":"IF(OR(A95>=Simulador!$C$24,A95=0),0,A95+1)","v":0},"","","","",{"$error":"#VALUE!"},{"$f":"F96*((1+Simulador!$C$10)^B96-1)","v":{"$error":"#VALUE!"}},{"$error":"#VALUE!"},{"$f":"F96*Simulador!$F$8","v":{"$error":"#VALUE!"}},961.78992733105099,{"$error":"#VALUE!"},null,{"$error":"#VALUE!"}]
[{"$f":"IF(OR(A96>=Simulador!$C$24,A96=0),0,A96+1)","v":0},"","","","",{"$error":"#VALUE!"},{"$f":"F97*((1+Simulador!$C$10)^B97-1)","v":{"$error":"#VALUE!"}},{"$error":"#VALUE!"},{"$f":"F97*Simulador!$F$8","v":{"$error":"#VALUE!"}},961.78992733105099,{"$error":"#VALUE!"},null,{"$error":"#VALUE!"}]
[{"$f":"IF(OR(A97>=Simulador!$C$24,A97=0),0,A97+1)","v":0},"","","","",{"$error":"#VALUE!"},{"$f":"F98*((1+Simulador!$C$10)^B98-1)","v":{"$error":"#VALUE!"}},{"$error":"#VALUE!"},{"$f":"F98*Simulador!$F$8","v":{"$error":"#VALUE!"}},961.78992733105099,{"$error":"#VALUE!"},null,{"$error":"#VALUE!"}]
[{"$f":"IF(OR(A98>=Simulador!$C$24,A98=0),0,A98+1)","v":0},"","","","",{"$error":"#VALUE!"},{"$f":"F99*((1+Simulador!$C$10)^B99-1)","v":{"$error":"#VALUE!"}},{"$error":"#VALUE!"},{"$f":"F99*Simulador!$F$8","v":{"$error":"#VALUE!"}},961.78992733105099,{"$error":"#VALUE!"},null,{"$error":"#VALUE!"}]
[{"$f":"IF(OR(A99>=Simulador!$C$24,A99=0),0,A99+1)","v":0},"","","","",{"$error":"#VALUE!"},{"$f":"F100*((1+Simulador!$C$10)^B100-1)","v":{"$error":"#VALUE!"}},{"$error":"#VALUE!"},{"$f":"F100*Simulador!$F$8","v":{"$error":"#VALUE!"}},961.78992733105099,{"$error":"#VALUE!"},null,{"$error":"#VALUE!"}]
[{"$f":"IF(OR(A100>=Simulador!$C$24,A100=0),0,A100+1)","v":0},"","","","",{"$error":"#VALUE!"},{"$f":"F101*((1+Simulador!$C$10)^B101-1)","v":{"$error":"#VALUE!"}},{"$error":"#VALUE!"},{"$f":"F101*Simulador!$F$8","v":{"$error":"#VALUE!"}},961.78992733105099,{"$error":"#VALUE!"},null,{"$error":"#VALUE!"}]
[{"$f":"IF(OR(A101>=Simulador!$C$24,A101=0),0,A101+1)","v":0},"","","","",{"$error":"#VALUE!"},{"$f":"F102*((1+Simulador!$C$10)^B102-1)","v":{"$error":"#VALUE!"}},{"$error":"#VALUE!"},{"$f":"F102*Simulador!$F$8","v":{"$error":"#VALUE!"}},961.78992733105099,{"$error":"#VALUE!"},null,{"$error":"#VALUE!"}]
[{"$f":"IF(OR(A102>=Simulador!$C$24,A102=0),0,A102+1)","v":0},"","","","",{"$error":"#VALUE!"},{"$f":"F103*((1+Simulador!$C$10)^B103-1)","v":{"$error":"#VALUE!"}},{"$error":"#VALUE!"},{"$f":"F103*Simulador!$F$8","v":{"$error":"#VALUE!"}},961.78992733105099,{"$error":"#VALUE!"},null,{"$error":"#VALUE!"}]
[{"$f":"IF(OR(A103>=Simulador!$C$24,A103=0),0,A103+1)","v":0},"","","","",{"$error":"#VALUE!"},{"$f":"F104*((1+Simulador!$C$10)^B104-1)","v":{"$error":"#VALUE!"}},{"$error":"#VALUE!"},{"$f":"F104*Simulador!$F$8","v":{"$error":"#VALUE!"}},961.78992733105099,{"$error":"#VALUE!"},null,{"$error":"#VALUE!"}]
[{"$f":"IF(OR(A104>=Simulador!$C$24,A104=0),0,A104+1)","v":0},"","","","",{"$error":"#VALUE!"},{"$f":"F105*((1+Simulador!$C$10)^B105-1)","v":{"$error":"#VALUE!"}},{"$error":"#VALUE!"},{"$f":"F105*Simulador!$F$8","v":{"$error":"#VALUE!"}},961.78992733105099,{"$error":"#VALUE!"},null,{"$error":"#VALUE!"}]
[{"$f":"IF(OR(A105>=Simulador!$C$24,A105=0),0,A105+1)","v":0},"","","","",{"$error":"#VALUE!"},{"$f":"F106*((1+Simulador!$C$10)^B106-1)","v":{"$error":"#VALUE!"}},{"$error":"#VALUE!"},{"$f":"F106*Simulador!$F$8","v":{"$error":"#VALUE!"}},961.78992733105099,{"$error":"#VALUE!"},null,{"$error":"#VALUE!"}]
[{"$f":"IF(OR(A106>=Simulador!$C$24,A106=0),0,A106+1)","v":0},"","","","",{"$error":"#VALUE!"},{"$f":"F107*((1+Simulador!$C$10)^B107-1)","v":{"$error":"#VALUE!"}},{"$error":"#VALUE!"},{"$f":"F107*Simulador!$F$8","v":{"$error":"#VALUE!"}},961.78992733105099,{"$error":"#VALUE!"},null,{"$error":"#VALUE!"}]
[{"$f":"IF(OR(A107>=Simulador!$C$24,A107=0),0,A107+1)","v":0},"","","","",{"$error":"#VALUE!"},{"$f":"F108*((1+Simulador!$C$10)^B108-1)","v":{"$error":"#VALUE!"}},{"$error":"#VALUE!"},{"$f":"F108*Simulador!$F$8","v":{"$error":"#VALUE!"}},961.78992733105099,{"$error":"#VALUE!"},null,{"$error":"#VALUE!"}]
[{"$f":"IF(OR(A108>=Simulador!$C$24,A108=0),0,A108+1)","v":0},"","","","",{"$error":"#VALUE!"},{"$f":"F109*((1+Simulador!$C$10)^B109-1)","v":{"$error":"#VALUE!"}},{"$error":"#VALUE!"},{"$f":"F109*Simulador!$F$8","v":{"$error":"#VALUE!"}},961.78992733105099,{"$error":"#VALUE!"},null,{"$error":"#VALUE!"}]
[{"$f":"IF(OR(A109>=Simulador!$C$24,A109=0),0,A109+1)","v":0},"","","","",{"$error":"#VALUE!"},{"$f":"F110*((1+Simulador!$C$10)^B110-1)","v":{"$error":"#VALUE!"}},{"$error":"#VALUE!"},{"$f":"F110*Simulador!$F$8","v":{"$error":"#VALUE!"}},961.78992733105099,{"$error":"#VALUE!"},null,{"$error":"#VALUE!"}]
[{"$f":"IF(OR(A110>=Simulador!$C$24,A110=0),0,A110+1)","v":0},"","","","",{"$error":"#VALUE!"},{"$f":"F111*((1+Simulador!$C$10)^B111-1)","v":{"$error":"#VALUE!"}},{"$error":"#VALUE!"},{"$f":"F111*Simulador!$F$8","v":{"$error":"#VALUE!"}},961.78992733105099,{"$error":"#VALUE!"},null,{"$error":"#VALUE!"}]
[{"$f":"IF(OR(A111>=Simulador!$C$24,A111=0),0,A111+1)","v":0},"","","","",{"$error":"#VALUE!"},{"$f":"F112*((1+Simulador!$C$10)^B112-1)","v":{"$error":"#VALUE!"}},{"$error":"#VALUE!"},{"$f":"F112*Simulador!$F$8","v":{"$error":"#VALUE!"}},961.78992733105099,{"$error":"#VALUE!"},null,{"$error":"#VALUE!"}]
[{"$f":"IF(OR(A112>=Simulador!$C$24,A112=0),0,A112+1)","v":0},"","","","",{"$error":"#VALUE!"},{"$f":"F113*((1+Simulador!$C$10)^B113-1)","v":{"$error":"#VALUE!"}},{"$error":"#VALUE!"},{"$f":"F113*Simulador!$F$8","v":{"$error":"#VALUE!"}},961.78992733105099,{"$error":"#VALUE!"},null,{"$error":"#VALUE!"}]
[{"$f":"IF(OR(A113>=Simulador!$C$24,A113=0),0,A113+1)","v":0},"","","","",{"$error":"#VALUE!"},{"$f":"F114*((1+Simulador!$C$10)^B114-1)","v":{"$error":"#VALUE!"}},{"$error":"#VALUE!"},{"$f":"F114*Simulador!$F$8","v":{"$error":"#VALUE!"}},961.78992733105099,{"$error":"#VALUE!"},null,{"$error":"#VALUE!"}]
[{"$f":"IF(OR(A114>=Simulador!$C$24,A114=0),0,A114+1)","v":0},"","","","",{"$error":"#VALUE!"},{"$f":"F115*((1+Simulador!$C$10)^B115-1)","v":{"$error":"#VALUE!"}},{"$error":"#VALUE!"},{"$f":"F115*Simulador!$F$8","v":{"$error":"#VALUE!"}},961.78992733105099,{"$error":"#VALUE!"},null,{"$error":"#VALUE!"}]
[{"$f":"IF(OR(A115>=Simulador!$C$24,A115=0),0,A115+1)","v":0},"","","","",{"$error":"#VALUE!"},{"$f":"F116*((1+Simulador!$C$10)^B116-1)","v":{"$error":"#VALUE!"}},{"$error":"#VALUE!"},{"$f":"F116*Simulador!$F$8","v":{"$error":"#VALUE!"}},961.78992733105099,{"$error":"#VALUE!"},null,{"$error":"#VALUE!"}]
[{"$f":"IF(OR(A116>=Simulador!$C$24,A116=0),0,A116+1)","v":0},"","","","",{"$error":"#VALUE!"},{"$f":"F117*((1+Simulador!$C$10)^B117-1)","v":{"$error":"#VALUE!"}},{"$error":"#VALUE!"},{"$f":"F117*Simulador!$F$8","v":{"$error":"#VALUE!"}},961.78992733105099,{"$error":"#VALUE!"},null,{"$error":"#VALUE!"}]
[{"$f":"IF(OR(A117>=Simulador!$C$24,A117=0),0,A117+1)","v":0},"","","","",{"$error":"#VALUE!"},{"$f":"F118*((1+Simulador!$C$10)^B118-1)","v":{"$error":"#VALUE!"}},{"$error":"#VALUE!"},{"$f":"F118*Simulador!$F$8","v":{"$error":"#VALUE!"}},961.78992733105099,{"$error":"#VALUE!"},null,{"$error":"#VALUE!"}]
[{"$f":"IF(OR(A118>=Simulador!$C$24,A118=0),0,A118+1)","v":0},"","","","",{"$error":"#VALUE!"},{"$f":"F119*((1+Simulador!$C$10)^B119-1)","v":{"$error":"#VALUE!"}},{"$error":"#VALUE!"},{"$f":"F119*Simulador!$F$8","v":{"$error":"#VALUE!"}},961.78992733105099,{"$error":"#VALUE!"},null,{"$error":"#VALUE!"}]
[{"$f":"IF(OR(A119>=Simulador!$C$24,A119=0),0,A119+1)","v":0},"","","","",{"$error":"#VALUE!"},{"$f":"F120*((1+Simulador!$C$10)^B120-1)","v":{"$error":"#VALUE!"}},{"$error":"#VALUE!"},{"$f":"F120*Simulador!$F$8","v":{"$error":"#VALUE!"}},961.78992733105099,{"$error":"#VALUE!"},null,{"$error":"#VALUE!"}]
[{"$f":"IF(OR(A120>=Simulador!$C$24,A120=0),0,A120+1)","v":0},"","","","",{"$error":"#VALUE!"},{"$f":"F121*((1+Simulador!$C$10)^B121-1)","v":{"$error":"#VALUE!"}},{"$error":"#VALUE!"},{"$f":"F121*Simulador!$F$8","v":{"$error":"#VALUE!"}},961.78992733105099,{"$error":"#VALUE!"},null,{"$error":"#VALUE!"}]
[{"$f":"IF(OR(A121>=Simulador!$C$24,A121=0),0,A121+1)","v":0},"","","","",{"$error":"#VALUE!"},{"$f":"F122*((1+Simulador!$C$10)^B122-1)","v":{"$error":"#VALUE!"}},{"$error":"#VALUE!"},{"$f":"F122*Simulador!$F$8","v":{"$error":"#VALUE!"}},961.78992733105099,{"$error":"#VALUE!"},null,{"$error":"#VALUE!"}]
[{"$f":"IF(OR(A122>=Simulador!$C$24,A122=0),0,A122+1)","v":0},"","","","",{"$error":"#VALUE!"},{"$f":"F123*((1+Simulador!$C$10)^B123-1)","v":{"$error":"#VALUE!"}},{"$error":"#VALUE!"},{"$f":"F123*Simulador!$F$8","v":{"$error":"#VALUE!"}},961.78992733105099,{"$error":"#VALUE!"},null,{"$error":"#VALUE!"}]
[{"$f":"IF(OR(A123>=Simulador!$C$24,A123=0),0,A123+1)","v":0},"","","","",{"$error":"#VALUE!"},{"$f":"F124*((1+Simulador!$C$10)^B124-1)","v":{"$error":"#VALUE!"}},{"$error":"#VALUE!"},{"$f":"F124*Simulador!$F$8","v":{"$error":"#VALUE!"}},961.78992733105099,{"$error":"#VALUE!"},null,{"$error":"#VALUE!"}]
[{"$f":"IF(OR(A124>=Simulador!$C$24,A124=0),0,A124+1)","v":0},"","","","",{"$error":"#VALUE!"},{"$f":"F125*((1+Simulador!$C$10)^B125-1)","v":{"$error":"#VALUE!"}},{"$error":"#VALUE!"},{"$f":"F125*Simulador!$F$8","v":{"$error":"#VALUE!"}},961.78992733105099,{"$error":"#VALUE!"},null,{"$error":"#VALUE!"}]
[{"$f":"IF(OR(A125>=Simulador!$C$24,A125=0),0,A125+1)","v":0},"","","","",{"$error":"#VALUE!"},{"$f":"F126*((1+Simulador!$C$10)^B126-1)","v":{"$error":"#VALUE!"}},{"$error":"#VALUE!"},{"$f":"F126*Simulador!$F$8","v":{"$error":"#VALUE!"}},961.78992733105099,{"$error":"#VALUE!"},null,{"$error":"#VALUE!"}]
[{"$f":"IF(OR(A126>=Simulador!$C$24,A126=0),0,A126+1)","v":0},"","","","",{"$error":"#VALUE!"},{"$f":"F127*((1+Simulador!$C$10)^B127-1)","v":{"$error":"#VALUE!"}},{"$error":"#VALUE!"},{"$f":"F127*Simulador!$F$8","v":{"$error":"#VALUE!"}},961.78992733105099,{"$error":"#VALUE!"},null,{"$error":"#VALUE!"}]
[{"$f":"IF(OR(A127>=Simulador!$C$24,A127=0),0,A127+1)","v":0},"","","","",{"$error":"#VALUE!"},{"$f":"F128*((1+Simulador!$C$10)^B128-1)","v":{"$error":"#VALUE!"}},{"$error":"#VALUE!"},{"$f":"F128*Simulador!$F$8","v":{"$error":"#VALUE!"}},961.78992733105099,{"$error":"#VALUE!"},null,{"$error":"#VALUE!"}]
[{"$f":"IF(OR(A128>=Simulador!$C$24,A128=0),0,A128+1)","v":0},"","","","",{"$error":"#VALUE!"},{"$f":"F129*((1+Simulador!$C$10)^B129-1)","v":{"$error":"#VALUE!"}},{"$error":"#VALUE!"},{"$f":"F129*Simulador!$F$8","v":{"$error":"#VALUE!"}},961.78992733105099,{"$error":"#VALUE!"},null,{"$error":"#VALUE!"}]
[{"$f":"IF(OR(A129>=Simulador!$C$24,A129=0),0,A129+1)","v":0},"","","","",{"$error":"#VALUE!"},{"$f":"F130*((1+Simulador!$C$10)^B130-1)","v":{"$error":"#VALUE!"}},{"$error":"#VALUE!"},{"$f":"F130*Simulador!$F$8","v":{"$error":"#VALUE!"}},961.78992733105099,{"$error":"#VALUE!"},null,{"$error":"#VALUE!"}]
[{"$f":"IF(OR(A130>=Simulador!$C$24,A130=0),0,A130+1)","v":0},"","","","",{"$error":"#VALUE!"},{"$f":"F131*((1+Simulador!$C$10)^B131-1)","v":{"$error":"#VALUE!"}},{"$error":"#VALUE!"},{"$f":"F131*Simulador!$F$8","v":{"$error":"#VALUE!"}},961.78992733105099,{"$error":"#VALUE!"},null,{"$error":"#VALUE!"}]
[{"$f":"IF(OR(A131>=Simulador!$C$24,A131=0),0,A131+1)","v":0},"","","","",{"$error":"#VALUE!"},{"$f":"F132*((1+Simulador!$C$10)^B132-1)","v":{"$error":"#VALUE!"}},{"$error":"#VALUE!"},{"$f":"F132*Simulador!$F$8","v":{"$error":"#VALUE!"}},961.78992733105099,{"$error":"#VALUE!"},null,{"$error":"#VALUE!"}]
[{"$f":"IF(OR(A132>=Simulador!$C$24,A132=0),0,A132+1)","v":0},"","","","",{"$error":"#VALUE!"},{"$f":"F133*((1+Simulador!$C$10)^B133-1)","v":{"$error":"#VALUE!"}},{"$error":"#VALUE!"},{"$f":"F133*Simulador!$F$8","v":{"$error":"#VALUE!"}},961.78992733105099,{"$error":"#VALUE!"},null,{"$error":"#VALUE!"}]
[{"$f":"IF(OR(A133>=Simulador!$C$24,A133=0),0,A133+1)","v":0},"","","","",{"$error":"#VALUE!"},{"$f":"F134*((1+Simulador!$C$10)^B134-1)","v":{"$error":"#VALUE!"}},{"$error":"#VALUE!"},{"$f":"F134*Simulador!$F$8","v":{"$error":"#VALUE!"}},961.78992733105099,{"$error":"#VALUE!"},null,{"$error":"#VALUE!"}]
[{"$f":"IF(OR(A134>=Simulador!$C$24,A134=0),0,A134+1)","v":0},"","","","",{"$error":"#VALUE!"},{"$f":"F135*((1+Simulador!$C$10)^B135-1)","v":{"$error":"#VALUE!"}},{"$f":"J135-I135-G135","v":{"$error":"#VALUE!"}},{"$f":"F135*Simulador!$F$8","v":{"$error":"#VALUE!"}},961.78992733105099,{"$f":"F135-H135","v":{"$error":"#VALUE!"}},null,{"$error":"#VALUE!"}]
[{"$f":"IF(OR(A135>=Simulador!$C$24,A135=0),0,A135+1)","v":0},{"$f":"IFERROR(_xlfn.DAYS(E136,D136),\"\")","v":""},{"$f":"IFERROR(C135+B136,\"\")","v":""},"",{"$f":"IFERROR(EDATE(D136,1),\"\")","v":""},{"$f":"K135","v":{"$error":"#VALUE!"}},{"$f":"F136*((1+Simulador!$C$10)^B136-1)","v":{"$error":"#VALUE!"}},{"$error":"#VALUE!"},{"$f":"F136*Simulador!$F$8","v":{"$error":"#VALUE!"}},{"$f":"$J$6","v":961.78992733105099},{"$error":"#VALUE!"},null,{"$f":"K136-L136","v":{"$error":"#VALUE!"}}]
[{"$f":"IF(OR(A136>=Simulador!$C$24,A136=0),0,A136+1)","v":0},"","",{"$f":"IF(A137<>0,E136,\"\")","v":""},"",{"$error":"#VALUE!"},{"$f":"F137*((1+Simulador!$C$10)^B137-1)","v":{"$error":"#VALUE!"}},{"$error":"#VALUE!"},{"$f":"F137*Simulador!$F$8","v":{"$error":"#VALUE!"}},961.78992733105099,{"$error":"#VALUE!"},null,{"$error":"#VALUE!"}]
[{"$f":"IF(OR(A137>=Simulador!$C$24,A137=0),0,A137+1)","v":0},"","","","",{"$error":"#VALUE!"},{"$f":"F138*((1+Simulador!$C$10)^B138-1)","v":{"$error":"#VALUE!"}},{"$error":"#VALUE!"},{"$f":"F138*Simulador!$F$8","v":{"$error":"#VALUE!"}},961.78992733105099,{"$error":"#VALUE!"},null,{"$error":"#VALUE!"}]
[{"$f":"IF(OR(A138>=Simulador!$C$24,A138=0),0,A138+1)","v":0},"","","","",{"$error":"#VALUE!"},{"$f":"F139*((1+Simulador!$C$10)^B139-1)","v":{"$error":"#VALUE!"}},{"$error":"#VALUE!"},{"$f":"F139*Simulador!$F$8","v":{"$error":"#VALUE!"}},961.78992733105099,{"$error":"#VALUE!"},null,{"$error":"#VALUE!"}]
[{"$f":"IF(OR(A139>=Simulador!$C$24,A139=0),0,A139+1)","v":0},"","","","",{"$error":"#VALUE!"},{"$f":"F140*((1+Simulador!$C$10)^B140-1)","v":{"$error":"#VALUE!"}},{"$error":"#VALUE!"},{"$f":"F140*Simulador!$F$8","v":{"$error":"#VALUE!"}},961.78992733105099,{"$error":"#VALUE!"},null,{"$error":"#VALUE!"}]
[{"$f":"IF(OR(A140>=Simulador!$C$24,A140=0),0,A140+1)","v":0},"","","","",{"$error":"#VALUE!"},{"$f":"F141*((1+Simulador!$C$10)^B141-1)","v":{"$error":"#VALUE!"}},{"$error":"#VALUE!"},{"$f":"F141*Simulador!$F$8","v":{"$error":"#VALUE!"}},961.78992733105099,{"$error":"#VALUE!"},null,{"$error":"#VALUE!"}]
[{"$f":"IF(OR(A141>=Simulador!$C$24,A141=0),0,A141+1)","v":0},"","","","",{"$error":"#VALUE!"},{"$f":"F142*((1+Simulador!$C$10)^B142-1)","v":{"$error":"#VALUE!"}},{"$error":"#VALUE!"},{"$f":"F142*Simulador!$F$8","v":{"$error":"#VALUE!"}},961.78992733105099,{"$error":"#VALUE!"},null,{"$error":"#VALUE!"}]
[{"$f":"IF(OR(A142>=Simulador!$C$24,A142=0),0,A142+1)","v":0},"","","","",{"$error":"#VALUE!"},{"$f":"F143*((1+Simulador!$C$10)^B143-1)","v":{"$error":"#VALUE!"}},{"$error":"#VALUE!"},{"$f":"F143*Simulador!$F$8","v":{"$error":"#VALUE!"}},961.78992733105099,{"$error":"#VALUE!"},null,{"$error":"#VALUE!"}]
[{"$f":"IF(OR(A143>=Simulador!$C$24,A143=0),0,A143+1)","v":0},"","","","",{"$error":"#VALUE!"},{"$f":"F144*((1+Simulador!$C$10)^B144-1)","v":{"$error":"#VALUE!"}},{"$error":"#VALUE!"},{"$f":"F144*Simulador!$F$8","v":{"$error":"#VALUE!"}},961.78992733105099,{"$error":"#VALUE!"},null,{"$error":"#VALUE!"}]
[{"$f":"IF(OR(A144>=Simulador!$C$24,A144=0),0,A144+1)","v":0},"","","","",{"$error":"#VALUE!"},{"$f":"F145*((1+Simulador!$C$10)^B145-1)","v":{"$error":"#VALUE!"}},{"$error":"#VALUE!"},{"$f":"F145*Simulador!$F$8","v":{"$error":"#VALUE!"}},961.78992733105099,{"$error":"#VALUE!"},null,{"$error":"#VALUE!"}]
[{"$f":"IF(OR(A145>=Simulador!$C$24,A145=0),0,A145+1)","v":0},"","","","",{"$error":"#VALUE!"},{"$f":"F146*((1+Simulador!$C$10)^B146-1)","v":{"$error":"#VALUE!"}},{"$error":"#VALUE!"},{"$f":"F146*Simulador!$F$8","v":{"$error":"#VALUE!"}},961.78992733105099,{"$error":"#VALUE!"},null,{"$error":"#VALUE!"}]
[{"$f":"IF(OR(A146>=Simulador!$C$24,A146=0),0,A146+1)","v":0},"","","","",{"$error":"#VALUE!"},{"$f":"F147*((1+Simulador!$C$10)^B147-1)","v":{"$error":"#VALUE!"}},{"$error":"#VALUE!"},{"$f":"F147*Simulador!$F$8","v":{"$error":"#VALUE!"}},961.78992733105099,{"$error":"#VALUE!"},null,{"$error":"#VALUE!"}]
[{"$f":"IF(OR(A147>=Simulador!$C$24,A147=0),0,A147+1)","v":0},"","","","",{"$error":"#VALUE!"},{"$f":"F148*((1+Simulador!$C$10)^B148-1)","v":{"$error":"#VALUE!"}},{"$error":"#VALUE!"},{"$f":"F148*Simulador!$F$8","v":{"$error":"#VALUE!"}},961.78992733105099,{"$error":"#VALUE!"},null,{"$error":"#VALUE!"}]
[{"$f":"IF(OR(A148>=Simulador!$C$24,A148=0),0,A148+1)","v":0},"","","","",{"$error":"#VALUE!"},{"$f":"F149*((1+Simulador!$C$10)^B149-1)","v":{"$error":"#VALUE!"}},{"$error":"#VALUE!"},{"$f":"F149*Simulador!$F$8","v":{"$error":"#VALUE!"}},961.78992733105099,{"$error":"#VALUE!"},null,{"$error":"#VALUE!"}]
[{"$f":"IF(OR(A149>=Simulador!$C$24,A149=0),0,A149+1)","v":0},"","","","",{"$error":"#VALUE!"},{"$f":"F150*((1+Simulador!$C$10)^B150-1)","v":{"$error":"#VALUE!"}},{"$error":"#VALUE!"},{"$f":"F150*Simulador!$F$8","v":{"$error":"#VALUE!"}},961.78992733105099,{"$error":"#VALUE!"},null,{"$error":"#VALUE!"}]
[{"$f":"IF(OR(A150>=Simulador!$C$24,A150=0),0,A150+1)","v":0},"","","","",{"$error":"#VALUE!"},{"$f":"F151*((1+Simulador!$C$10)^B151-1)","v":{"$error":"#VALUE!"}},{"$error":"#VALUE!"},{"$f":"F151*Simulador!$F$8","v":{"$error":"#VALUE!"}},961.78992733105099,{"$error":"#VALUE!"},null,{"$error":"#VALUE!"}]
[{"$f":"IF(OR(A151>=Simulador!$C$24,A151=0),0,A151+1)","v":0},"","","","",{"$error":"#VALUE!"},{"$f":"F152*((1+Simulador!$C$10)^B152-1)","v":{"$error":"#VALUE!"}},{"$error":"#VALUE!"},{"$f":"F152*Simulador!$F$8","v":{"$error":"#VALUE!"}},961.78992733105099,{"$error":"#VALUE!"},null,{"$error":"#VALUE!"}]
[{"$f":"IF(OR(A152>=Simulador!$C$24,A152=0),0,A152+1)","v":0},"","","","",{"$error":"#VALUE!"},{"$f":"F153*((1+Simulador!$C$10)^B153-1)","v":{"$error":"#VALUE!"}},{"$error":"#VALUE!"},{"$f":"F153*Simulador!$F$8","v":{"$error":"#VALUE!"}},961.78992733105099,{"$error":"#VALUE!"},null,{"$error":"#VALUE!"}]
[{"$f":"IF(OR(A153>=Simulador!$C$24,A153=0),0,A153+1)","v":0},"","","","",{"$error":"#VALUE!"},{"$f":"F154*((1+Simulador!$C$10)^B154-1)","v":{"$error":"#VALUE!"}},{"$error":"#VALUE!"},{"$f":"F154*Simulador!$F$8","v":{"$error":"#VALUE!"}},961.78992733105099,{"$error":"#VALUE!"},null,{"$error":"#VALUE!"}]
[{"$f":"IF(OR(A154>=Simulador!$C$24,A154=0),0,A154+1)","v":0},"","","","",{"$error":"#VALUE!"},{"$f":"F155*((1+Simulador!$C$10)^B155-1)","v":{"$error":"#VALUE!"}},{"$error":"#VALUE!"},{"$f":"F155*Simulador!$F$8","v":{"$error":"#VALUE!"}},961.78992733105099,{"$error":"#VALUE!"},null,{"$error":"#VALUE!"}]
[{"$f":"IF(OR(A155>=Simulador!$C$24,A155=0),0,A155+1)","v":0},"","","","",{"$error":"#VALUE!"},{"$f":"F156*((1+Simulador!$C$10)^B156-1)","v":{"$error":"#VALUE!"}},{"$error":"#VALUE!"},{"$f":"F156*Simulador!$F$8","v":{"$error":"#VALUE!"}},961.78992733105099,{"$error":"#VALUE!"},null,{"$error":"#VALUE!"}]
[{"$f":"IF(OR(A156>=Simulador!$C$24,A156=0),0,A156+1)","v":0},"","","","",{"$error":"#VALUE!"},{"$f":"F157*((1+Simulador!$C$10)^B157-1)","v":{"$error":"#VALUE!"}},{"$error":"#VALUE!"},{"$f":"F157*Simulador!$F$8","v":{"$error":"#VALUE!"}},961.78992733105099,{"$error":"#VALUE!"},null,{"$error":"#VALUE!"}]
[{"$f":"IF(OR(A157>=Simulador!$C$24,A157=0),0,A157+1)","v":0},"","","","",{"$error":"#VALUE!"},{"$f":"F158*((1+Simulador!$C$10)^B158-1)","v":{"$error":"#VALUE!"}},{"$error":"#VALUE!"},{"$f":"F158*Simulador!$F$8","v":{"$error":"#VALUE!"}},961.78992733105099,{"$error":"#VALUE!"},null,{"$error":"#VALUE!"}]
[{"$f":"IF(OR(A158>=Simulador!$C$24,A158=0),0,A158+1)","v":0},"","","","",{"$error":"#VALUE!"},{"$f":"F159*((1+Simulador!$C$10)^B159-1)","v":{"$error":"#VALUE!"}},{"$error":"#VALUE!"},{"$f":"F159*Simulador!$F$8","v":{"$error":"#VALUE!"}},961.78992733105099,{"$error":"#VALUE!"},null,{"$error":"#VALUE!"}]
[{"$f":"IF(OR(A159>=Simulador!$C$24,A159=0),0,A159+1)","v":0},"","","","",{"$error":"#VALUE!"},{"$f":"F160*((1+Simulador!$C$10)^B160-1)","v":{"$error":"#VALUE!"}},{"$error":"#VALUE!"},{"$f":"F160*Simulador!$F$8","v":{"$error":"#VALUE!"}},961.78992733105099,{"$error":"#VALUE!"},null,{"$error":"#VALUE!"}]
[{"$f":"IF(OR(A160>=Simulador!$C$24,A160=0),0,A160+1)","v":0},"","","","",{"$error":"#VALUE!"},{"$f":"F161*((1+Simulador!$C$10)^B161-1)","v":{"$error":"#VALUE!"}},{"$error":"#VALUE!"},{"$f":"F161*Simulador!$F$8","v":{"$error":"#VALUE!"}},961.78992733105099,{"$error":"#VALUE!"},null,{"$error":"#VALUE!"}]
[{"$f":"IF(OR(A161>=Simulador!$C$24,A161=0),0,A161+1)","v":0},"","","","",{"$error":"#VALUE!"},{"$f":"F162*((1+Simulador!$C$10)^B162-1)","v":{"$error":"#VALUE!"}},{"$error":"#VALUE!"},{"$f":"F162*Simulador!$F$8","v":{"$error":"#VALUE!"}},961.78992733105099,{"$error":"#VALUE!"},null,{"$error":"#VALUE!"}]
[{"$f":"IF(OR(A162>=Simulador!$C$24,A162=0),0,A162+1)","v":0},"","","","",{"$error":"#VALUE!"},{"$f":"F163*((1+Simulador!$C$10)^B163-1)","v":{"$error":"#VALUE!"}},{"$error":"#VALUE!"},{"$f":"F163*Simulador!$F$8","v":{"$error":"#VALUE!"}},961.78992733105099,{"$error":"#VALUE!"},null,{"$error":"#VALUE!"}]
[{"$f":"IF(OR(A163>=Simulador!$C$24,A163=0),0,A163+1)","v":0},"","","","",{"$error":"#VALUE!"},{"$f":"F164*((1+Simulador!$C$10)^B164-1)","v":{"$error":"#VALUE!"}},{"$error":"#VALUE!"},{"$f":"F164*Simulador!$F$8","v":{"$error":"#VALUE!"}},961.78992733105099,{"$error":"#VALUE!"},null,{"$error":"#VALUE!"}]
[{"$f":"IF(OR(A164>=Simulador!$C$24,A164=0),0,A164+1)","v":0},"","","","",{"$error":"#VALUE!"},{"$f":"F165*((1+Simulador!$C$10)^B165-1)","v":{"$error":"#VALUE!"}},{"$error":"#VALUE!"},{"$f":"F165*Simulador!$F$8","v":{"$error":"#VALUE!"}},961.78992733105099,{"$error":"#VALUE!"},null,{"$error":"#VALUE!"}]
[{"$f":"IF(OR(A165>=Simulador!$C$24,A165=0),0,A165+1)","v":0},"","","","",{"$error":"#VALUE!"},{"$f":"F166*((1+Simulador!$C$10)^B166-1)","v":{"$error":"#VALUE!"}},{"$error":"#VALUE!"},{"$f":"F166*Simulador!$F$8","v":{"$error":"#VALUE!"}},961.78992733105099,{"$error":"#VALUE!"},null,{"$error":"#VALUE!"}]
[null,"","","","",{"$error":"#VALUE!"},{"$f":"F167*((1+Simulador!$C$10)^B167-1)","v":{"$error":"#VALUE!"}},{"$error":"#VALUE!"},{"$f":"F167*Simulador!$F$8","v":{"$error":"#VALUE!"}},961.78992733105099,{"$error":"#VALUE!"},null,{"$error":"#VALUE!"}]
[null,"","","","",{"$error":"#VALUE!"},{"$f":"F168*((1+Simulador!$C$10)^B168-1)","v":{"$error":"#VALUE!"}},{"$error":"#VALUE!"},{"$f":"F168*Simulador!$F$8","v":{"$error":"#VALUE!"}},961.78992733105099,{"$error":"#VALUE!"},null,{"$error":"#VALUE!"}]
[null,"","","","",{"$error":"#VALUE!"},{"$f":"F169*((1+Simulador!$C$10)^B169-1)","v":{"$error":"#VALUE!"}},{"$error":"#VALUE!"},{"$f":"F169*Simulador!$F$8","v":{"$error":"#VALUE!"}},961.78992733105099,{"$error":"#VALUE!"},null,{"$error":"#VALUE!"}]
[null,"","","","",{"$error":"#VALUE!"},{"$f":"F170*((1+Simulador!$C$10)^B170-1)","v":{"$error":"#VALUE!"}},{"$error":"#VALUE!"},{"$f":"F170*Simulador!$F$8","v":{"$error":"#VALUE!"}},961.78992733105099,{"$error":"#VALUE!"},null,{"$error":"#VALUE!"}]
[null,"","","","",{"$error":"#VALUE!"},{"$f":"F171*((1+Simulador!$C$10)^B171-1)","v":{"$error":"#VALUE!"}},{"$error":"#VALUE!"},{"$f":"F171*Simulador!$F$8","v":{"$error":"#VALUE!"}},961.78992733105099,{"$error":"#VALUE!"},null,{"$error":"#VALUE!"}]
[null,"","","","",{"$error":"#VALUE!"},{"$f":"F172*((1+Simulador!$C$10)^B172-1)","v":{"$error":"#VALUE!"}},{"$error":"#VALUE!"},{"$f":"F172*Simulador!$F$8","v":{"$error":"#VALUE!"}},961.78992733105099,{"$error":"#VALUE!"},null,{"$error":"#VALUE!"}]
[null,"","","","",{"$error":"#VALUE!"},{"$f":"F173*((1+Simulador!$C$10)^B173-1)","v":{"$error":"#VALUE!"}},{"$error":"#VALUE!"},{"$f":"F173*Simulador!$F$8","v":{"$error":"#VALUE!"}},961.78992733105099,{"$error":"#VALUE!"},null,{"$error":"#VALUE!"}]
[null,"","","","",{"$error":"#VALUE!"},{"$f":"F174*((1+Simulador!$C$10)^B174-1)","v":{"$error":"#VALUE!"}},{"$error":"#VALUE!"},{"$f":"F174*Simulador!$F$8","v":{"$error":"#VALUE!"}},961.78992733105099,{"$error":"#VALUE!"},null,{"$error":"#VALUE!"}]
[null,"","","","",{"$error":"#VALUE!"},{"$f":"F175*((1+Simulador!$C$10)^B175-1)","v":{"$error":"#VALUE!"}},{"$error":"#VALUE!"},{"$f":"F175*Simulador!$F$8","v":{"$error":"#VALUE!"}},961.78992733105099,{"$error":"#VALUE!"},null,{"$error":"#VALUE!"}]
[null,"","","","",{"$error":"#VALUE!"},{"$f":"F176*((1+Simulador!$C$10)^B176-1)","v":{"$error":"#VALUE!"}},{"$error":"#VALUE!"},{"$f":"F176*Simulador!$F$8","v":{"$error":"#VALUE!"}},961.78992733105099,{"$error":"#VALUE!"},null,{"$error":"#VALUE!"}]
[null,"","","","",{"$error":"#VALUE!"},{"$f":"F177*((1+Simulador!$C$10)^B177-1)","v":{"$error":"#VALUE!"}},{"$error":"#VALUE!"},{"$f":"F177*Simulador!$F$8","v":{"$error":"#VALUE!"}},961.78992733105099,{"$error":"#VALUE!"},null,{"$error":"#VALUE!"}]
[null,"","","","",{"$error":"#VALUE!"},{"$f":"F178*((1+Simulador!$C$10)^B178-1)","v":{"$error":"#VALUE!"}},{"$error":"#VALUE!"},{"$f":"F178*Simulador!$F$8","v":{"$error":"#VALUE!"}},961.78992733105099,{"$error":"#VALUE!"},null,{"$error":"#VALUE!"}]
[null,"","","","",{"$error":"#VALUE!"},{"$f":"F179*((1+Simulador!$C$10)^B179-1)","v":{"$error":"#VALUE!"}},{"$error":"#VALUE!"},{"$f":"F179*Simulador!$F$8","v":{"$error":"#VALUE!"}},961.78992733105099,{"$error":"#VALUE!"},null,{"$error":"#VALUE!"}]
[null,"","","","",{"$error":"#VALUE!"},{"$f":"F180*((1+Simulador!$C$10)^B180-1)","v":{"$error":"#VALUE!"}},{"$error":"#VALUE!"},{"$f":"F180*Simulador!$F$8","v":{"$error":"#VALUE!"}},961.78992733105099,{"$error":"#VALUE!"},null,{"$error":"#VALUE!"}]
[null,"","","","",{"$error":"#VALUE!"},{"$f":"F181*((1+Simulador!$C$10)^B181-1)","v":{"$error":"#VALUE!"}},{"$error":"#VALUE!"},{"$f":"F181*Simulador!$F$8","v":{"$error":"#VALUE!"}},961.78992733105099,{"$error":"#VALUE!"},null,{"$error":"#VALUE!"}]
[null,"","","","",{"$error":"#VALUE!"},{"$f":"F182*((1+Simulador!$C$10)^B182-1)","v":{"$error":"#VALUE!"}},{"$error":"#VALUE!"},{"$f":"F182*Simulador!$F$8","v":{"$error":"#VALUE!"}},961.78992733105099,{"$error":"#VALUE!"},null,{"$error":"#VALUE!"}]
[null,"","","","",{"$error":"#VALUE!"},{"$f":"F183*((1+Simulador!$C$10)^B183-1)","v":{"$error":"#VALUE!"}},{"$error":"#VALUE!"},{"$f":"F183*Simulador!$F$8","v":{"$error":"#VALUE!"}},961.78992733105099,{"$error":"#VALUE!"},null,{"$error":"#VALUE!"}]
[null,"","","","",{"$error":"#VALUE!"},{"$f":"F184*((1+Simulador!$C$10)^B184-1)","v":{"$error":"#VALUE!"}},{"$error":"#VALUE!"},{"$f":"F184*Simulador!$F$8","v":{"$error":"#VALUE!"}},961.78992733105099,{"$error":"#VALUE!"},null,{"$error":"#VALUE!"}]
[null,"","","","",{"$error":"#VALUE!"},{"$f":"F185*((1+Simulador!$C$10)^B185-1)","v":{"$error":"#VALUE!"}},{"$error":"#VALUE!"},{"$f":"F185*Simulador!$F$8","v":{"$error":"#VALUE!"}},961.78992733105099,{"$error":"#VALUE!"},null,{"$error":"#VALUE!"}]
[null,"","","","",{"$error":"#VALUE!"},{"$f":"F186*((1+Simulador!$C$10)^B186-1)","v":{"$error":"#VALUE!"}},{"$error":"#VALUE!"},{"$f":"F186*Simulador!$F$8","v":{"$error":"#VALUE!"}},961.78992733105099,{"$error":"#VALUE!"},null,{"$error":"#VALUE!"}]
[null,"","","","",{"$error":"#VALUE!"},{"$f":"F187*((1+Simulador!$C$10)^B187-1)","v":{"$error":"#VALUE!"}},{"$error":"#VALUE!"},{"$f":"F187*Simulador!$F$8","v":{"$error":"#VALUE!"}},961.78992733105099,{"$error":"#VALUE!"},null,{"$error":"#VALUE!"}]

{"sheet":"Fechas","index":8,"n_rows":37,"n_cols":12,"rows_kept":37,"cut":false,"hidden":true,"merged":[]}
[]
[]
["Fecha de desembolso:",{"$f":"Simulador!C12","v":"2025-11-07"}]
[]
["Día de pago:",{"$f":"Simulador!C14","v":6}]
[]
["Meses gracia",{"$f":"Simulador!C16","v":0}]
[]
[null,null,null,null,null,null,"10.5 mm se va activar"]
["Ajuste a fecha de pago",{"$f":"DATE(YEAR($B$3),MONTH(B3),B5)","v":"2025-11-06"},null,null,null,null,"4 adicionales"]
["Ajuste 1 fecha de pago",{"$f":"EDATE(B10,1)","v":"2025-12-06"},{"$f":"B11-B3","v":29},null,null,null,"activar 35,7"]
["Fecha de pago sin gracia",{"$f":"IF(C11<29,EDATE(B11,1),B11)","v":"2025-12-06"},null,null,null,null,"2.3 por activo fijo"]
[null,null,null,null,null,null,null,null,null,null,null,"Terminar activando 19 mm"]
["Fecha de pago inicial con gracia",{"$f":"EDATE(B12,B7)","v":"2025-12-06"}]
["Fecha de primer pago:",{"$f":"B14","v":"2025-12-06"}]
[null,null,null,null,null,null,null,35]
[null,null,null,null,null,null,null,"vs"]
["Primer periodo de gracia",{"$f":"EDATE(B12,C18)","v":"2025-12-06"},{"$f":"IF(B7<>0,1,0)","v":0},null,null,null,null,19]
["Segundo periodo de gracia",{"$f":"EDATE(B18,C19)","v":"2025-12-06"},{"$f":"IF(B7=2,1,0)","v":0}]
[null,null,null,null,null,null,null,null,"aprobado del 2022"]
[null,null,null,null,null,null,null,null,"cuánto falta "]
[null,null,null,null,null,null,null,null,"de los proyectos que están aquí cuánto es el ppto"]
[null,null,null,null,null,null,null,null,"ppto ti que se activa "]
[]
[null,null,null,null,null,null,null,null,"Está dentro del presupuesto el gasto de personal que se le pasa"]
[null,null,null,null,null,null,null,null,"Tiene todo tiene lo del personal de ti"]
[]
[null,null,null,null,null,null,null,null,"de todo lo que se aprobó hasta el 2025 cuánto se ha ejecutado y cuánto queda pendiente de ejecutar"]
[]
[]
["Monto máximo del seguro"]
[]
[]
["procesamiento!","procesamiento!"]
["D4","E4"]
[{"$f":"(4+Simulador!C24-1)","v":39},{"$f":"(4+Simulador!C24-1)","v":39}]
[{"$f":"_xlfn.CONCAT(\"D\",A36)","v":"D39"},{"$f":"_xlfn.CONCAT(\"E\",B36)","v":"E39"}]

{"sheet":"FechasT24","index":9,"n_rows":37,"n_cols":12,"rows_kept":37,"cut":false,"hidden":true,"merged":[]}
[]
[]
["Fecha de desembolso:",{"$f":"Simulador!C12","v":"2025-11-07"}]
[]
["Día de pago:",{"$f":"Simulador!C14","v":6}]
[]
["Meses gracia",{"$f":"Simulador!C18","v":0}]
[]
[null,null,null,null,null,null,"10.5 mm se va activar"]
["Ajuste a fecha de pago",{"$f":"DATE(YEAR($B$3),MONTH(B3),B5)","v":"2025-11-06"},null,null,null,null,"4 adicionales"]
["Ajuste 1 fecha de pago",{"$f":"EDATE(B10,1)","v":"2025-12-06"},{"$f":"B11-B3","v":29},null,null,null,"activar 35,7"]
["Fecha de pago sin gracia",{"$f":"IF(C11<30,EDATE(B11,1),B11)","v":"2026-01-06"},null,null,null,null,"2.3 por activo fijo"]
[null,null,null,null,null,null,null,null,null,null,null,"Terminar activando 19 mm"]
["Fecha de pago inicial con gracia",{"$f":"EDATE(B12,B7)","v":"2026-01-06"}]
["Fecha de primer pago:",{"$f":"B14","v":"2026-01-06"}]
[null,null,null,null,null,null,null,35]
[null,null,null,null,null,null,null,"vs"]
["Primer periodo de gracia",{"$f":"EDATE(B12,C18)","v":"2026-01-06"},{"$f":"IF(B7<>0,1,0)","v":0},null,null,null,null,19]
["Segundo periodo de gracia",{"$f":"EDATE(B18,C19)","v":"2026-01-06"},{"$f":"IF(B7=2,1,0)","v":0}]
[null,null,null,null,null,null,null,null,"aprobado del 2022"]
[null,null,null,null,null,null,null,null,"cuánto falta "]
[null,null,null,null,null,null,null,null,"de los proyectos que están aquí cuánto es el ppto"]
[null,null,null,null,null,null,null,null,"ppto ti que se activa "]
[]
[null,null,null,null,null,null,null,null,"Está dentro del presupuesto el gasto de personal que se le pasa"]
[null,null,null,null,null,null,null,null,"Tiene todo tiene lo del personal de ti"]
[]
[null,null,null,null,null,null,null,null,"de todo lo que se aprobó hasta el 2025 cuánto se ha ejecutado y cuánto queda pendiente de ejecutar"]
[]
[]
["Monto máximo del seguro"]
[]
[]
["procesamiento!","procesamiento!"]
["D4","E4"]
[{"$f":"(4+Simulador!C24-1)","v":39},{"$f":"(4+Simulador!C24-1)","v":39}]
[{"$f":"_xlfn.CONCAT(\"D\",A36)","v":"D39"},{"$f":"_xlfn.CONCAT(\"E\",B36)","v":"E39"}]

{"sheet":"Listas","index":10,"n_rows":3,"n_cols":5,"rows_kept":3,"cut":false,"hidden":true,"merged":[]}
["Si",null,"Con Rescate",null,0]
["No",null,"Sin Rescate",null,1]
[null,null,null,null,2]